BEGIN:VCALENDAR
VERSION:2.0
PRODID:-//Factor-Inwentash Faculty of Social Work - ECPv6.15.20//NONSGML v1.0//EN
CALSCALE:GREGORIAN
METHOD:PUBLISH
X-WR-CALNAME:Factor-Inwentash Faculty of Social Work
X-ORIGINAL-URL:https://socialwork.utoronto.ca
X-WR-CALDESC:Events for Factor-Inwentash Faculty of Social Work
REFRESH-INTERVAL;VALUE=DURATION:PT1H
X-Robots-Tag:noindex
X-PUBLISHED-TTL:PT1H
BEGIN:VTIMEZONE
TZID:America/Toronto
BEGIN:DAYLIGHT
TZOFFSETFROM:-0500
TZOFFSETTO:-0400
TZNAME:EDT
DTSTART:20240310T070000
END:DAYLIGHT
BEGIN:STANDARD
TZOFFSETFROM:-0400
TZOFFSETTO:-0500
TZNAME:EST
DTSTART:20241103T060000
END:STANDARD
BEGIN:DAYLIGHT
TZOFFSETFROM:-0500
TZOFFSETTO:-0400
TZNAME:EDT
DTSTART:20250309T070000
END:DAYLIGHT
BEGIN:STANDARD
TZOFFSETFROM:-0400
TZOFFSETTO:-0500
TZNAME:EST
DTSTART:20251102T060000
END:STANDARD
BEGIN:DAYLIGHT
TZOFFSETFROM:-0500
TZOFFSETTO:-0400
TZNAME:EDT
DTSTART:20260308T070000
END:DAYLIGHT
BEGIN:STANDARD
TZOFFSETFROM:-0400
TZOFFSETTO:-0500
TZNAME:EST
DTSTART:20261101T060000
END:STANDARD
END:VTIMEZONE
BEGIN:VEVENT
DTSTART;TZID=America/Toronto:20250604T183000
DTEND;TZID=America/Toronto:20250604T200000
DTSTAMP:20260419T235051
CREATED:20250527T151531Z
LAST-MODIFIED:20250527T151723Z
UID:58161-1749061800-1749067200@socialwork.utoronto.ca
SUMMARY:Spring 2025 Convocation
DESCRIPTION:Convocation marks the culmination of our students’ hard work and dedication\, a time to honour our graduates’ achievements\, resilience and academic journeys. \nWe are looking forward to celebrating Spring 2025 graduates from Factor-Inwentash Faculty of Social Work on Wednesday\, June 4th at a reception hosted by FIFSW’s Alumni Association and during the convocation ceremony to follow at 6:30pm. The ceremony will also be available to stream online on U of T’s website. \nFor more information\, please visit U of T’s Spring 2025 Convocation Hub.  \n\n\nThose participating in convocation events are encouraged to use the #UofTGrad25 hashtag in your posts to be included in U of T’s social media celebration! \nFIFSW graduates\, faculty and staff will have received an invitation to FIFSW’s convocation reception via email. Questions about the reception taking place in advance of the ceremony may be sent to fund.fifsw@utoronto.ca or alumni.fifsw@utoronto.ca. \n\n\n\n\n 
URL:https://socialwork.utoronto.ca/event/spring-2025-convocation/
LOCATION:Ontario
END:VEVENT
BEGIN:VEVENT
DTSTART;TZID=America/Toronto:20250616T183000
DTEND;TZID=America/Toronto:20250616T200000
DTSTAMP:20260419T235051
CREATED:20250603T205455Z
LAST-MODIFIED:20250611T155803Z
UID:58371-1750098600-1750104000@socialwork.utoronto.ca
SUMMARY:POSTPONED — FIFSW Alumni Association 2025 Annual General Meeting
DESCRIPTION:Please note that this event is being postponed to the Fall. We look forward to sharing an update when details are confirmed.
URL:https://socialwork.utoronto.ca/event/fifsw-alumni-association-2025-annual-general-meeting/
LOCATION:Hybrid
CATEGORIES:Alumni
END:VEVENT
BEGIN:VEVENT
DTSTART;TZID=America/Toronto:20250617T190000
DTEND;TZID=America/Toronto:20250617T203000
DTSTAMP:20260419T235051
CREATED:20250609T131628Z
LAST-MODIFIED:20250609T132635Z
UID:58479-1750186800-1750192200@socialwork.utoronto.ca
SUMMARY:Mobilizing Hope Through Resistance: Confronting Anti-LGBTQ+ Policies Through Research Across Regions
DESCRIPTION:Across the globe\, we are witnessing the increasing politicization of Sexual and Gender Diverse (SGD) populations and the targeted retraction of fundamental rights that many in our community have fought hard to secure. These attacks disproportionately affect those at the margins— particularly trans and gender-diverse individuals and those holding multiple intersecting identities. \nThis international panel brings together scholars and community-engaged researchers from Canada\, the United States\, Mexico\, the United Kingdom\, and Australia to discuss the current landscape of academic research with Sexual and Gender Diverse (SGD) youth. Against a backdrop of increasing political pressure\, legislative rollbacks\, and ideological attacks\, particularly targeting SGD communities\, panelists will explore how these forces are impacting academic research and practice in the areas of education\, social work\, and psychology. \nThrough shared dialogue\, they will examine how to navigate barriers to participation\, build solidarity across borders\, and sustain community-engaged scholarship grounded in resistance\, care\, and joy. The session includes time for audience questions and shared reflection across regions. \nTopics of Discussion include: \n\nThe impacts of anti-LGBTQ+ legislation on communities and scholarship\nUsing research to challenge injustice and mobilize change\nPractical\, action-oriented strategies for advocacy in and beyond academia\n\nIntended Audience: academics/scholars in the areas of education\, social work\, & psychology \nFormat: Online via Zoom \nRegistration\nRegister via eventbrite \nEvent Date & Time\nMexico City: Tuesday June 17\, 2025 | 5PM-6:30PM CST\nToronto: Tuesday June 17\, 2025 | 7PM-8:30PM EDT\nLondon: Wednesday June 18\, 2025 | 12:00-1:30 MIDN BST\nPerth: Wednesday June 18\, 2025 | 7AM-8:30AM AWST\nSydney: Wednesday June 18\, 2025 | 9AM-10:30AM AEST \n* This event will feature live English-Spanish interpretation. \nPanelists\nShelley Craig (she/her)\, INQYR PI\, University of Toronto\, FIFSW \nLauren McInroy (she/her)\, US Regional Network Co-Chair\, The Ohio State University \nDane Marco Di Cesare (he/him)\, Canada Regional Network Co-Chair\, Brock University \nIgnacio Lozano-Verduzco (he/him)\, Mexico Regional Network Co-Chair\, National Pedagogic University \nYael Perry (she/her)\, Australia Network Co-Chair\, Telethon Kids Institute \nLiam Cahill (he/him)\, UK Regional Network Co-Chair\, Nottingham Trent University \nModerated by Kaitrin Doll (they/them)\, Canada Regional Network Co-Chair\, University of Toronto\, FIFSW \n \n 
URL:https://socialwork.utoronto.ca/event/mobilizing-hope-through-resistance-confronting-anti-lgbtq-policies-through-research-across-regions/
LOCATION:zoom
CATEGORIES:Public
END:VEVENT
END:VCALENDAR