BEGIN:VCALENDAR
VERSION:2.0
PRODID:-//Factor-Inwentash Faculty of Social Work - ECPv6.15.20//NONSGML v1.0//EN
CALSCALE:GREGORIAN
METHOD:PUBLISH
X-WR-CALNAME:Factor-Inwentash Faculty of Social Work
X-ORIGINAL-URL:https://socialwork.utoronto.ca
X-WR-CALDESC:Events for Factor-Inwentash Faculty of Social Work
REFRESH-INTERVAL;VALUE=DURATION:PT1H
X-Robots-Tag:noindex
X-PUBLISHED-TTL:PT1H
BEGIN:VTIMEZONE
TZID:America/Toronto
BEGIN:DAYLIGHT
TZOFFSETFROM:-0500
TZOFFSETTO:-0400
TZNAME:EDT
DTSTART:20220313T070000
END:DAYLIGHT
BEGIN:STANDARD
TZOFFSETFROM:-0400
TZOFFSETTO:-0500
TZNAME:EST
DTSTART:20221106T060000
END:STANDARD
BEGIN:DAYLIGHT
TZOFFSETFROM:-0500
TZOFFSETTO:-0400
TZNAME:EDT
DTSTART:20230312T070000
END:DAYLIGHT
BEGIN:STANDARD
TZOFFSETFROM:-0400
TZOFFSETTO:-0500
TZNAME:EST
DTSTART:20231105T060000
END:STANDARD
BEGIN:DAYLIGHT
TZOFFSETFROM:-0500
TZOFFSETTO:-0400
TZNAME:EDT
DTSTART:20240310T070000
END:DAYLIGHT
BEGIN:STANDARD
TZOFFSETFROM:-0400
TZOFFSETTO:-0500
TZNAME:EST
DTSTART:20241103T060000
END:STANDARD
END:VTIMEZONE
BEGIN:VEVENT
DTSTART;TZID=America/Toronto:20231101T203000
DTEND;TZID=America/Toronto:20231101T210000
DTSTAMP:20260419T214304
CREATED:20230927T222613Z
LAST-MODIFIED:20231020T180441Z
UID:46253-1698870600-1698872400@socialwork.utoronto.ca
SUMMARY:30@8:30: Transforming Research into policy & practice
DESCRIPTION:Join the Centre for Research and Innovation for Black Survivors of Homicide Victims (The CRIB) for Season 5 of 30@8:30. This season’s theme is Strange Fruit: Addressing the Violent Erasure of Black Bodies. \n \nEpisode #6: Transforming Research into policy & practice\, with special guest Llewellyn Cornelius\nHow to watch 30@8:30:\n\n\nFollow @thecribcommunity on Instagram\nTune into @thecribcommunity on Instagram Live every Wednesday at 8:30pm\n\n30@8:30 is a weekly Instagram Live show where The CRIB’s Founding Director Dr. Tanya L. Sharpe facilitates 30-minute candid conversations with interdisciplinary scholars and community service providers about structural inequities\, homicide\, trauma\, and victimization that disproportionately impact some of our most vulnerable populations. \n\nThe CRIB is a multidisciplinary initiative designed to advance research\, policy and practice FOR and WITH Black survivors of homicide victims across our global communities. The CRIB is grounded in a principle commitment to adopt culturally responsive approaches that create sustainable opportunities for Black communities to thrive in the face of adverse and traumatic tragedy as a result of experiences with homicide violence.
URL:https://socialwork.utoronto.ca/event/30-830-transforming-research-into-policy-practice/
LOCATION:Instagram Live
CATEGORIES:Alumni,Public,Students
END:VEVENT
BEGIN:VEVENT
DTSTART;TZID=America/Toronto:20231106T121500
DTEND;TZID=America/Toronto:20231106T131500
DTSTAMP:20260419T214304
CREATED:20231020T175931Z
LAST-MODIFIED:20231020T180337Z
UID:46696-1699272900-1699276500@socialwork.utoronto.ca
SUMMARY:EDI Speaker Series: Understanding Intergenerational Trauma - Jewish Perspectives\, with Jenna Quint
DESCRIPTION:Jenna Quint is a Registered Social Worker and specializes in trauma\, especially intergenerational trauma\, and is the granddaughter of a Holocaust survivor. She works to provide ketamine-assisted therapy\, individual counselling and psychoeducation to diverse groups across Canada. Jenna is a multi-modal therapist with specialized training in DBT\, EMDR\, somatic therapy and Yoga. Above all else\, she seeks to provide you with compassionate\, caring and honest support as you navigate all parts of your journey toward wellness. \nThis event is for FIFSW students only. Location details have been shared in the MSW Student Digest.
URL:https://socialwork.utoronto.ca/event/edi-speaker-series-understanding-intergenerational-trauma-jewish-perspectives-with-jenna-quint/
LOCATION:Ontario
CATEGORIES:Students
END:VEVENT
BEGIN:VEVENT
DTSTART;TZID=America/Toronto:20231108T203000
DTEND;TZID=America/Toronto:20231108T210000
DTSTAMP:20260419T214304
CREATED:20230927T222850Z
LAST-MODIFIED:20230928T162026Z
UID:46255-1699475400-1699477200@socialwork.utoronto.ca
SUMMARY:30@8:30: Root Causes\, Consequences and Solutions
DESCRIPTION:Join the Centre for Research and Innovation for Black Survivors of Homicide Victims (The CRIB) for Season 5 of 30@8:30. This season’s theme is Strange Fruit: Addressing the Violent Erasure of Black Bodies. \nEpisode #7: Root Causes\, Consequences and Solutions\nHow to watch 30@8:30:\n\n\nFollow @thecribcommunity on Instagram\nTune into @thecribcommunity on Instagram Live every Wednesday at 8:30pm\n\n30@8:30 is a weekly Instagram Live show where The CRIB’s Founding Director Dr. Tanya L. Sharpe facilitates 30-minute candid conversations with interdisciplinary scholars and community service providers about structural inequities\, homicide\, trauma\, and victimization that disproportionately impact some of our most vulnerable populations. \n\nThe CRIB is a multidisciplinary initiative designed to advance research\, policy and practice FOR and WITH Black survivors of homicide victims across our global communities. The CRIB is grounded in a principle commitment to adopt culturally responsive approaches that create sustainable opportunities for Black communities to thrive in the face of adverse and traumatic tragedy as a result of experiences with homicide violence.
URL:https://socialwork.utoronto.ca/event/30830-root-causes-consequences-and-solutions/
LOCATION:Instagram Live
CATEGORIES:Public
END:VEVENT
BEGIN:VEVENT
DTSTART;TZID=America/Toronto:20231113T121500
DTEND;TZID=America/Toronto:20231113T131500
DTSTAMP:20260419T214304
CREATED:20231006T131954Z
LAST-MODIFIED:20231101T141837Z
UID:46433-1699877700-1699881300@socialwork.utoronto.ca
SUMMARY:POSTPONED: Health Equity Grand Rounds: "The journey of collecting equity data\," with Dr. Deepy Sur
DESCRIPTION:This event has been postponed.\nThis event is for FIFSW students only.\nRegister here.\nAbout our featured speaker\nDr. Deepy Sur\, PhD\, RSW\, is the Chief Executive Officer at the Ontario Association of Social Workers (OASW). With a career spanning over two decades\, her diverse expertise encompasses clinical social work across private and hospital settings\, as well as a background in health promotion within public health. Collaborating closely with government bodies\, Deepy has been instrumental in effecting meaningful changes within the healthcare system. At OASW\, Deepy established a provincial Learning Centre\, supported by over $1 million in grants. Under her leadership\, OASW unveiled its pioneering 5-year strategic plan\, with equity at its core. \nShe also has taught through several roles including as an Assistant and Adjunct Clinical Professor at McMaster University and serves as a Faculty Instructor and Curriculum Designer for the Medical Psychiatry Alliance’s Collaborative Care Certificate Program. Deepy’s academic journey includes a BSW from Toronto Metropolitan University\, a MSW from York University\, and a PhD in Social Work Administration where her doctoral research focused on interprofessional teamwork and empathy. \nAbout The Health Equity Grand Rounds\nThe Health Equity Grand Rounds focuses on equity issues related to health and mental health practice. It involves talks by experts focused on key themes in the field. There will be 5 Grand Rounds scheduled in the 2023-2024 academic year. FIFSW students can earn a certificate of completion by attending a minimum of 4 rounds throughout the academic year. For any questions\, please contact Peter Sheffield or Dr. Rachelle Ashcroft.
URL:https://socialwork.utoronto.ca/event/health-equity-grand-rounds-the-journey-of-collecting-equity-data-with-dr-deepy-sur/
LOCATION:FIFSW\, Room 720\, 246 Bloor Street\, Toronto\, Ontario\, M5S 1V4\, Canada
CATEGORIES:Students
END:VEVENT
BEGIN:VEVENT
DTSTART;TZID=America/Toronto:20231123T180000
DTEND;TZID=America/Toronto:20231123T200000
DTSTAMP:20260419T214304
CREATED:20230908T133134Z
LAST-MODIFIED:20231031T203831Z
UID:45707-1700762400-1700769600@socialwork.utoronto.ca
SUMMARY:Higher Education Access for Precarious Status Ontario Students: Gateways and Obstacles
DESCRIPTION:Please join us for a unique multi-university conversation on Higher Education Access for Precarious Status Ontario Students. \nDate & Time: Thursday November 23\, 6-8 pm\nLocation: William Doo Auditorium\, University of Toronto \nAccessible Space\, ASL\, and light refreshments provided.\nRegister here \nCo-sponsored by the Centre for Diaspora and Transnational Studies; the Centre for Criminology and Sociolegal Studies; the Department of Geography & Planning; the Department of Political Science; the Department of Social Justice Education\, OISE; Factor-Inwentash Faculty Of Social Work; the Women and Gender Studies Institute \n\n\nSpeakers\nYvette Munro | Assistant Vice Provost Student Success\, York University \nLorna Schwartzentruber | Associate Director Access Programs & Community Engagement\, York University \nMelanie Panitch | Executive Director Office of Social Innovation\, TMU \nChris Coupland | Executive Director\, Undergraduate Admission and Recruitment at Queen’s University \nDwayne Benjamin | Vice Provost\, Strategic Enrolment Management\, University of Toronto \nRupaleem Bhuyan | UofT working Group for Access to Higher Education for Students with Precarious Immigration Status
URL:https://socialwork.utoronto.ca/event/higher-education-access-for-precarious-status-ontario-students-gateways-and-obstacles/
LOCATION:William Doo Auditorium\, 45 Willcocks Avenue\, Toronto\, Canada
CATEGORIES:Public
END:VEVENT
BEGIN:VEVENT
DTSTART;TZID=America/Toronto:20231127T121500
DTEND;TZID=America/Toronto:20231127T131500
DTSTAMP:20260419T214304
CREATED:20231020T180251Z
LAST-MODIFIED:20231020T180251Z
UID:46700-1701087300-1701090900@socialwork.utoronto.ca
SUMMARY:EDI Speaker Series: Having “the talk” about drugs: A Quranic Approach Speaker: Dr. Jibran Y. Khokhar
DESCRIPTION:Dr. Jibran Khokhar was born in Kuwait where he memorized the Quran with an ijazah. He completed his Bachelors in Life Sciences from Queen’s University and his Doctorate in Pharmacology and Toxicology from the University of Toronto followed by a post-doctoral fellowship in Psychiatry at Dartmouth College. He is currently an Associate Professor and Canada Research Chair in Translational Neuropsychopharmacology at the Schulich School of Medicine and Dentistry at Western University. His research is related to substance use and severe mental illness\, and how drugs of abuse affect the developing brain. He also serves as a Khateeb for the London community and a Senior Fellow at Yaqeen Institute. \nThis event is for FIFSW students only. Location details have been shared in the MSW Student Digest.
URL:https://socialwork.utoronto.ca/event/edi-speaker-series-having-the-talk-about-drugs-a-quranic-approach-speaker-dr-jibran-y-khokhar/
LOCATION:Ontario
CATEGORIES:Students
END:VEVENT
BEGIN:VEVENT
DTSTART;TZID=America/Toronto:20231128T121500
DTEND;TZID=America/Toronto:20231128T131500
DTSTAMP:20260419T214304
CREATED:20231114T164004Z
LAST-MODIFIED:20231114T164004Z
UID:47241-1701173700-1701177300@socialwork.utoronto.ca
SUMMARY:Health Equity Grand Rounds: Eating Disorder and Muscle Dysmorphia among Boys and Men
DESCRIPTION:This event is for FIFSW students only.\nRegister Here.\nAbout our featured speaker\nKyle T. Ganson\, PhD\, RSW\, is an Assistant Professor at the University of Toronto’s Factor-Inwentash Faculty of Social Work. His research focuses on eating disorders\, muscle dysmorphia\, and muscle-building behaviours among adolescents and young adults\, particularly boys and young men. Dr. Ganson has authored over 125 peer-reviewed academic papers in leading adolescent health\, eating disorder\, body image\, and substance use journals. His research has been featured on the CBC\, CTV News\, U.S. News and World Report\, Healthline\, Fatherly\, and Runner’s World\, among others. Dr. Ganson has over 10 years of direct clinical social work practice experience and he teaches clinical social work courses to MSW students. \nAbout The Health Equity Grand Rounds\nThe Health Equity Grand Rounds focuses on equity issues related to health and mental health practice. It involves talks by experts focused on key themes in the field. There will be 5 Grand Rounds scheduled in the 2023-2024 academic year. FIFSW students can earn a certificate of completion by attending a minimum of 4 rounds throughout the academic year. For any questions\, please contact Peter Sheffield or Dr. Rachelle Ashcroft.
URL:https://socialwork.utoronto.ca/event/health-equity-grand-rounds-eating-disorder-and-muscle-dysmorphia-among-boys-and-men/
LOCATION:FIFSW Building room Sk 548
CATEGORIES:Students
END:VEVENT
BEGIN:VEVENT
DTSTART;TZID=America/Toronto:20231130T120000
DTEND;TZID=America/Toronto:20231130T130000
DTSTAMP:20260419T214304
CREATED:20231016T183924Z
LAST-MODIFIED:20231130T140715Z
UID:46596-1701345600-1701349200@socialwork.utoronto.ca
SUMMARY:Moving the Dial On: Support for Families Affected by Mental Illness
DESCRIPTION:Join CBRCanada in this e-learning event in the “Moving The Dial” series highlighting community-based research making positive social change. \n>Register here\n\n\n\n\nCommunity-Based Research Canada presents “Moving the Dial”: our 2023 E-Learning series. This series will highlight action-oriented community-based research that is ‘moving the dial’ on today’s pressing societal challenges. An important hallmark of community-based research\, taking an action-orientated and impactful approach\, means research partnerships mobilizing knowledge and mobilizing communities towards positive societal change. The research projects highlighted within this series demonstrate impact of community-based research. We will hear about research partnerships that facilitated actions improving societal conditions\, including changes in policies\, systems\, organizations\, and communities where everyone is supported and belongs. \nWebinar\nThe Family Caregiving Project is a research study exploring the experiences of families affected by mental illness\, being conducted in collaboration with community mental health agencies in Ontario. Unlike most other research on caregiving in the context of mental illness\, this study focuses on the entire family\, including those diagnosed with mental illness as family members and active participants in the navigation of caring needs. The project includes three components: 1) a series of family mental health café experiences that were held in Ontario through 2019-20; 2) an online survey of caregiving families in Ontario; 3) and in-depth interviews with families. The work of the project is ongoing. \nThe project has moved the dial by disseminating research findings to the public\, community mental health agencies\, and health professional educators to redefine family support as including diagnosed individuals in the promotion of family mental health\, and finding ways to promote open discussion about how the family manages caregiving and care-receiving for all family members. Videos are being used in health profession education and numerous educational resources are available on our website. Available resources include: 1) an educator’s guide to support training of health care students and providers supporting families\, 2) a facilitation toolkit to host your own Family Mental Health Café\, 3) a discussion guide for community groups\, and 4) a workbook to help families discuss caregiving issues. \nPresenters\nDr. Charmaine C. Williams\, Dean & Professor\, Sandra Rotman Chair in Social Work\, University of Toronto. Charmaine C. Williams is Dean and a professor at the Factor-Inwentash Faculty of Social Work at the University of Toronto. Her research bridges practice and access and equity issues that affect various populations including racial minority women\, LGBTQ individuals in a local and international context\, and individuals and families affected by serious and persistent mental illnesses. The majority of her practice experience has been as a clinician in the mental health care system. She has also been involved in organizational change initiatives in the health care sector and has extensive experience developing and delivering professional education in the areas of anti-racism\, cultural competence\, mental health and addictions. Information about her research is available at: https://discover.research.utoronto.ca/115-charmaine-c-williams \nJoelleann Forbes\, Registered Social Worker\, Psychotherapist\, Sessional Lecturer\, University of Toronto. Joelleann Forbes is a social worker and psychotherapist registered with the Ontario College of Social Workers and Social Service Workers. She is also a sessional lecturer at Factor-Inwentash Faculty of Social Work\, University of Toronto and the co-founder of Hope Leads Mental Health Care. She has spent many years providing mental health care in various settings\, including a community health centre\, hospitals\, and private practices. She holds a BA in Bioethics and a Master of Social Work degree from the University of Toronto\, and has also received training in cognitive behavioural therapy\, dialectical behavioural therapy\, acceptance and commitment therapy\, narrative therapy\, and motivational interviewing. Her practice philosophy reaffirms the importance of empowering communities\, addressing the social determinates of health\, honouring intersecting identities\, and engaging in anti-oppressive and anti-racist practices. Further\, she has provided clinical supervision and training to masters-level social work students and peer counsellors. Joelleann has co-authored multiple peer-reviewed articles and book chapters on topics such as Africentric clinical practice\, mental health\, community care\, spirituality\, and LGBT human rights. \n*This event is intended for CBRCanada members only. If you are employed\, studying\, or affiliated with any CBRCanada member institution/organization\, you are already considered a member. If you are unsure if your institution is covered\, learn more here. Individuals whose institution is not on this list are welcome to register as an an individual member. We value community participation and have a free membership option for registered community mobilizers.
URL:https://socialwork.utoronto.ca/event/moving-the-dial-on-support-for-families-affected-by-mental-illness/
LOCATION:Online
CATEGORIES:External public event
END:VEVENT
BEGIN:VEVENT
DTSTART;TZID=America/Toronto:20231130T140000
DTEND;TZID=America/Toronto:20231130T153000
DTSTAMP:20260419T214304
CREATED:20231106T213009Z
LAST-MODIFIED:20231106T214802Z
UID:46990-1701352800-1701358200@socialwork.utoronto.ca
SUMMARY:PhD program information session
DESCRIPTION:Interested in learning more about FIFSW’s PhD program and how to apply? Join us for an information session online via Zoom on November 30th from 2:00 to 3:30pm. \nRegistration is required for each session. Zoom details will be sent automatically after registration is complete. \n Register for the PhD information session on November 30. \nIf you have specific inquiries about the admissions process\, please contact Angela Umbrello. \nThe Factor-Inwentash Faculty of Social Work at the University of Toronto offers one of the most research-intensive social work graduate programs in North America. Our PhD students are part of with a thriving community of social work researchers\, educators and practitioners\, who work in partnership with community-based\, government and grassroots leaders to challenge inequalities and injustices and advance the health and welfare of individuals and communities. FIFSW’s Doctoral graduates are practice leaders and faculty members throughout the world. \nWhy study at FIFSW? Students have access to a broad range of courses and expertise both within the Faculty and across the University of Toronto\, which is located in the heart of Canada’s largest city. Research opportunities for PhD students abound: U of T graduate students secure over $30 million in federal research funding annually. \n 
URL:https://socialwork.utoronto.ca/event/phd-program-information-session-3/
LOCATION:zoom
CATEGORIES:Future students
END:VEVENT
END:VCALENDAR