BEGIN:VCALENDAR
VERSION:2.0
PRODID:-//Factor-Inwentash Faculty of Social Work - ECPv6.15.20//NONSGML v1.0//EN
CALSCALE:GREGORIAN
METHOD:PUBLISH
X-ORIGINAL-URL:https://socialwork.utoronto.ca
X-WR-CALDESC:Events for Factor-Inwentash Faculty of Social Work
REFRESH-INTERVAL;VALUE=DURATION:PT1H
X-Robots-Tag:noindex
X-PUBLISHED-TTL:PT1H
BEGIN:VTIMEZONE
TZID:America/Toronto
BEGIN:DAYLIGHT
TZOFFSETFROM:-0500
TZOFFSETTO:-0400
TZNAME:EDT
DTSTART:20210314T070000
END:DAYLIGHT
BEGIN:STANDARD
TZOFFSETFROM:-0400
TZOFFSETTO:-0500
TZNAME:EST
DTSTART:20211107T060000
END:STANDARD
BEGIN:DAYLIGHT
TZOFFSETFROM:-0500
TZOFFSETTO:-0400
TZNAME:EDT
DTSTART:20220313T070000
END:DAYLIGHT
BEGIN:STANDARD
TZOFFSETFROM:-0400
TZOFFSETTO:-0500
TZNAME:EST
DTSTART:20221106T060000
END:STANDARD
BEGIN:DAYLIGHT
TZOFFSETFROM:-0500
TZOFFSETTO:-0400
TZNAME:EDT
DTSTART:20230312T070000
END:DAYLIGHT
BEGIN:STANDARD
TZOFFSETFROM:-0400
TZOFFSETTO:-0500
TZNAME:EST
DTSTART:20231105T060000
END:STANDARD
END:VTIMEZONE
BEGIN:VEVENT
DTSTART;TZID=America/Toronto:20220907T083000
DTEND;TZID=America/Toronto:20220907T150000
DTSTAMP:20260422T151953
CREATED:20220808T131712Z
LAST-MODIFIED:20220903T173706Z
UID:38392-1662539400-1662562800@socialwork.utoronto.ca
SUMMARY:MSW Orientation
DESCRIPTION:As the summer draws to a close\, we look forward to coming together as a community of learners\, thinkers\, and changers in the fall. \nMSW Orientation\nSeptember 7\, 8:30am-3:00pm EST\n\nAttendees: Incoming 2-Year MSW expected. \nThis event will take place at the George Ignatieff Theatre\, Trinity College. \n*Lunch will be held at FIFSW 3rd & 7th Floor Student Lounges (4 minute walk from Trinity College) \nThe MSW Orientation sets the intention for the learning\, reflecting\, and dialogue that take place across Orientation Week. It also allows you to connect with fellow students\, staff\, and faculty\, and learn about key university-wide and faculty-based resources to support your student experience. We highly encourage you to attend to help kickstart your time here at the Factor-Inwentash Faculty of Social Work! \nPlease note that the MSW Orientation is different from the SGS Orientation. The SGS Orientation is optional for students\, and is more general to your experience as a graduate student. \nPHOTO NOTICE\nPlease note that photos will be taken at this event to be shared on the Factor-Inwentash Faculty of Social Work’s website and social media pages. If you do not wish to have your photo featured\, please contact Dale Duncan\, FIFSW’s Communications Strategist at dale.duncan@utoronto.ca. \n\n\n\n\nAll upcoming events for new MSW students include:\n\nSeptember 7: MSW Orientation\nSeptember 8 & 9: Introduction to Social Work Conference\nSeptember 7-9: Advance Standing Practice Seminar (Incoming Advanced Standing MSW students only)\nSeptember 6: School of Graduate Studies Orientation Session\n\nSeptember 12: Writing Workshop at the Graduate Level Workshop\nSeptember 13: Library Workshop at the Graduate Level Workshop\n\n\n\n\n\nWe are so excited to welcome all of you to the FIFSW! Should you have any questions about Orientation Week\, please don’t hesitate to contact us at associate.deanfifsw@utoronto.ca.\n\nPlease let us know if you need any accommodation for space\, food or audiovisual before August 19\, 2022. Click here…
URL:https://socialwork.utoronto.ca/event/msw-orientation-2/
LOCATION:George Ignatieff Theatre\, 15 Devonshire Pl\, Toronto ON M5S 2C8
CATEGORIES:Students
END:VEVENT
BEGIN:VEVENT
DTSTART;TZID=America/Toronto:20220907T090000
DTEND;TZID=America/Toronto:20220909T163000
DTSTAMP:20260422T151953
CREATED:20220815T182025Z
LAST-MODIFIED:20220907T144430Z
UID:38503-1662541200-1662741000@socialwork.utoronto.ca
SUMMARY:Advanced Standing Practice Seminar
DESCRIPTION:Attendees: Incoming Advanced Standing MSW students only \nLocation: FIFSW \nTime: 9:00am-4:30pm \nNote: this seminar is voluntary. Students are not required to attend. \nUPDATE: REGISTRATION FOR THIS SEMINAR IS NOW FULL. \n 
URL:https://socialwork.utoronto.ca/event/advance-standing-practice-seminar/
LOCATION:FIFSW\, 246 Bloor Street W.\, Toronto\, ON\, M5S 1V4\, Canada
CATEGORIES:Students
END:VEVENT
BEGIN:VEVENT
DTSTART;TZID=America/Toronto:20220908T083000
DTEND;TZID=America/Toronto:20220909T150000
DTSTAMP:20260422T151953
CREATED:20220808T133512Z
LAST-MODIFIED:20220903T180502Z
UID:38397-1662625800-1662735600@socialwork.utoronto.ca
SUMMARY:Introduction to Social Work Conference
DESCRIPTION:The Introduction to Social Work Conference is a key opportunity to learn from faculty members\, alumni\, and community-based practitioners\, and to begin reflecting upon your own contributions to the learning community and to the field of social work. \nAttendance is expected for incoming 2-Year MSW students. \nSeptember 8th\, 8:30am-3:00pm & September 9th\, 8:30am-3:00pm\nAttendees: Incoming 2-Year MSW expected.\nThis event will take place at the Trinity College George Ignatieff Theatre. \nPHOTO NOTICE\nPlease note that photos will be taken at this event to be shared on the Factor-Inwentash Faculty of Social Work’s website and social media pages. If you do not wish to have your photo featured\, please contact Dale Duncan\, FIFSW’s Communications Strategist at dale.duncan@utoronto.ca. \n\n\n\n\nAll upcoming events for new MSW students include:\n\n\nSeptember 7: MSW Orientation\nSeptember 8 & 9: Introduction to Social Work Conference\nSeptember 7-9: Advance Standing Practice Seminar (Incoming Advanced Standing MSW students only)\nSeptember 6: School of Graduate Studies Orientation Session\n\nSeptember 12: Writing Workshop at the Graduate Level Workshop\nSeptember 13: Library Workshop at the Graduate Level Workshop\n\n\n\n  \n\n\n\n\n\nWe are so excited to welcome all of you to the FIFSW! Should you have any questions about Orientation Week\, please don’t hesitate to contact us at associate.deanfifsw@utoronto.ca.\n\n\nPlease let us know if you need any accommodation for space\, food or audiovisual before August 19\, 2022. > Click here
URL:https://socialwork.utoronto.ca/event/introduction-to-social-work-conference-2/
LOCATION:George Ignatieff Theatre\, 15 Devonshire Pl\, Toronto ON M5S 2C8
CATEGORIES:Students
END:VEVENT
BEGIN:VEVENT
DTSTART;TZID=America/Toronto:20220912T120000
DTEND;TZID=America/Toronto:20220912T130000
DTSTAMP:20260422T151953
CREATED:20220903T170748Z
LAST-MODIFIED:20220903T181452Z
UID:38681-1662984000-1662987600@socialwork.utoronto.ca
SUMMARY:Writing Workshop
DESCRIPTION:Please Register for the Writing Workshop Here <<<\n\n\nWriting and Library Workshop at the Graduate Level Workshop (Optional)\nAttendees: Incoming 2-Year MSW\n\n\nWriting Workshop September 12th and Library Workshop September 13th\nThese sessions will be virtual and will also be streamed in a classroom. Classroom Location-TBA
URL:https://socialwork.utoronto.ca/event/writing-workshop/
CATEGORIES:Students
END:VEVENT
BEGIN:VEVENT
DTSTART;TZID=America/Toronto:20220913T120000
DTEND;TZID=America/Toronto:20220913T130000
DTSTAMP:20260422T151953
CREATED:20220903T171053Z
LAST-MODIFIED:20220903T172928Z
UID:38683-1663070400-1663074000@socialwork.utoronto.ca
SUMMARY:Library Workshop
DESCRIPTION:Please Register for the Library Workshop Here <<<\n\nWriting and Library Workshop at the Graduate Level Workshop (Optional)\nAttendees: Incoming 2-Year MSW\, Advanced Standing MSW\, MSW-ITR\n\nWriting Workshop September 12th and Library Workshop September 13th\nThese sessions will be virtual and will also be streamed in a classroom. Classroom Location-TBA
URL:https://socialwork.utoronto.ca/event/library-workshop/
CATEGORIES:Students
END:VEVENT
BEGIN:VEVENT
DTSTART;TZID=America/Toronto:20220913T190000
DTEND;TZID=America/Toronto:20220913T210000
DTSTAMP:20260422T151953
CREATED:20220823T135654Z
LAST-MODIFIED:20220831T192051Z
UID:38603-1663095600-1663102800@socialwork.utoronto.ca
SUMMARY:Invisible Wounds: Stories of Survivorship - Exploring the Experiences of African\, Caribbean and Black Survivors of Homicide Victims
DESCRIPTION:Homicide-related death has a devastating impact on the mental\, physical\, and spiritual wellbeing of family members\, friends\, and communities who must face the daunting challenge of learning to cope with the murder of their family members and friends. Experiencing the murder of a loved one leaves survivors with invisible “wounds”\, injuries not often visible and comprehensible to the untrained eye. \nFunded by the Social Science and Humanities Research Council (SSHRC) in collaboration with the Story Centre and key community-based organizations\, The Centre for Research & Innovation for Black Survivors of Homicide Victims (The CRIB) led focus groups and engaged with African\, Caribbean\, and Black (ACB) survivors of homicide victims in digital storytelling to understand the impact of murder on the wellbeing\, coping strategies and unmet needs of ACB Canadian survivors of homicide victims in Toronto. \nJoin The Centre for Research & Innovation for Black Survivors of Homicide Victims (The CRIB) at Innis Town Hall to view their stories of survivorship and hear directly from storytellers about the impact\, consequences and culturally responsive services that are necessary to help them not just survive unthinkable tragedy but perhaps thrive thereafter it. \nThis is a free event. Registration is required. \n>Click here to register\nThe event will kick off at 7:00 with a pre-show meet & greet social. The formal program to follow will include opening remarks from FIFSW faculty and government officials and an overview of the Invisible Wounds project provided by The CRIB researchers. This will be followed by a film screening of the digital stories produced by Invisible Wounds storytellers and a panel discussion\, moderated by Associate Professor Tanya Sharpe\, with the storytellers & neighbourhood ambassadors. \n8:45: Closing Remarks \nA detailed program will be shared shortly.
URL:https://socialwork.utoronto.ca/event/invisible-wounds-stories-of-survivorship-exploring-the-experiences-of-african-caribbean-and-black-survivors-of-homicide-victims/
LOCATION:Innis Town Hall\, 2 Sussex Avenue\, Toronto\, Ontario\, M5S 1J5
CATEGORIES:Public
END:VEVENT
BEGIN:VEVENT
DTSTART;TZID=America/Toronto:20220916T093000
DTEND;TZID=America/Toronto:20220916T130000
DTSTAMP:20260422T151953
CREATED:20220815T182529Z
LAST-MODIFIED:20220829T172113Z
UID:38506-1663320600-1663333200@socialwork.utoronto.ca
SUMMARY:ITR Orientation
DESCRIPTION:Attendees: Incoming MSW-ITR expected\nLocation: FIFSW\, Room 620 \nSunrise Ceremony and Breakfast\nTime: 6:30am\nLocation TBD
URL:https://socialwork.utoronto.ca/event/itr-orientation/
LOCATION:FIFSW\, 246 Bloor Street W.\, Toronto\, ON\, M5S 1V4\, Canada
CATEGORIES:Students
END:VEVENT
BEGIN:VEVENT
DTSTART;TZID=America/Toronto:20220919T121500
DTEND;TZID=America/Toronto:20220920T131500
DTSTAMP:20260422T151953
CREATED:20220919T024530Z
LAST-MODIFIED:20220919T024943Z
UID:39045-1663589700-1663679700@socialwork.utoronto.ca
SUMMARY:FOS Luncheon
DESCRIPTION:Our FOS Luncheon is scheduled for September 19th and 20th\n\n\nAttendees: MSW Year 2 Students and Advanced Standing Students are expected.\nTime: 12:15pm-1:15pm\nLocation: FIFSW\nCatering: Veda Restaurant\n\n\nSeptember 19\, 2022\n1-Children & Family- (ROOM 548)\n2-Gerontology- (ROOM 418)\n3-Social Justice & Diversity (ROOM 720)\n4-Human Services Management & Leadership (ROOM 702)\n\n\nSeptember 20\, 2022\n1-Mental Health & Health (ROOM 720 & 702 & 7th Floor Student Lounge)\n\nSee you there!
URL:https://socialwork.utoronto.ca/event/fos-luncheon/
CATEGORIES:Students
END:VEVENT
BEGIN:VEVENT
DTSTART;TZID=America/Toronto:20220921T121500
DTEND;TZID=America/Toronto:20220922T131500
DTSTAMP:20260422T151953
CREATED:20220919T024831Z
LAST-MODIFIED:20220919T024831Z
UID:39047-1663762500-1663852500@socialwork.utoronto.ca
SUMMARY:Faculty Advisor Meet & Greet
DESCRIPTION:Attendees: MSW Year 1 Students are expected\nDate & Time: September 21 & 22 from 12pm-1pm\nLocation: TBA \n 
URL:https://socialwork.utoronto.ca/event/faculty-advisor-meet-greet/
CATEGORIES:Students
END:VEVENT
BEGIN:VEVENT
DTSTART;TZID=America/Toronto:20220926T121500
DTEND;TZID=America/Toronto:20220926T131500
DTSTAMP:20260422T151953
CREATED:20220919T024200Z
LAST-MODIFIED:20220919T024200Z
UID:39043-1664194500-1664198100@socialwork.utoronto.ca
SUMMARY:IPE Orientation (Virtual)
DESCRIPTION:IPE Invitation to students \nThe Factor Inwentash Faculty of Social Work invites students to a virtual orientation session about the Interprofessional Education program at the University of Toronto on September 26th from 12:15 pm to 1:15 pm. \nInterprofessional collaboration is one of the most important skills that social workers can learn. Social Workers are part of teams in all sectors and mastering collaborative practice skills is a key component of social work practice. The Interprofessional Education (IPE) program is a university wide program for all health-related faculties. It is a program that supports health professional students and social work students to learn with\, from and about one another in order to enable effective collaboration to improve health outcomes for clients and communities.  It is a required program for all health-related programs\, except social work.  Social Work students\, however\, are required to participate in select IPE activities as a faculty. \nAttend this virtual orientation in order to learn more about the University wide IPE program and hear from social work faculty leads and social work student leaders\, about the advantages of participating in the program as well as getting answers to some of the most common questions about IPE at University of Toronto. Please see details below. \nYou are invited to a Zoom meeting. \nWhen: Sep 26\, 2022\, 12:15 PM Eastern Time (US and Canada) \nRegister in advance for this meeting: \nhttps://us02web.zoom.us/meeting/register/tZIuf-2rqD8jHtxdcqotmy-E7UsFOFHXD9PP \nAfter registering\, you will receive a confirmation email containing information about joining the meeting.
URL:https://socialwork.utoronto.ca/event/ipe-orientation-virtual/
CATEGORIES:Students
END:VEVENT
BEGIN:VEVENT
DTSTART;TZID=America/Toronto:20220929T170000
DTEND;TZID=America/Toronto:20220929T190000
DTSTAMP:20260422T151953
CREATED:20220919T151535Z
LAST-MODIFIED:20220926T200940Z
UID:39054-1664470800-1664478000@socialwork.utoronto.ca
SUMMARY:International Student Social (In-Person\, FIFSW)
DESCRIPTION:International Student Social (In-Person\, FIFSW) \nAttendees: All International students in both MSW and PhD programs\nDate & Time: September 29 at 5pm\nLocation: 3rd Floor Student Lounge
URL:https://socialwork.utoronto.ca/event/39054/
CATEGORIES:Students
END:VEVENT
BEGIN:VEVENT
DTSTART;TZID=America/Toronto:20220930T100000
DTEND;TZID=America/Toronto:20220930T110000
DTSTAMP:20260422T151953
CREATED:20220926T155106Z
LAST-MODIFIED:20220926T155152Z
UID:39119-1664532000-1664535600@socialwork.utoronto.ca
SUMMARY:Orange Shirt Day 2022 - National Day for Truth & Reconciliation
DESCRIPTION:On September 30\, wear an orange shirt to show your solidarity with Indigenous people. Every child matters. \nHonour the experiences of residential school survivors by joining a University-wide event to recognize Orange Shirt Day and National Day for Truth and Reconciliation. Students\, librarians\, faculty and staff may register to attend this event in-person or watch the livestream. \nThe University of Toronto will commemorate this day of recognition with remarks from Kelly Hannah-Moffat\, Vice-President\, People Strategy\, Equity & Culture\, and Alexandra Gillespie\, Vice-President & Principal\, University of Toronto Mississauga\, in The Great Hall at Hart House. Brenda Wastasecoot\, Assistant Professor at the Centre for Indigenous Studies\, will provide the keynote address: “The Nikis Story is the Story of Canada: Reflecting on the Impacts of the Indian Residential Schools.” \nAttend in Person:\nYou can register to attend in person here. \nPlease note: Registration does not guarantee admittance. Space is available on a first-come\, first-served basis. Overflow seating is available in The Music Room at Hart House. \nWatch Online:\nThe event will also be livestreamed on YouTube(Link opens in a new tab)\, and can be viewed via this link. \nAlternative Livestream Location:\nWatch the Livestream outdoors at Varsity Stadium under the concourse\, rain or shine. \nThere will be sitting and standing room at the stadium which is located at 299 Bloor St. West. Please bring your TCard or other identification to sign in. \nPlease note:The entrance to the stadium is off of Devonshire Place\, across the street from 100 Devonshire Place. \n 
URL:https://socialwork.utoronto.ca/event/orange-shirt-day-2022-national-day-for-truth-reconciliation/
LOCATION:Hart House\, 7 Hart House Circle\, Toronto\, Ontario\, Canada
CATEGORIES:Alumni,Students
END:VEVENT
END:VCALENDAR