BEGIN:VCALENDAR
VERSION:2.0
PRODID:-//Factor-Inwentash Faculty of Social Work - ECPv6.15.20//NONSGML v1.0//EN
CALSCALE:GREGORIAN
METHOD:PUBLISH
X-WR-CALNAME:Factor-Inwentash Faculty of Social Work
X-ORIGINAL-URL:https://socialwork.utoronto.ca
X-WR-CALDESC:Events for Factor-Inwentash Faculty of Social Work
REFRESH-INTERVAL;VALUE=DURATION:PT1H
X-Robots-Tag:noindex
X-PUBLISHED-TTL:PT1H
BEGIN:VTIMEZONE
TZID:America/Toronto
BEGIN:DAYLIGHT
TZOFFSETFROM:-0500
TZOFFSETTO:-0400
TZNAME:EDT
DTSTART:20190310T070000
END:DAYLIGHT
BEGIN:STANDARD
TZOFFSETFROM:-0400
TZOFFSETTO:-0500
TZNAME:EST
DTSTART:20191103T060000
END:STANDARD
BEGIN:DAYLIGHT
TZOFFSETFROM:-0500
TZOFFSETTO:-0400
TZNAME:EDT
DTSTART:20200308T070000
END:DAYLIGHT
BEGIN:STANDARD
TZOFFSETFROM:-0400
TZOFFSETTO:-0500
TZNAME:EST
DTSTART:20201101T060000
END:STANDARD
BEGIN:DAYLIGHT
TZOFFSETFROM:-0500
TZOFFSETTO:-0400
TZNAME:EDT
DTSTART:20210314T070000
END:DAYLIGHT
BEGIN:STANDARD
TZOFFSETFROM:-0400
TZOFFSETTO:-0500
TZNAME:EST
DTSTART:20211107T060000
END:STANDARD
END:VTIMEZONE
BEGIN:VEVENT
DTSTART;TZID=America/Toronto:20200826T203000
DTEND;TZID=America/Toronto:20200826T210000
DTSTAMP:20260419T201527
CREATED:20200824T212315Z
LAST-MODIFIED:20200826T191652Z
UID:28901-1598473800-1598475600@socialwork.utoronto.ca
SUMMARY:Season 2 premiere of 30@8:30
DESCRIPTION:Season 2 of 30@8:30 premiers on Wednesday\, August 26 at 8:30pm on Instagram Live. \nPresented by The Centre for Research & Innovation for Black Survivors of Homicide Victims (The CRIB)\, 30@8:30 is a weekly series that investigates structural violence and COVID-19’s impact on vulnerable populations throughout our global community. The series is hosted by Dr. Tanya L. Sharpe\, an associate professor at the Factor-Inwentash Faculty of Social Work. Past episodes can be found on The CRIB’s website here. \nSeason 2 of 30@8:30 welcomes new speakers\, providing new perspectives and insight on the relationship between COVID-19 and structural violence\, mental health\, homicide and systemic racism. \nTo watch 30@8:30\, log in to Instagram Wednesday nights at 8:30pm and make sure you are following @thecribcommunity. \nREAD: Q&A: University Affairs interviews Associate Professor Tanya Sharpe about her Instagram Live series 30@8:30
URL:https://socialwork.utoronto.ca/event/season-2-premiere-of-30830/
LOCATION:Ontario
CATEGORIES:Public
END:VEVENT
END:VCALENDAR