BEGIN:VCALENDAR
VERSION:2.0
PRODID:-//Factor-Inwentash Faculty of Social Work - ECPv6.15.20//NONSGML v1.0//EN
CALSCALE:GREGORIAN
METHOD:PUBLISH
X-ORIGINAL-URL:https://socialwork.utoronto.ca
X-WR-CALDESC:Events for Factor-Inwentash Faculty of Social Work
REFRESH-INTERVAL;VALUE=DURATION:PT1H
X-Robots-Tag:noindex
X-PUBLISHED-TTL:PT1H
BEGIN:VTIMEZONE
TZID:America/Toronto
BEGIN:DAYLIGHT
TZOFFSETFROM:-0500
TZOFFSETTO:-0400
TZNAME:EDT
DTSTART:20190310T070000
END:DAYLIGHT
BEGIN:STANDARD
TZOFFSETFROM:-0400
TZOFFSETTO:-0500
TZNAME:EST
DTSTART:20191103T060000
END:STANDARD
BEGIN:DAYLIGHT
TZOFFSETFROM:-0500
TZOFFSETTO:-0400
TZNAME:EDT
DTSTART:20200308T070000
END:DAYLIGHT
BEGIN:STANDARD
TZOFFSETFROM:-0400
TZOFFSETTO:-0500
TZNAME:EST
DTSTART:20201101T060000
END:STANDARD
BEGIN:DAYLIGHT
TZOFFSETFROM:-0500
TZOFFSETTO:-0400
TZNAME:EDT
DTSTART:20210314T070000
END:DAYLIGHT
BEGIN:STANDARD
TZOFFSETFROM:-0400
TZOFFSETTO:-0500
TZNAME:EST
DTSTART:20211107T060000
END:STANDARD
END:VTIMEZONE
BEGIN:VEVENT
DTSTART;TZID=America/Toronto:20200602T120000
DTEND;TZID=America/Toronto:20200602T120000
DTSTAMP:20260422T031756
CREATED:20200529T134647Z
LAST-MODIFIED:20200602T154027Z
UID:27472-1591099200-1591099200@socialwork.utoronto.ca
SUMMARY:Spring Convocation 2020
DESCRIPTION:Virtual Convocation is coming up in less than a week\, and we’re looking forward to celebrating the Class of 2020! \nWe’d like to share this video from President Meric Gertler\, inviting graduating students\, and their families and friends\, to join us June 2 at 12:00 p.m. to watch the virtual convocation ceremony. \nThe virtual ceremony video will be made available for viewing starting June 2 at 12:00 p.m. on U of T’s Convocation Hub website and also on the official U of T Facebook page. \n\nPictured above: FIFSW student Egag Egag is filmed standing next to a gonfalon (photo by Brenda Ichikawa) \nA small number of other U of T students were invited to offer congratulations to the graduating students in their respective academic divisions as part of U of T’s virtual convocation. \nU of T’s  Convocation Hub has also been updated with a fun collection of custom digital assets to help celebrate #UofTGrad20 posts on social media. You can find this selection of Zoom backgrounds\, GIPHY stickers\, Instagram activities and a Facebook frame at https://www.utoronto.ca/convocation/downloads. Please feel free to share these far and wide! \nAlumni are encouraged to mention the @uoftalumni and @uoft handles in their social media posts. This will allow us to amplify your message and to collectively build a sense of community around the occasion. \nWe hope you’ll join us from wherever you might be celebrating on June 2 to view the virtual convocation ceremony! \n  \n\nMessages for our 2020 spring graduates:\n\nCongratulations to the Class of 2020\, from Dean Dexter Voisin and FIFSW’s Academic Leadership Team\nA letter to graduates from the President of the FIFSW Alumni Association\n19 pieces of advice from alumni for the Class of 2020\n7 ways to stay in touch after graduation\nKudos to our graduates\, from FIFSW faculty & staff
URL:https://socialwork.utoronto.ca/event/spring-convocation-2020/
CATEGORIES:Alumni,Public,Students
END:VEVENT
BEGIN:VEVENT
DTSTART;TZID=America/Toronto:20200603T203000
DTEND;TZID=America/Toronto:20200603T210000
DTSTAMP:20260422T031756
CREATED:20200603T170927Z
LAST-MODIFIED:20200603T171049Z
UID:27605-1591216200-1591218000@socialwork.utoronto.ca
SUMMARY:SPECIAL EDITION of 30@830
DESCRIPTION:On Wednesday\, June 3\, a SPECIAL EDITION of 30@830 is airing on Instagram Live at 8:30pm EDT. \nFollow @thecribcommunity on instagram and join them for this straight\, no holds barred episode hosted by founder & director Associate Professor Tanya Sharpe. \n \nHow to watch 30@8:30: The Impact of COVID-19 on Vulnerable Communities: \n-Follow @thecribcommunity on Instagram\n-Tune into @thecribcommunity on Instagram Live at 8:30pm \n 
URL:https://socialwork.utoronto.ca/event/special-edition-of-30830/
CATEGORIES:Alumni,Public,Students
END:VEVENT
BEGIN:VEVENT
DTSTART;TZID=America/Toronto:20200604T120000
DTEND;TZID=America/Toronto:20200604T123000
DTSTAMP:20260422T031756
CREATED:20200603T171259Z
LAST-MODIFIED:20200603T171328Z
UID:27610-1591272000-1591273800@socialwork.utoronto.ca
SUMMARY:Online Mindfulness Sitting
DESCRIPTION:Every Monday to Friday\, Noon – 12:30pm\, Assistant Professor Ellen Katz leads an online mindfulness sitting via Zoom. \nAlumni who are interested in joining\, may email alumni.fifsw@utoronto.ca for login details. (Students and faculty will receive the zoom link in the weekly Friday e-digest.)
URL:https://socialwork.utoronto.ca/event/online-mindfulness-sitting-3/
CATEGORIES:Alumni,Students
END:VEVENT
BEGIN:VEVENT
DTSTART;TZID=America/Toronto:20200605T120000
DTEND;TZID=America/Toronto:20200605T123000
DTSTAMP:20260422T031756
CREATED:20200603T171422Z
LAST-MODIFIED:20200603T171436Z
UID:27612-1591358400-1591360200@socialwork.utoronto.ca
SUMMARY:Online Mindfulness Sitting
DESCRIPTION:Every Monday to Friday\, Noon – 12:30pm\, Assistant Professor Ellen Katz leads an online mindfulness sitting via Zoom. \nAlumni who are interested in joining\, may email alumni.fifsw@utoronto.ca for login details. (Students and faculty will receive the zoom link in the weekly Friday e-digest.)
URL:https://socialwork.utoronto.ca/event/online-mindfulness-sitty/
CATEGORIES:Alumni,Students
END:VEVENT
BEGIN:VEVENT
DTSTART;TZID=America/Toronto:20200609T120000
DTEND;TZID=America/Toronto:20200609T123000
DTSTAMP:20260422T031756
CREATED:20200608T220935Z
LAST-MODIFIED:20200608T221008Z
UID:27678-1591704000-1591705800@socialwork.utoronto.ca
SUMMARY:Online Mindfulness Sitting
DESCRIPTION:Every Monday to Friday\, Noon – 12:30pm\, Assistant Professor Ellen Katz leads an online mindfulness sitting via Zoom. \nAlumni who are interested in joining\, may email alumni.fifsw@utoronto.ca for login details. (Students and faculty will receive the zoom link in the weekly Friday e-digest.)
URL:https://socialwork.utoronto.ca/event/online-mindfulness-sitting-4/
CATEGORIES:Alumni,Students
END:VEVENT
BEGIN:VEVENT
DTSTART;TZID=America/Toronto:20200610T120000
DTEND;TZID=America/Toronto:20200610T123000
DTSTAMP:20260422T031756
CREATED:20200608T221116Z
LAST-MODIFIED:20200608T221116Z
UID:27680-1591790400-1591792200@socialwork.utoronto.ca
SUMMARY:Online Mindfulness Sitting
DESCRIPTION:Every Monday to Friday\, Noon – 12:30pm\, Assistant Professor Ellen Katz leads an online mindfulness sitting via Zoom. \nAlumni who are interested in joining\, may email alumni.fifsw@utoronto.ca for login details. (Students and faculty will receive the zoom link in the weekly Friday e-digest.)
URL:https://socialwork.utoronto.ca/event/online-mindfulness-sitting-5/
CATEGORIES:Alumni,Students
END:VEVENT
BEGIN:VEVENT
DTSTART;TZID=America/Toronto:20200611T120000
DTEND;TZID=America/Toronto:20200611T123000
DTSTAMP:20260422T031756
CREATED:20200608T221203Z
LAST-MODIFIED:20200608T221203Z
UID:27682-1591876800-1591878600@socialwork.utoronto.ca
SUMMARY:Online Mindfulness Sitting
DESCRIPTION:Every Monday to Friday\, Noon – 12:30pm\, Assistant Professor Ellen Katz leads an online mindfulness sitting via Zoom. \nAlumni who are interested in joining\, may email alumni.fifsw@utoronto.ca for login details. (Students and faculty will receive the zoom link in the weekly Friday e-digest.)
URL:https://socialwork.utoronto.ca/event/online-mindfulness-sitting-6/
CATEGORIES:Alumni,Students
END:VEVENT
BEGIN:VEVENT
DTSTART;TZID=America/Toronto:20200612T120000
DTEND;TZID=America/Toronto:20200612T123000
DTSTAMP:20260422T031756
CREATED:20200608T221248Z
LAST-MODIFIED:20200608T221248Z
UID:27684-1591963200-1591965000@socialwork.utoronto.ca
SUMMARY:Online Mindfulness Sitting
DESCRIPTION:Every Monday to Friday\, Noon – 12:30pm\, Assistant Professor Ellen Katz leads an online mindfulness sitting via Zoom. \nAlumni who are interested in joining\, may email alumni.fifsw@utoronto.ca for login details. (Students and faculty will receive the zoom link in the weekly Friday e-digest.)
URL:https://socialwork.utoronto.ca/event/online-mindfulness-sitting-7/
CATEGORIES:Alumni,Students
END:VEVENT
BEGIN:VEVENT
DTSTART;TZID=America/Toronto:20200615T120000
DTEND;TZID=America/Toronto:20200615T123000
DTSTAMP:20260422T031756
CREATED:20200608T221339Z
LAST-MODIFIED:20200608T221339Z
UID:27686-1592222400-1592224200@socialwork.utoronto.ca
SUMMARY:Online Mindfulness Sitting
DESCRIPTION:Every Monday to Friday\, Noon – 12:30pm\, Assistant Professor Ellen Katz leads an online mindfulness sitting via Zoom. \nAlumni who are interested in joining\, may email alumni.fifsw@utoronto.ca for login details. (Students and faculty will receive the zoom link in the weekly Friday e-digest.)
URL:https://socialwork.utoronto.ca/event/online-mindfulness-sitting-8/
CATEGORIES:Alumni,Students
END:VEVENT
END:VCALENDAR