BEGIN:VCALENDAR
VERSION:2.0
PRODID:-//Factor-Inwentash Faculty of Social Work - ECPv6.15.20//NONSGML v1.0//EN
CALSCALE:GREGORIAN
METHOD:PUBLISH
X-ORIGINAL-URL:https://socialwork.utoronto.ca
X-WR-CALDESC:Events for Factor-Inwentash Faculty of Social Work
REFRESH-INTERVAL;VALUE=DURATION:PT1H
X-Robots-Tag:noindex
X-PUBLISHED-TTL:PT1H
BEGIN:VTIMEZONE
TZID:America/Toronto
BEGIN:DAYLIGHT
TZOFFSETFROM:-0500
TZOFFSETTO:-0400
TZNAME:EDT
DTSTART:20180311T070000
END:DAYLIGHT
BEGIN:STANDARD
TZOFFSETFROM:-0400
TZOFFSETTO:-0500
TZNAME:EST
DTSTART:20181104T060000
END:STANDARD
BEGIN:DAYLIGHT
TZOFFSETFROM:-0500
TZOFFSETTO:-0400
TZNAME:EDT
DTSTART:20190310T070000
END:DAYLIGHT
BEGIN:STANDARD
TZOFFSETFROM:-0400
TZOFFSETTO:-0500
TZNAME:EST
DTSTART:20191103T060000
END:STANDARD
BEGIN:DAYLIGHT
TZOFFSETFROM:-0500
TZOFFSETTO:-0400
TZNAME:EDT
DTSTART:20200308T070000
END:DAYLIGHT
BEGIN:STANDARD
TZOFFSETFROM:-0400
TZOFFSETTO:-0500
TZNAME:EST
DTSTART:20201101T060000
END:STANDARD
END:VTIMEZONE
BEGIN:VEVENT
DTSTART;TZID=America/Toronto:20190904T083000
DTEND;TZID=America/Toronto:20190904T153000
DTSTAMP:20260422T150104
CREATED:20190903T140243Z
LAST-MODIFIED:20190904T202232Z
UID:22726-1567585800-1567611000@socialwork.utoronto.ca
SUMMARY:MSW Student Orientation September 2019
DESCRIPTION:Full Agenda\n8:30-11:45am – George Ignatieff Theatre\, 15 Devonshire Place \nNoon-3:30pm – FIFSW\, 246 Bloor St. West
URL:https://socialwork.utoronto.ca/event/msw-student-orientation-2019/
CATEGORIES:Students
END:VEVENT
BEGIN:VEVENT
DTSTART;VALUE=DATE:20190905
DTEND;VALUE=DATE:20190907
DTSTAMP:20260422T150104
CREATED:20190904T223358Z
LAST-MODIFIED:20190904T223358Z
UID:22859-1567641600-1567814399@socialwork.utoronto.ca
SUMMARY:PhD Student Orientation 2019
DESCRIPTION:Full agenda \nSeptember 5 and 6\, 2019\nFIFSW\, 246 Bloor St. West
URL:https://socialwork.utoronto.ca/event/phd-student-orientation-2019/
CATEGORIES:Students
END:VEVENT
BEGIN:VEVENT
DTSTART;TZID=America/Toronto:20190910T121500
DTEND;TZID=America/Toronto:20190910T130000
DTSTAMP:20260422T150104
CREATED:20190917T141309Z
LAST-MODIFIED:20190917T141309Z
UID:23406-1568117700-1568120400@socialwork.utoronto.ca
SUMMARY:Year 2/Adv FFL meeting #1
DESCRIPTION:
URL:https://socialwork.utoronto.ca/event/year-2-adv-ffl-meeting-1/
CATEGORIES:Practicum
END:VEVENT
BEGIN:VEVENT
DTSTART;TZID=America/Toronto:20190916T080000
DTEND;TZID=America/Toronto:20190916T170000
DTSTAMP:20260422T150104
CREATED:20190917T141606Z
LAST-MODIFIED:20190917T141606Z
UID:23410-1568620800-1568653200@socialwork.utoronto.ca
SUMMARY:Year 1 ITR Intensive Week
DESCRIPTION:
URL:https://socialwork.utoronto.ca/event/year-1-itr-intensive-week/
CATEGORIES:Practicum
END:VEVENT
BEGIN:VEVENT
DTSTART;TZID=America/Toronto:20190916T121500
DTEND;TZID=America/Toronto:20190916T131500
DTSTAMP:20260422T150104
CREATED:20190917T141152Z
LAST-MODIFIED:20190917T141152Z
UID:23404-1568636100-1568639700@socialwork.utoronto.ca
SUMMARY:Practicum Advisory Committee Meeting
DESCRIPTION:
URL:https://socialwork.utoronto.ca/event/practicum-advisory-committee-meeting/
CATEGORIES:Practicum
END:VEVENT
BEGIN:VEVENT
DTSTART;TZID=America/Toronto:20190917T080000
DTEND;TZID=America/Toronto:20190917T170000
DTSTAMP:20260422T150104
CREATED:20190917T141648Z
LAST-MODIFIED:20190917T141648Z
UID:23412-1568707200-1568739600@socialwork.utoronto.ca
SUMMARY:Year 2/Adv ITR Intensive Week
DESCRIPTION:
URL:https://socialwork.utoronto.ca/event/year-2-adv-itr-intensive-week/
CATEGORIES:Practicum
END:VEVENT
BEGIN:VEVENT
DTSTART;TZID=America/Toronto:20190919T170000
DTEND;TZID=America/Toronto:20190919T190000
DTSTAMP:20260422T150104
CREATED:20190904T224025Z
LAST-MODIFIED:20190904T224224Z
UID:22861-1568912400-1568919600@socialwork.utoronto.ca
SUMMARY:SSHRC Grant Writing Networking Event
DESCRIPTION:Open to MSW and PhD Students applying for SSHRC awards \nRSVP required by Wednesday\, September 11\, 2019: https://doodle.com/poll/i836gzhunmiyky3a \nFacilitated by Professor David Brennan\, this event is a great opportunity for final year MSW students intending to pursue PhD studies and current PhD students to discuss their current grant proposals and study ideas\, or offer support and feedback to each other. \nBring your ideas\, and meet fellow students for some fruitful discourse and discussions. \nCheese\, snacks\, and refreshments will be provided. \nThursday\, September 19\, 2019\n5:00 – 7:00 PM\nFIFSW 3rd Floor Student Lounge (Room 320)
URL:https://socialwork.utoronto.ca/event/sshrc-grant-writing-networking-event/
CATEGORIES:Students
END:VEVENT
BEGIN:VEVENT
DTSTART;TZID=America/Toronto:20190924T121500
DTEND;TZID=America/Toronto:20190924T130000
DTSTAMP:20260422T150104
CREATED:20190917T141425Z
LAST-MODIFIED:20190917T141425Z
UID:23408-1569327300-1569330000@socialwork.utoronto.ca
SUMMARY:Competitive Practicums Info Session
DESCRIPTION:
URL:https://socialwork.utoronto.ca/event/competitive-practicums-info-session/
CATEGORIES:Practicum
END:VEVENT
END:VCALENDAR