BEGIN:VCALENDAR
VERSION:2.0
PRODID:-//Factor-Inwentash Faculty of Social Work - ECPv6.15.20//NONSGML v1.0//EN
CALSCALE:GREGORIAN
METHOD:PUBLISH
X-WR-CALNAME:Factor-Inwentash Faculty of Social Work
X-ORIGINAL-URL:https://socialwork.utoronto.ca
X-WR-CALDESC:Events for Factor-Inwentash Faculty of Social Work
REFRESH-INTERVAL;VALUE=DURATION:PT1H
X-Robots-Tag:noindex
X-PUBLISHED-TTL:PT1H
BEGIN:VTIMEZONE
TZID:America/Toronto
BEGIN:DAYLIGHT
TZOFFSETFROM:-0500
TZOFFSETTO:-0400
TZNAME:EDT
DTSTART:20180311T070000
END:DAYLIGHT
BEGIN:STANDARD
TZOFFSETFROM:-0400
TZOFFSETTO:-0500
TZNAME:EST
DTSTART:20181104T060000
END:STANDARD
BEGIN:DAYLIGHT
TZOFFSETFROM:-0500
TZOFFSETTO:-0400
TZNAME:EDT
DTSTART:20190310T070000
END:DAYLIGHT
BEGIN:STANDARD
TZOFFSETFROM:-0400
TZOFFSETTO:-0500
TZNAME:EST
DTSTART:20191103T060000
END:STANDARD
BEGIN:DAYLIGHT
TZOFFSETFROM:-0500
TZOFFSETTO:-0400
TZNAME:EDT
DTSTART:20200308T070000
END:DAYLIGHT
BEGIN:STANDARD
TZOFFSETFROM:-0400
TZOFFSETTO:-0500
TZNAME:EST
DTSTART:20201101T060000
END:STANDARD
END:VTIMEZONE
BEGIN:VEVENT
DTSTART;TZID=America/Toronto:20190201T090000
DTEND;TZID=America/Toronto:20190201T110000
DTSTAMP:20260420T023739
CREATED:20180613T153840Z
LAST-MODIFIED:20180913T130604Z
UID:18959-1549011600-1549018800@socialwork.utoronto.ca
SUMMARY:Year 1 Field Instructor PD session - Reviewing Beginnings and Learning Contracts
DESCRIPTION:
URL:https://socialwork.utoronto.ca/event/year-1-field-instructor-pd-session-reviewing-beginnings-and-learning-contracts/
LOCATION:Ontario
CATEGORIES:Practicum
END:VEVENT
BEGIN:VEVENT
DTSTART;TZID=America/Toronto:20190208T090000
DTEND;TZID=America/Toronto:20190208T113000
DTSTAMP:20260420T023739
CREATED:20180613T160053Z
LAST-MODIFIED:20180627T154754Z
UID:18965-1549616400-1549625400@socialwork.utoronto.ca
SUMMARY:Year 1 Field Instructor/Student PD session - Power and Authority
DESCRIPTION:
URL:https://socialwork.utoronto.ca/event/year-1-field-instructor-student-pd-session-power-and-authority/
LOCATION:Ontario
CATEGORIES:Practicum
END:VEVENT
BEGIN:VEVENT
DTSTART;TZID=America/Toronto:20190208T110000
DTEND;TZID=America/Toronto:20190208T130000
DTSTAMP:20260420T023739
CREATED:20180613T160309Z
LAST-MODIFIED:20180627T154739Z
UID:18967-1549623600-1549630800@socialwork.utoronto.ca
SUMMARY:Year 1 Field Instructor PD session - Conflict and Its Resolution
DESCRIPTION:
URL:https://socialwork.utoronto.ca/event/year-1-field-instructor-pd-session-conflict-and-its-resolution/
LOCATION:Ontario
CATEGORIES:Practicum
END:VEVENT
BEGIN:VEVENT
DTSTART;TZID=America/Toronto:20190212T120000
DTEND;TZID=America/Toronto:20190212T131500
DTSTAMP:20260420T023739
CREATED:20181205T162027Z
LAST-MODIFIED:20190212T141739Z
UID:20190-1549972800-1549977300@socialwork.utoronto.ca
SUMMARY:CANCELLED - Panel:  Me? A Field Instructor???
DESCRIPTION:DUE TO INCLEMENT WEATHER\, THIS EVENT HAS BEEN CANCELLED \nThis lunchtime panel discussion is open to all FIFSW MSW students. \nPizza lunch provided. \n 
URL:https://socialwork.utoronto.ca/event/panel-me-a-field-instructor/
LOCATION:FIFSW\, 246 Bloor Street W.\, Toronto\, ON\, M5S 1V4\, Canada
CATEGORIES:Practicum,Students
END:VEVENT
BEGIN:VEVENT
DTSTART;TZID=America/Toronto:20190226T120000
DTEND;TZID=America/Toronto:20190226T130000
DTSTAMP:20260420T023739
CREATED:20180613T160413Z
LAST-MODIFIED:20180627T154716Z
UID:18969-1551182400-1551186000@socialwork.utoronto.ca
SUMMARY:Year 2/Adv FFL-Student meeting #4
DESCRIPTION:
URL:https://socialwork.utoronto.ca/event/year-2-adv-ffl-student-meeting-4/
LOCATION:Ontario
CATEGORIES:Practicum
END:VEVENT
BEGIN:VEVENT
DTSTART;TZID=America/Toronto:20190226T120000
DTEND;TZID=America/Toronto:20190226T133000
DTSTAMP:20260420T023739
CREATED:20190125T220504Z
LAST-MODIFIED:20190205T163642Z
UID:20426-1551182400-1551187800@socialwork.utoronto.ca
SUMMARY:Student Info Session:  Competitive Practicums Q&A
DESCRIPTION:An opportunity to learn about competitive practicums and practicums located outside Toronto with Miri Ben-Dat\, Practicum Coordinator. \n(pizza provided; registration required)
URL:https://socialwork.utoronto.ca/event/20426/
LOCATION:FIFSW\, 246 Bloor Street W.\, Toronto\, ON\, M5S 1V4\, Canada
CATEGORIES:Practicum,Students
END:VEVENT
BEGIN:VEVENT
DTSTART;TZID=America/Toronto:20190228T180000
DTEND;TZID=America/Toronto:20190228T190000
DTSTAMP:20260420T023739
CREATED:20181107T212357Z
LAST-MODIFIED:20181107T212357Z
UID:20067-1551376800-1551380400@socialwork.utoronto.ca
SUMMARY:Alumni Association February Meeting
DESCRIPTION:All alumni of the Factor-Inwentash Faculty of Social Work are welcome to get involved and attend the Alumni Association’s monthly meetings held at the Faculty. Meetings begin at 6pm and generally run for 1 to 1.5 hours. \nKindly RSVP to alumni.fsw@utoronto.ca to join in person or via teleconference (Faculty room number/teleconferencing details will be confirmed upon RSVP).
URL:https://socialwork.utoronto.ca/event/alumni-association-feb-2019/
LOCATION:Ontario
CATEGORIES:Alumni
END:VEVENT
END:VCALENDAR