BEGIN:VCALENDAR
VERSION:2.0
PRODID:-//Factor-Inwentash Faculty of Social Work - ECPv6.15.20//NONSGML v1.0//EN
CALSCALE:GREGORIAN
METHOD:PUBLISH
X-WR-CALNAME:Factor-Inwentash Faculty of Social Work
X-ORIGINAL-URL:https://socialwork.utoronto.ca
X-WR-CALDESC:Events for Factor-Inwentash Faculty of Social Work
REFRESH-INTERVAL;VALUE=DURATION:PT1H
X-Robots-Tag:noindex
X-PUBLISHED-TTL:PT1H
BEGIN:VTIMEZONE
TZID:America/Toronto
BEGIN:DAYLIGHT
TZOFFSETFROM:-0500
TZOFFSETTO:-0400
TZNAME:EDT
DTSTART:20180311T070000
END:DAYLIGHT
BEGIN:STANDARD
TZOFFSETFROM:-0400
TZOFFSETTO:-0500
TZNAME:EST
DTSTART:20181104T060000
END:STANDARD
BEGIN:DAYLIGHT
TZOFFSETFROM:-0500
TZOFFSETTO:-0400
TZNAME:EDT
DTSTART:20190310T070000
END:DAYLIGHT
BEGIN:STANDARD
TZOFFSETFROM:-0400
TZOFFSETTO:-0500
TZNAME:EST
DTSTART:20191103T060000
END:STANDARD
BEGIN:DAYLIGHT
TZOFFSETFROM:-0500
TZOFFSETTO:-0400
TZNAME:EDT
DTSTART:20200308T070000
END:DAYLIGHT
BEGIN:STANDARD
TZOFFSETFROM:-0400
TZOFFSETTO:-0500
TZNAME:EST
DTSTART:20201101T060000
END:STANDARD
END:VTIMEZONE
BEGIN:VEVENT
DTSTART;TZID=America/Toronto:20190108T120000
DTEND;TZID=America/Toronto:20190108T130000
DTSTAMP:20260419T214304
CREATED:20180613T153724Z
LAST-MODIFIED:20180627T154849Z
UID:18957-1546948800-1546952400@socialwork.utoronto.ca
SUMMARY:Year 1 FFL-Student meeting #1
DESCRIPTION:
URL:https://socialwork.utoronto.ca/event/year-1-ffl-student-meeting-1/
LOCATION:Ontario
CATEGORIES:Practicum
END:VEVENT
BEGIN:VEVENT
DTSTART;TZID=America/Toronto:20190114T120000
DTEND;TZID=America/Toronto:20190114T131500
DTSTAMP:20260419T214304
CREATED:20190109T152153Z
LAST-MODIFIED:20190109T152153Z
UID:20354-1547467200-1547471700@socialwork.utoronto.ca
SUMMARY:Fields of Study Info Session 2019
DESCRIPTION:In Year Two of the MSW Program\, students complete program requirements within one Field of Study. This information session led by the Field of Study Coordinators is an opportunity to familiarize yourself with the options. \nMonday\, January 14\, 2019\n12:00-1:15pm\nRamsay Wright Laboratories\n25 Harbord St.\, Room 117 \n  \nInformation sheets on the Fields of Studies: https://socialwork.utoronto.ca/programs/msw-programs/#field \nSelection Form available: https://socialwork.utoronto.ca/current-students/forms/ \n  \nChildren and their Families – Prof. Susan Stern\nHuman Services Management and Leadership – Prof. Micheal Shier\nMental Health and Health – Prof. Eunjung Lee\nSocial Work in Gerontology – Prof. David Burnes\nSocial Justice and Diversity – Prof. Stephanie Begun
URL:https://socialwork.utoronto.ca/event/fields-of-study-info-session-2019/
LOCATION:25 Harbord St.\, Canada
CATEGORIES:Students
END:VEVENT
BEGIN:VEVENT
DTSTART;TZID=America/Toronto:20190114T121500
DTEND;TZID=America/Toronto:20190114T131500
DTSTAMP:20260419T214304
CREATED:20180726T170623Z
LAST-MODIFIED:20180726T170623Z
UID:19228-1547468100-1547471700@socialwork.utoronto.ca
SUMMARY:Practicum Advisory Committee (PAC) meeting
DESCRIPTION:The Practicum Advisory Committee (PAC) is a permanent\, independent committee to address practicum issues with constituency representation from students\, field instructors\, faculty\, and Practicum Office (PO).  The committee\, where applicable\, can make recommendations to the Practicum Office.  The committee will be Open; any constituency member can attend and participate. \n 
URL:https://socialwork.utoronto.ca/event/practicum-advisory-committee-pac-meeting-16-2-2/
LOCATION:FIFSW\, 246 Bloor Street W.\, Toronto\, ON\, M5S 1V4\, Canada
CATEGORIES:Practicum
END:VEVENT
BEGIN:VEVENT
DTSTART;TZID=America/Toronto:20190114T180000
DTEND;TZID=America/Toronto:20190114T200000
DTSTAMP:20260419T214304
CREATED:20190205T184205Z
LAST-MODIFIED:20190205T184205Z
UID:20486-1547488800-1547496000@socialwork.utoronto.ca
SUMMARY:FIFSW Alumni Association Book Club - January 2019
DESCRIPTION:Please join the Alumni Association for their second book club meeting of the year. The Alumni Association Book Club meets on a bi-monthly basis (November\, January\, March\, May) to delve into a selection of hand-picked novels\, memoirs\, and non-fiction from a variety of talented authors. \n**Registration required**
URL:https://socialwork.utoronto.ca/event/alumni-association-book-club-january-2019/
LOCATION:Ontario
CATEGORIES:Alumni
END:VEVENT
BEGIN:VEVENT
DTSTART;TZID=America/Toronto:20190115T121500
DTEND;TZID=America/Toronto:20190115T132000
DTSTAMP:20260419T214304
CREATED:20190110T214034Z
LAST-MODIFIED:20190110T214034Z
UID:20361-1547554500-1547558400@socialwork.utoronto.ca
SUMMARY:Medical Assistance in Dying (MAID) and Social Work
DESCRIPTION:Tuesday\, Jan. 15\, 2019\n12:15-1:20pm\nSocial Work Building\, Room 418\nNo registration required \nJoin us for a discussion on the provision of MAID since the passing of legislation in Canada on June 17\, 2016 using the experiences of University Health Network as a base\, while highlighting the key areas where Social Work’s provision of care may align with MAID and reflect on personal values versus professional obligations. \n  \nFacilitated by Karen Martin\, MSW RSW\, Chief Practice Information Officer (CPIO) & Senior Director Health Professions & Practice Innovation for Collaborative Academic Practice University Health Network (UHN). \nAs Senior Director\, Health Professions and Practice Innovation within UHN’s Collaborative Academic Practice (CAP) Portfolio\, Karen provides strategic direction for 16 health professions across the organization. Through her leadership of the Director of Practice-Based Education and the Directors of Professional Practice\, Karen is responsible for creating and executing a clinical practice transformation mandate focused on best practice standardization and implementation across all of UHN’s Hospital locations: Toronto General Hospital\, Toronto Western Hospital\, Princess Margaret Cancer Centre and Toronto Rehabilitation Institute. Within CAP\, Karen also holds organizational responsibility for the Academic Affairs\, Research and Innovation portfolio which builds\, supports and sustains research and innovation capacity for health care practitioners at UHN. Additionally Karen maintains operational accountabilities for a number of corporate services at UHN and leads CAP’s Strategy and Transformation team in the provision of strategic planning.
URL:https://socialwork.utoronto.ca/event/maid-and-social-work-2019/
LOCATION:Ontario
CATEGORIES:Students
END:VEVENT
BEGIN:VEVENT
DTSTART;TZID=America/Toronto:20190124T180000
DTEND;TZID=America/Toronto:20190124T190000
DTSTAMP:20260419T214304
CREATED:20181107T212143Z
LAST-MODIFIED:20181107T212143Z
UID:20063-1548352800-1548356400@socialwork.utoronto.ca
SUMMARY:Alumni Association January Meeting
DESCRIPTION:All alumni of the Factor-Inwentash Faculty of Social Work are welcome to get involved and attend the Alumni Association’s monthly meetings held at the Faculty. Meetings begin at 6pm and generally run for 1 to 1.5 hours. \nKindly RSVP to alumni.fsw@utoronto.ca to join in person or via teleconference (Faculty room number/teleconferencing details will be confirmed upon RSVP).
URL:https://socialwork.utoronto.ca/event/alumni-association-jan-2019/
LOCATION:Ontario
CATEGORIES:Alumni
END:VEVENT
BEGIN:VEVENT
DTSTART;TZID=America/Toronto:20190129T120000
DTEND;TZID=America/Toronto:20190129T130000
DTSTAMP:20260419T214304
CREATED:20180613T153930Z
LAST-MODIFIED:20180627T154807Z
UID:18961-1548763200-1548766800@socialwork.utoronto.ca
SUMMARY:Year 1 FFL-Student meeting #2
DESCRIPTION:
URL:https://socialwork.utoronto.ca/event/year-1-ffl-student-meeting-2/
LOCATION:Ontario
CATEGORIES:Practicum
END:VEVENT
BEGIN:VEVENT
DTSTART;TZID=America/Toronto:20190129T120000
DTEND;TZID=America/Toronto:20190129T131500
DTSTAMP:20260419T214304
CREATED:20190128T162859Z
LAST-MODIFIED:20190129T174209Z
UID:20443-1548763200-1548767700@socialwork.utoronto.ca
SUMMARY:OCSWSSW Information Session 2019
DESCRIPTION:Your future in Social Work\nWhy Registration is your next step: It’s the law in Ontario \n  \nAll students are encouraged to attend this information session \nThis session provides an introduction to the Ontario College of Social Workers and Social Service Workers and the regulations related to the practice of social work in Ontario. \nTuesday\, January 29\, 2019\n12:00pm to 1:15pm\nROOM CHANGE TO SOCIAL WORK BUILDING\, 3RD FLOOR STUDENT LOUNGE \nPresented by the Ontario College of Social Workers and Social Service Workers \nJennifer Burt-Yanoff (MSW\, RSW) is the professional practice associate\, in her role she responds to practice inquiries from members\, employers and the public. She provides presentations on behalf of the College to members\, educators\, social work and social service work students on a range of issues impacting practice. Jennifer contributes to the interpretation of the College’s Code of Ethics and Standards of Practice and the articulation of their relationship to ongoing practice. She also contributes to policy development and provides support to members concerning the Continuing Competence Program.
URL:https://socialwork.utoronto.ca/event/ocswssw-info-session-2019/
LOCATION:Ontario
CATEGORIES:Students
END:VEVENT
END:VCALENDAR