BEGIN:VCALENDAR
VERSION:2.0
PRODID:-//Factor-Inwentash Faculty of Social Work - ECPv6.15.20//NONSGML v1.0//EN
CALSCALE:GREGORIAN
METHOD:PUBLISH
X-ORIGINAL-URL:https://socialwork.utoronto.ca
X-WR-CALDESC:Events for Factor-Inwentash Faculty of Social Work
REFRESH-INTERVAL;VALUE=DURATION:PT1H
X-Robots-Tag:noindex
X-PUBLISHED-TTL:PT1H
BEGIN:VTIMEZONE
TZID:America/Toronto
BEGIN:DAYLIGHT
TZOFFSETFROM:-0500
TZOFFSETTO:-0400
TZNAME:EDT
DTSTART:20170312T070000
END:DAYLIGHT
BEGIN:STANDARD
TZOFFSETFROM:-0400
TZOFFSETTO:-0500
TZNAME:EST
DTSTART:20171105T060000
END:STANDARD
BEGIN:DAYLIGHT
TZOFFSETFROM:-0500
TZOFFSETTO:-0400
TZNAME:EDT
DTSTART:20180311T070000
END:DAYLIGHT
BEGIN:STANDARD
TZOFFSETFROM:-0400
TZOFFSETTO:-0500
TZNAME:EST
DTSTART:20181104T060000
END:STANDARD
BEGIN:DAYLIGHT
TZOFFSETFROM:-0500
TZOFFSETTO:-0400
TZNAME:EDT
DTSTART:20190310T070000
END:DAYLIGHT
BEGIN:STANDARD
TZOFFSETFROM:-0400
TZOFFSETTO:-0500
TZNAME:EST
DTSTART:20191103T060000
END:STANDARD
END:VTIMEZONE
BEGIN:VEVENT
DTSTART;TZID=America/Toronto:20180905T083000
DTEND;TZID=America/Toronto:20180905T153000
DTSTAMP:20260422T001756
CREATED:20180902T160811Z
LAST-MODIFIED:20180902T160811Z
UID:19335-1536136200-1536161400@socialwork.utoronto.ca
SUMMARY:MSW Student Orientation September 2018
DESCRIPTION:Full Agenda\n8:30-11:45am – George Ignatieff Theatre\, 15 Devonshire Place \nNoon-3:30pm – FIFSW\, 246 Bloor St. West
URL:https://socialwork.utoronto.ca/event/msw-student-orientation-2018/
CATEGORIES:Students
END:VEVENT
BEGIN:VEVENT
DTSTART;VALUE=DATE:20180906
DTEND;VALUE=DATE:20180908
DTSTAMP:20260422T001756
CREATED:20180902T161959Z
LAST-MODIFIED:20180905T194553Z
UID:19342-1536192000-1536364799@socialwork.utoronto.ca
SUMMARY:PhD Student Orientation 2018
DESCRIPTION:Full agenda \nSeptember 6 and 7\, 2018\nFIFSW\, 246 Bloor St. West
URL:https://socialwork.utoronto.ca/event/phd-student-orientation-2018/
CATEGORIES:Students
END:VEVENT
BEGIN:VEVENT
DTSTART;TZID=America/Toronto:20180906T083000
DTEND;TZID=America/Toronto:20180907T160000
DTSTAMP:20260422T001756
CREATED:20180902T161319Z
LAST-MODIFIED:20180902T161707Z
UID:19337-1536222600-1536336000@socialwork.utoronto.ca
SUMMARY:Introduction to Social Work Conference 2018
DESCRIPTION:Full Agenda\nFor incoming students in Year 1 of the 2-year MSW Program only\nSeptember 6 and 7\, 2018\n8:30am-4:00pm\nHart House\, The Great Hall
URL:https://socialwork.utoronto.ca/event/introduction-to-social-work-conference-2018/
CATEGORIES:Students
END:VEVENT
BEGIN:VEVENT
DTSTART;TZID=America/Toronto:20180911T121500
DTEND;TZID=America/Toronto:20180911T131500
DTSTAMP:20260422T001756
CREATED:20180416T200646Z
LAST-MODIFIED:20180613T153253Z
UID:18317-1536668100-1536671700@socialwork.utoronto.ca
SUMMARY:Year 2/Adv FFL-Student meeting #1
DESCRIPTION:
URL:https://socialwork.utoronto.ca/event/year-2-adv-standing-student-ffl-meeting-1/
LOCATION:FIFSW\, 246 Bloor Street W.\, Toronto\, ON\, M5S 1V4\, Canada
CATEGORIES:Practicum
END:VEVENT
BEGIN:VEVENT
DTSTART;VALUE=DATE:20180914
DTEND;VALUE=DATE:20180916
DTSTAMP:20260422T001756
CREATED:20180902T162922Z
LAST-MODIFIED:20180902T162922Z
UID:19344-1536883200-1537055999@socialwork.utoronto.ca
SUMMARY:MSW-ITR Student Orientation
DESCRIPTION:Friday\, September 14\, 2018\n9:00 am- 5:00 pm\nFIFSW\, 246 Bloor St. West\n7th floor \nSaturday\, September 15\, 2018\n2:00-5:00 pm\nOFIFC\, 219 Front St. East
URL:https://socialwork.utoronto.ca/event/msw-itr-student-orientation/
CATEGORIES:Students
END:VEVENT
BEGIN:VEVENT
DTSTART;TZID=America/Toronto:20180917T121500
DTEND;TZID=America/Toronto:20180917T131500
DTSTAMP:20260422T001756
CREATED:20180726T170506Z
LAST-MODIFIED:20180726T170506Z
UID:19224-1537186500-1537190100@socialwork.utoronto.ca
SUMMARY:Practicum Advisory Committee (PAC) meeting
DESCRIPTION:The Practicum Advisory Committee (PAC) is a permanent\, independent committee to address practicum issues with constituency representation from students\, field instructors\, faculty\, and Practicum Office (PO).  The committee\, where applicable\, can make recommendations to the Practicum Office.  The committee will be Open; any constituency member can attend and participate. \n 
URL:https://socialwork.utoronto.ca/event/practicum-advisory-committee-pac-meeting-16/
LOCATION:FIFSW\, 246 Bloor Street W.\, Toronto\, ON\, M5S 1V4\, Canada
CATEGORIES:Practicum
END:VEVENT
BEGIN:VEVENT
DTSTART;TZID=America/Toronto:20180928T090000
DTEND;TZID=America/Toronto:20180928T110000
DTSTAMP:20260422T001756
CREATED:20180716T200347Z
LAST-MODIFIED:20180920T193405Z
UID:19170-1538125200-1538132400@socialwork.utoronto.ca
SUMMARY:Using the Medicine Wheel to Transform Indigenous Peoples' Health
DESCRIPTION:Friday\, September 28\, 2018\n9:00-11:00 am\nFIFSW\, 246 Bloor St. West\nRoom 548 \nThe Medicine Wheel is a symbol used to represent wholeness\, balance\, and the natural cycles of life. The Medicine Wheel consists of a circle with four quadrants: spiritual\, mental\, physical\, and emotional. This talk shares how the health of Indigenous Peoples might be transformed by organizing the Medicine Wheel to address the needs of Indigenous Peoples’ microbiome; understanding the genes they may inherit and how to positively inﬂuence their expression; and how to engage in “self-directed neuroplasticity” using mindfulness and traditional Indigenous contemplative practices. \nDr. Michael Yellow Bird is a Professor of Sociology and the Director of Indigenous Tribal Studies at North Dakota State University. He is a citizen of the Three Aﬃliated Tribes\, (Mandan\, Hidatsa\, and Arikara) and joined North Dakota State University as faculty in the fall of 2014. \nHe has held faculty appointments in the Schools of Social Work at the University of British Columbia\, University of Kansas\, Arizona State University\, and Humboldt State University. His teaching\, writing\, research\, professional presentations\, and community work focus on Indigenous Peoples’ health; the eﬀects of colonization and methods of decolonization; neurodecolonization and mindfulness approaches; the connections between neuroscience\, microbiome science\, genetic science and Indigenous Peoples’ wellness; and ancestral lifestyles. \nRegister online: https://medicine-wheel-talk.eventbrite.ca \nThere is no registration fee.
URL:https://socialwork.utoronto.ca/event/using-the-medicine-wheel-to-transform-indigenous-peoples-health/
END:VEVENT
END:VCALENDAR