BEGIN:VCALENDAR
VERSION:2.0
PRODID:-//Factor-Inwentash Faculty of Social Work - ECPv6.15.20//NONSGML v1.0//EN
CALSCALE:GREGORIAN
METHOD:PUBLISH
X-ORIGINAL-URL:https://socialwork.utoronto.ca
X-WR-CALDESC:Events for Factor-Inwentash Faculty of Social Work
REFRESH-INTERVAL;VALUE=DURATION:PT1H
X-Robots-Tag:noindex
X-PUBLISHED-TTL:PT1H
BEGIN:VTIMEZONE
TZID:America/Toronto
BEGIN:DAYLIGHT
TZOFFSETFROM:-0500
TZOFFSETTO:-0400
TZNAME:EDT
DTSTART:20130310T070000
END:DAYLIGHT
BEGIN:STANDARD
TZOFFSETFROM:-0400
TZOFFSETTO:-0500
TZNAME:EST
DTSTART:20131103T060000
END:STANDARD
BEGIN:DAYLIGHT
TZOFFSETFROM:-0500
TZOFFSETTO:-0400
TZNAME:EDT
DTSTART:20140309T070000
END:DAYLIGHT
BEGIN:STANDARD
TZOFFSETFROM:-0400
TZOFFSETTO:-0500
TZNAME:EST
DTSTART:20141102T060000
END:STANDARD
BEGIN:DAYLIGHT
TZOFFSETFROM:-0500
TZOFFSETTO:-0400
TZNAME:EDT
DTSTART:20150308T070000
END:DAYLIGHT
BEGIN:STANDARD
TZOFFSETFROM:-0400
TZOFFSETTO:-0500
TZNAME:EST
DTSTART:20151101T060000
END:STANDARD
END:VTIMEZONE
BEGIN:VEVENT
DTSTART;TZID=America/Toronto:20140509T090000
DTEND;TZID=America/Toronto:20140509T110000
DTSTAMP:20260421T184725
CREATED:20140410T002641Z
LAST-MODIFIED:20140410T002641Z
UID:3791-1399626000-1399633200@socialwork.utoronto.ca
SUMMARY:Gerald Schamess Lecture
DESCRIPTION:Knowing\, Not Knowing and Muddling Through: Reflections on Therapeutic Process \nGerald Schamess\n  \nFriday\, May 9th\, 2014             \n9:00-11:00 am\nFIFSW\, Room 548 \n  \nKindly RSVP stating your affiliation to FIFSW to ka.williamson@utoronto.ca \n 
URL:https://socialwork.utoronto.ca/event/gerald-schamess-lecture/
END:VEVENT
BEGIN:VEVENT
DTSTART;TZID=America/Toronto:20140514T120000
DTEND;TZID=America/Toronto:20140514T133000
DTSTAMP:20260421T184725
CREATED:20140519T221312Z
LAST-MODIFIED:20140519T221312Z
UID:5045-1400068800-1400074200@socialwork.utoronto.ca
SUMMARY:M.S.W. Information Session - May 2014
DESCRIPTION:Designed for prospective applicants to learn more about the M.S.W. Program; admission requirements and application process. \n May 14\, 2014 – 12:00 to 1:30 p.m. \nFactor-Inwentash Faculty of Social Work \nUniversity of Toronto\n246 Bloor Street West\nLocation: Room 548 (5th Floor) \nRegister for a session at: \nhttp://mswinfosession.eventbrite.ca \nIf you require accomodation or have inquiries please contact Angela Umbrello at admissions.fsw@utoronto.ca
URL:https://socialwork.utoronto.ca/event/m-s-w-information-session/
LOCATION:FIFSW\, 246 Bloor Street W.\, Toronto\, ON\, M5S 1V4\, Canada
CATEGORIES:Admissions
END:VEVENT
BEGIN:VEVENT
DTSTART;TZID=America/Toronto:20140520T090000
DTEND;TZID=America/Toronto:20140520T170000
DTSTAMP:20260421T184725
CREATED:20140520T202728Z
LAST-MODIFIED:20140520T202728Z
UID:5072-1400576400-1400605200@socialwork.utoronto.ca
SUMMARY:Troubling the Space: Reflecting on Settler-Colonialism -Art Wall Installation
DESCRIPTION:Troubling the Space: Reflecting on Settler-Colonialism\nMay 20 to August 29\, 2014\nFIFSW\, Third Floor Art Wall \nConcept:  Jeffrey McNeil-Seymour and Nicole Bangloy \nArt & Design:  Jeffrey McNeil-Seymour and Nicole Bangloy \nTroubling the Space: Reflecting on Settler-Colonialism by Jeffrey McNeil-Seymour and Nicole Bangloy explores concepts of land\, settler-colonialism\, violence\, gender\, racism and decolonization. Jeffrey and Nicole’s art seeks to invite others to critically reflect on themselves\, and on the spaces in which they are visitors. ​ \nJeffrey and Nicole would like to acknowledge the traditional territories of the Anishinaabe\, Haudenosaunee\, and the Mississaugas of the New Credit.
URL:https://socialwork.utoronto.ca/event/art-wall-installation-troubling-the-space-reflecting-on-settler-colonialism/
LOCATION:FIFSW\, 246 Bloor Street W.\, Toronto\, ON\, M5S 1V4\, Canada
END:VEVENT
BEGIN:VEVENT
DTSTART;TZID=America/Toronto:20140528T180000
DTEND;TZID=America/Toronto:20140528T210000
DTSTAMP:20260421T184725
CREATED:20140410T002907Z
LAST-MODIFIED:20140410T002907Z
UID:3792-1401300000-1401310800@socialwork.utoronto.ca
SUMMARY:Alumni Association AGM 2014
DESCRIPTION:Alumni Association Annual General Meeting and Spring Reunion 2014\n  \nLearn… Reconnect… Enjoy… \nWednesday\, May 28\, 2014 \nFIFSW\, Room 702 and 7th Floor Lounge \n6:00 – 6:45 pm    Room 702 – FIFSW Annual General Meeting\n7:00 – 8:30 pm    7th Floor Reception (Wine and Refreshments) \nRSVP to alumni.fsw@utoronto.ca \n 
URL:https://socialwork.utoronto.ca/event/alumni-association-agm/
LOCATION:Claude Bissell Building\, 140 St. George Street\, Room 205\, Toronto\, Ontario\, Canada
CATEGORIES:Alumni
END:VEVENT
END:VCALENDAR