BEGIN:VCALENDAR
VERSION:2.0
PRODID:-//Factor-Inwentash Faculty of Social Work - ECPv6.15.20//NONSGML v1.0//EN
CALSCALE:GREGORIAN
METHOD:PUBLISH
X-WR-CALNAME:Factor-Inwentash Faculty of Social Work
X-ORIGINAL-URL:https://socialwork.utoronto.ca
X-WR-CALDESC:Events for Factor-Inwentash Faculty of Social Work
REFRESH-INTERVAL;VALUE=DURATION:PT1H
X-Robots-Tag:noindex
X-PUBLISHED-TTL:PT1H
BEGIN:VTIMEZONE
TZID:America/Toronto
BEGIN:DAYLIGHT
TZOFFSETFROM:-0500
TZOFFSETTO:-0400
TZNAME:EDT
DTSTART:20120311T070000
END:DAYLIGHT
BEGIN:STANDARD
TZOFFSETFROM:-0400
TZOFFSETTO:-0500
TZNAME:EST
DTSTART:20121104T060000
END:STANDARD
BEGIN:DAYLIGHT
TZOFFSETFROM:-0500
TZOFFSETTO:-0400
TZNAME:EDT
DTSTART:20130310T070000
END:DAYLIGHT
BEGIN:STANDARD
TZOFFSETFROM:-0400
TZOFFSETTO:-0500
TZNAME:EST
DTSTART:20131103T060000
END:STANDARD
BEGIN:DAYLIGHT
TZOFFSETFROM:-0500
TZOFFSETTO:-0400
TZNAME:EDT
DTSTART:20140309T070000
END:DAYLIGHT
BEGIN:STANDARD
TZOFFSETFROM:-0400
TZOFFSETTO:-0500
TZNAME:EST
DTSTART:20141102T060000
END:STANDARD
END:VTIMEZONE
BEGIN:VEVENT
DTSTART;TZID=America/Toronto:20130605T100000
DTEND;TZID=America/Toronto:20130605T120000
DTSTAMP:20260419T115122
CREATED:20140521T230959Z
LAST-MODIFIED:20140521T230959Z
UID:5154-1370426400-1370433600@socialwork.utoronto.ca
SUMMARY:June Convocation 2013
DESCRIPTION:MSW and PhD Convocation\nCongratulations to our graduates! \n  \nWenesday\, June 5\, 2013\n10:00am-Noon \nFor more information about the ceremony visit the Convocation Office website. \nThe FIFSW Alumni Association invite FIFSW graduates and their guests to a lunch reception immediately following the ceremony. \nKindly RSVP to fund.fsw@utoronto.ca or 416-978-4437 \nThe Faculty Club\nMain Floor Dining Room\n41 Willcocks Street
URL:https://socialwork.utoronto.ca/event/june-convocation-2013/
LOCATION:Convocation Hall\, 31 King's College Circle\, Toronto\, Ontario\, M5S 3G4\, Canada
END:VEVENT
END:VCALENDAR