BEGIN:VCALENDAR
VERSION:2.0
PRODID:-//Factor-Inwentash Faculty of Social Work - ECPv6.15.20//NONSGML v1.0//EN
CALSCALE:GREGORIAN
METHOD:PUBLISH
X-ORIGINAL-URL:https://socialwork.utoronto.ca
X-WR-CALDESC:Events for Factor-Inwentash Faculty of Social Work
REFRESH-INTERVAL;VALUE=DURATION:PT1H
X-Robots-Tag:noindex
X-PUBLISHED-TTL:PT1H
BEGIN:VTIMEZONE
TZID:America/Toronto
BEGIN:DAYLIGHT
TZOFFSETFROM:-0500
TZOFFSETTO:-0400
TZNAME:EDT
DTSTART:20210314T070000
END:DAYLIGHT
BEGIN:STANDARD
TZOFFSETFROM:-0400
TZOFFSETTO:-0500
TZNAME:EST
DTSTART:20211107T060000
END:STANDARD
BEGIN:DAYLIGHT
TZOFFSETFROM:-0500
TZOFFSETTO:-0400
TZNAME:EDT
DTSTART:20220313T070000
END:DAYLIGHT
BEGIN:STANDARD
TZOFFSETFROM:-0400
TZOFFSETTO:-0500
TZNAME:EST
DTSTART:20221106T060000
END:STANDARD
BEGIN:DAYLIGHT
TZOFFSETFROM:-0500
TZOFFSETTO:-0400
TZNAME:EDT
DTSTART:20230312T070000
END:DAYLIGHT
BEGIN:STANDARD
TZOFFSETFROM:-0400
TZOFFSETTO:-0500
TZNAME:EST
DTSTART:20231105T060000
END:STANDARD
END:VTIMEZONE
BEGIN:VEVENT
DTSTART;TZID=America/Toronto:20221006T190000
DTEND;TZID=America/Toronto:20221006T203000
DTSTAMP:20260423T135536
CREATED:20220902T202119Z
LAST-MODIFIED:20220916T131833Z
UID:38666-1665082800-1665088200@socialwork.utoronto.ca
SUMMARY:Racial Trauma: How Racism can cause PTSD\, with Monnica Williams | Janis Rotman Distinguished Lecture Series on Mental Wellness
DESCRIPTION:  \nPlease join us for a talk on mental wellness by Dr. Monnica Williams entitled “Racial Trauma: How racism can cause PTSD.” \nWhen: Thursday\, October 6th | 7:00pm – 8:30pm (Doors open at 6:30pm)\nWhere: In person – Innis Town Hall Theatre\, 2 Sussex Ave\, Toronto\, ON M5S 1J5 \n> Register here\nNOTE: Thank you to everyone who has registered for this event! Currently\, all available tickets have been reserved.  \nWe have now opened our wait list\, which we encourage new registrants to join. If a ticket becomes available you will be notified.  \nIf you have already successfully registered for a ticket but have since learned that you will not be able to join us\, please log into your eventbrite account and cancel your order to make space for someone on the wait list who can attend. \n\nAbout this event: \nInspired by the support of Janis Rotman\, the Factor-Inwentash Faculty of Social Work has established a new annual speaker series: The Janis Rotman Distinguished Lecture Series on Mental Wellness. The annual keynote address by a leading researcher\, practitioner\, or educator will provide insight into topics such as innovations in culturally attuned mental health services\, social work’s role in addressing widening mental health disparities\, the impact of community-based care and other contemporary concerns at the intersection of social work and mental health. \nWe are delighted to have Dr. Monnica Williams as our keynote speaker for the inaugural Janis Rotman Distinguished Lecture Series on Mental Wellness. \nSpeaker Bio: \nMonnica Williams\, Ph.D. is a board-certified\, licensed clinical psychologist\, specializing in cognitive-behavioral therapies. She was named one of the top 25 thought leaders in PTSD by PTSD Journal and one of the 16 most influential women shaping the future of psychedelics by Business Insider. She is an Associate Professor in the School of Psychology at the University of Ottawa\, Canada Research Chair in Mental Health Disparities\, and Director of the Laboratory for Culture and Mental Health Disparities. She is also the Clinical Director of the Behavioral Wellness Clinic\, LLC in Tolland\, Connecticut\, and she has founded clinics in Kentucky\, Virginia\, and Pennsylvania. She has published over 100 peer-reviewed articles\, as well as many book chapters and scientific reports\, with a focus on anxiety-related conditions and cultural differences\, including articles about therapeutic best practices. \nAbout the Talk: \nPosttraumatic stress disorder (PTSD) describes the constellation of symptoms that may occur after experiencing or witnessing a traumatic event. Anyone exposed to traumatic event is at risk to develop PTSD\, and this typically includes survivors of violent acts or disasters\, emergency responders\, abuse victims\, and combat veterans. However\, many other events can be traumatic as well\, particularly to people of colour. \nThis presentation will provide an overview of the cultural factors relevant for racialized groups\, with an emphasis on understanding PTSD caused by experiences of racism\, or racial trauma. The various facets of racial trauma will be described\, including the experience of historical\, cultural\, and individual trauma\, and how these may or may not fit into a traditional mental health framework. \n> Register here
URL:https://socialwork.utoronto.ca/event/racial-trauma-how-racism-can-cause-ptsd-with-monnica-williams-janis-roman-distinguished-lecture-series-on-mental-wellness/
LOCATION:Innis Town Hall\, 2 Sussex Avenue\, Toronto\, Ontario\, M5S 1J5
CATEGORIES:Alumni,Public,Students
END:VEVENT
BEGIN:VEVENT
DTSTART;TZID=America/Toronto:20221012T120000
DTEND;TZID=America/Toronto:20221012T131500
DTSTAMP:20260423T135536
CREATED:20220913T141506Z
LAST-MODIFIED:20220913T141610Z
UID:38887-1665576000-1665580500@socialwork.utoronto.ca
SUMMARY:World Hospice and Palliative Care Day Special Lecture
DESCRIPTION:The National Initiative for the Care of the Elderly (NICE) – in collaboration with the Palliative Care ECHO Project and the Institute for Life Course and Aging (ILCA) at the University of Toronto – is hosting the World Hospice and Palliative Care Day Special Lecture as a way to honor international leaders in the field of hospice palliative care and to provide a platform to spread hospice and palliative care awareness/knowledge. \nThis online talk will highlight public health developments in palliative care and link them to the theme of Healing Hearts and Communities. \nPresenter: \nAllan Kellehear\, PhD\, Clinical Professor\, College of Nursing and Health Sciences\, University of Vermont and Co-Founder and Inaugural President of Public Health Palliative Care International (PHPCI) \n> Learn more and register
URL:https://socialwork.utoronto.ca/event/world-hospice-and-palliative-care-day-special-lecture/
CATEGORIES:Public
END:VEVENT
BEGIN:VEVENT
DTSTART;TZID=America/Toronto:20221012T183000
DTEND;TZID=America/Toronto:20221012T200000
DTSTAMP:20260423T135536
CREATED:20220923T153635Z
LAST-MODIFIED:20221003T153038Z
UID:39088-1665599400-1665604800@socialwork.utoronto.ca
SUMMARY:Somatic Experiencing © & Indigenous Ways: Strengthening trauma-informed care & practice
DESCRIPTION:Alumni\, students\, faculty and members of the public are invited to the first lecture in the Factor-Inwentash Faculty of Social Work Alumni Association’s 2022-2023 Alumni Series. \nWe will be joined by Anita Charleson-Touchie in her talk titled\, “Somatic Experiencing © & Indigenous Ways: Strengthening trauma-informed care & practice.” \nDate: Wednesday\, October 12\, 2022 \nTime: 6:30pm—8:00pm EST \nLocation: Zoom \nRegister here \nAll are welcome to attend. \nAbout the talk: \nIn this presentation\, Anita will explore trauma from two worlds: an Indigenous & western scientific Somatic Experiencing lens. She will highlight key concepts; examine the impact that trauma has on self\, family\, community\, and culture; and provide an overview of trauma sensitive practice. \nAbout Anita Charleson-Touchie: \nMy name is Anita Charleson-Touchie. My cultural name is Speaks with a Sea Serpent’s Tongue. I am Nuu-chah-nulth from the west coast of Vancouver Island\, BC. My husband is Tyson Touchie and we have 6 children and 3 grandchildren. I have a Master’s Degree in Counselling Psychology from the University of Victoria; I have trained with respected elders in methods of Indigenous healing; and I have interned with Jane Middelton-Moz. I have been working in mental health assisting individuals\, families\, and communities for over 20 years. I am a cultural facilitator\, a Somatic Experiencing® Practitioner and a Certified Canadian Counsellor. I value and utilize a combination of clinical and cultural approaches in helping individuals\, families\, and communities heal trauma. \nI am a sessional Lecturer with the University of Toronto’s Factor-Inwentash MSW in Indigenous Trauma and Resiliency program. I am sole proprietor of Tiichmis Wellness (In Nuu-chah-nulth\, Tiichmis means life and all that life has to offer).
URL:https://socialwork.utoronto.ca/event/fifsw-alumni-anita-charleson-touchie/
CATEGORIES:Alumni,Public,Students
END:VEVENT
BEGIN:VEVENT
DTSTART;TZID=America/Toronto:20221026T120000
DTEND;TZID=America/Toronto:20221026T130000
DTSTAMP:20260423T135536
CREATED:20221024T165913Z
LAST-MODIFIED:20221024T165913Z
UID:39717-1666785600-1666789200@socialwork.utoronto.ca
SUMMARY:Group narrative therapy for legacy building\, and wisdom rediscovery among older adults in Asian communities: A randomized control trial
DESCRIPTION:October 26\, 2022\, 12 – 1pm \nGROUP NARRATIVE THERAPY FOR LEGACY BUILDING\, AND WISDOM REDISCOVERY AMONG OLDER ADULTS IN ASIAN COMMUNITIES: A RANDOMIZED CONTROL TRIAL \nPresented by the Institute for Life Course and Aging (ILCA) \nDr. Esther ChowAssociate Professor\, City University of Hong Kong \n\n\n\nThis seminar will present the latest findings of the applications of Group Narrative Therapy (NT) among the older adults using a “Tree of Life” (ToL) metaphor. To recognize\, and rejuvenate the life wisdom of Hong Kong Chinese older adults\, a four-session strength- and meaning-based NT in group practice is developed\, with two objectives: to examine its effectiveness in enhancing wisdom\, and building legacy; and to test the longer-term effects. \nThe findings have significant theoretical contributions for professional social work practice to ground a new theory in understanding wisdom in older adulthood\, develop a new clinical practice that appreciate and celebrate life wisdom\, and a practice guide to be disseminated among health and social care practitioners. \nDr. Esther Chow is an associate professor\, at City University of Hong Kong. She received MSW and PhD from University of Hong Kong\, and a postgraduate degree in Narrative Therapy and Community Work from the University of Melbourne and Dulwich Centre\, Australia. She is committed to infusing strengths-and meaning-based perspective in sharing knowledge\, and striving for excellence in research scholarship\, dissemination and transfer of knowledge through teaching and collaborative practice in applying narrative therapy (NT) with individuals\, families\, and community. She investigates the impacts of NT on diverse groups\, including social work and counselling students (2015- 2019)\, older adults encountering developmental changes (2016-18)\, older stroke survivors (Chow\, 2011; 2013; 2014; 2017; 2018)\, persons living with chronic pain (2016-17)\, informal carers of mentally challenged (2020)\, and those going through grieving (2017-2020) in the contexts of higher education\, health\, social and community care services in Hong Kong. She published widely in Social Work and Gerontology journals\, such as BMC Geriatrics\, Social Sciences and Medicine\, Innovative in Aging\, Clinical Rehabilitation\, Research on Social Work Practice\, Mental Health and Aging and the like. In recognitions of her contributions to the field of gerontological studies and social services\, she has received excellence in Knowledge Transfer Award by City University of Hong Kong (2021 & 2013)\, and been named as a Fellow of Gerontological Society of America (2015)\, a CADENZA fellow by Hong Kong Jockey Club Charities Trust (2008)\, and a Honorary Research Fellow of Sau Po Centre on Aging\, HKU. \n\n\n\n\n\n\nPlease RSVP to aging@utoronto.ca \n\n\n\nFLYERZOOM link
URL:https://socialwork.utoronto.ca/event/group-narrative-therapy-for-legacy-building-and-wisdom-rediscovery-among-older-adults-in-asian-communities-a-randomized-control-trial/
LOCATION:zoom
CATEGORIES:Alumni,Public
END:VEVENT
END:VCALENDAR