BEGIN:VCALENDAR
VERSION:2.0
PRODID:-//Factor-Inwentash Faculty of Social Work - ECPv6.15.20//NONSGML v1.0//EN
CALSCALE:GREGORIAN
METHOD:PUBLISH
X-ORIGINAL-URL:https://socialwork.utoronto.ca
X-WR-CALDESC:Events for Factor-Inwentash Faculty of Social Work
REFRESH-INTERVAL;VALUE=DURATION:PT1H
X-Robots-Tag:noindex
X-PUBLISHED-TTL:PT1H
BEGIN:VTIMEZONE
TZID:America/Toronto
BEGIN:DAYLIGHT
TZOFFSETFROM:-0500
TZOFFSETTO:-0400
TZNAME:EDT
DTSTART:20240310T070000
END:DAYLIGHT
BEGIN:STANDARD
TZOFFSETFROM:-0400
TZOFFSETTO:-0500
TZNAME:EST
DTSTART:20241103T060000
END:STANDARD
BEGIN:DAYLIGHT
TZOFFSETFROM:-0500
TZOFFSETTO:-0400
TZNAME:EDT
DTSTART:20250309T070000
END:DAYLIGHT
BEGIN:STANDARD
TZOFFSETFROM:-0400
TZOFFSETTO:-0500
TZNAME:EST
DTSTART:20251102T060000
END:STANDARD
BEGIN:DAYLIGHT
TZOFFSETFROM:-0500
TZOFFSETTO:-0400
TZNAME:EDT
DTSTART:20260308T070000
END:DAYLIGHT
BEGIN:STANDARD
TZOFFSETFROM:-0400
TZOFFSETTO:-0500
TZNAME:EST
DTSTART:20261101T060000
END:STANDARD
END:VTIMEZONE
BEGIN:VEVENT
DTSTART;TZID=America/Toronto:20251117T121000
DTEND;TZID=America/Toronto:20251117T130000
DTSTAMP:20260422T064412
CREATED:20251031T143344Z
LAST-MODIFIED:20251031T144802Z
UID:60988-1763381400-1763384400@socialwork.utoronto.ca
SUMMARY:FIFSW Postdoc Talk: "The Evolution of State Fragility: Implications for Social Protection & Public Policy\," with Dr. Luissa Vahedi 
DESCRIPTION:Location: FIFSW Webinar Rm# 422\nRegister by November 13\nAll are welcome. \nAttendees are encouraged to attend in person; however a zoom link will be made available for those who can only attend virtually. If you wish to receive a zoom link to the talk\, please contact Vesna Bajic at vesna.bajic@utoronto.ca. \nJoin FIFSW for a talk by Postdoctoral fellow Dr. Luissa Vahedi\, who will share the concept of state fragility in global health through a decolonial lens\, combining critical theory with longitudinal analyses of global fragility metrics. \nDr. Louissa Vahedi \nAbout the talk\n\nSince the 1990s\, international institutions have labeled many low- and middle-income countries as “fragile states.” These labels shape how we study global health and design interventions\, yet they also carry hidden assumptions about who is capable of good governance and who is not. \nDr. Luissa Vahedi will challenge the neutrality of “fragility” as a concept. Drawing on the idea of damage-centered research\, she will show how measurement and classification systems created by international organizations don’t just describe fragility\, they help produce it. Dr. Vahedi will introduce a new\, globally applicable model of fragility that reveals how governance weaknesses appear across all countries\, not just those traditionally seen as fragile. Using longitudinal data\, she will trace how fragility has evolved worldwide\, uncovering surprising trends in high-income countries that force us to rethink what fragility means and where it resides. \nDr. Vahedi argues for a global health agenda built from the ground up\, one that recognizes hidden vulnerabilities everywhere and reimagines fragility as a shared\, systemic condition rather than a label reserved for the “other”. \n\n\nAbout Dr. Luissa Vahedi\nDr. Luissa Vahedi is a social epidemiologist who specializes in the application and advancement of mixed-methods research to address global health disparities. Her scholarship addresses the socio-political causes and health consequences of social inequalities\, violence\, and child development disparities. Her current research interrogates the concept of state fragility in global health through a decolonial lens\, combining critical theory with longitudinal analyses of global fragility metrics.
URL:https://socialwork.utoronto.ca/event/fifsw-postdoc-talk-the-evolution-of-state-fragility-implications-for-social-protection-public-policy-with-dr-luissa-vahedi/
LOCATION:FIFSW Room 422\, 246 Bloor St\, Toronto\, ON\, M5S 1V4\, Canada
CATEGORIES:Postdoc Talks
END:VEVENT
END:VCALENDAR