BEGIN:VCALENDAR
VERSION:2.0
PRODID:-//Factor-Inwentash Faculty of Social Work - ECPv6.15.20//NONSGML v1.0//EN
CALSCALE:GREGORIAN
METHOD:PUBLISH
X-WR-CALNAME:Factor-Inwentash Faculty of Social Work
X-ORIGINAL-URL:https://socialwork.utoronto.ca
X-WR-CALDESC:Events for Factor-Inwentash Faculty of Social Work
REFRESH-INTERVAL;VALUE=DURATION:PT1H
X-Robots-Tag:noindex
X-PUBLISHED-TTL:PT1H
BEGIN:VTIMEZONE
TZID:America/Toronto
BEGIN:DAYLIGHT
TZOFFSETFROM:-0500
TZOFFSETTO:-0400
TZNAME:EDT
DTSTART:20240310T070000
END:DAYLIGHT
BEGIN:STANDARD
TZOFFSETFROM:-0400
TZOFFSETTO:-0500
TZNAME:EST
DTSTART:20241103T060000
END:STANDARD
BEGIN:DAYLIGHT
TZOFFSETFROM:-0500
TZOFFSETTO:-0400
TZNAME:EDT
DTSTART:20250309T070000
END:DAYLIGHT
BEGIN:STANDARD
TZOFFSETFROM:-0400
TZOFFSETTO:-0500
TZNAME:EST
DTSTART:20251102T060000
END:STANDARD
BEGIN:DAYLIGHT
TZOFFSETFROM:-0500
TZOFFSETTO:-0400
TZNAME:EDT
DTSTART:20260308T070000
END:DAYLIGHT
BEGIN:STANDARD
TZOFFSETFROM:-0400
TZOFFSETTO:-0500
TZNAME:EST
DTSTART:20261101T060000
END:STANDARD
END:VTIMEZONE
BEGIN:VEVENT
DTSTART;TZID=America/Toronto:20250301T170000
DTEND;TZID=America/Toronto:20250301T190000
DTSTAMP:20260422T202631
CREATED:20250212T151118Z
LAST-MODIFIED:20250212T151253Z
UID:55915-1740848400-1740855600@socialwork.utoronto.ca
SUMMARY:The CRIB presents In the Aftermath: Stories of strength\, survival and resistance from youth impacted by homicide 
DESCRIPTION:The Centre for Research & Innovation for Black Survivors of Homicide Victims (CRIB) is located within the Factor-Inwentash Faculty of Social Work\, at the University of Toronto. The CRIB is a multidisciplinary research Centre focused on using community engaged methods and principles to uplift the experiences and help address the needs of Black family members and friends of homicide victims. \nIn the Aftermath is a short film created by youth designed to understand the impact of murder on the wellbeing\, coping strategies and unmet needs of young ACB survivors of homicide victims in Toronto. \nEvent details\nDate: March 1st 2025\nLocation: TIFF Lightbox Cinema 3 – 350 King St W\, Toronto\nTime: 5 to 7pm\nRegister for tickets
URL:https://socialwork.utoronto.ca/event/55915/
LOCATION:TIFF Lightbox Cinema\, 350 King Street West\, Toronto\, Canada
CATEGORIES:FIFSW public event
END:VEVENT
END:VCALENDAR