BEGIN:VCALENDAR
VERSION:2.0
PRODID:-//Factor-Inwentash Faculty of Social Work - ECPv6.15.20//NONSGML v1.0//EN
CALSCALE:GREGORIAN
METHOD:PUBLISH
X-ORIGINAL-URL:https://socialwork.utoronto.ca
X-WR-CALDESC:Events for Factor-Inwentash Faculty of Social Work
REFRESH-INTERVAL;VALUE=DURATION:PT1H
X-Robots-Tag:noindex
X-PUBLISHED-TTL:PT1H
BEGIN:VTIMEZONE
TZID:America/Toronto
BEGIN:DAYLIGHT
TZOFFSETFROM:-0500
TZOFFSETTO:-0400
TZNAME:EDT
DTSTART:20250309T070000
END:DAYLIGHT
BEGIN:STANDARD
TZOFFSETFROM:-0400
TZOFFSETTO:-0500
TZNAME:EST
DTSTART:20251102T060000
END:STANDARD
BEGIN:DAYLIGHT
TZOFFSETFROM:-0500
TZOFFSETTO:-0400
TZNAME:EDT
DTSTART:20260308T070000
END:DAYLIGHT
BEGIN:STANDARD
TZOFFSETFROM:-0400
TZOFFSETTO:-0500
TZNAME:EST
DTSTART:20261101T060000
END:STANDARD
BEGIN:DAYLIGHT
TZOFFSETFROM:-0500
TZOFFSETTO:-0400
TZNAME:EDT
DTSTART:20270314T070000
END:DAYLIGHT
BEGIN:STANDARD
TZOFFSETFROM:-0400
TZOFFSETTO:-0500
TZNAME:EST
DTSTART:20271107T060000
END:STANDARD
END:VTIMEZONE
BEGIN:VEVENT
DTSTART;TZID=America/Toronto:20260427T120000
DTEND;TZID=America/Toronto:20260427T130000
DTSTAMP:20260422T062718
CREATED:20260421T205157Z
LAST-MODIFIED:20260421T205307Z
UID:64015-1777291200-1777294800@socialwork.utoronto.ca
SUMMARY:Leong Centre Rounds: In the Aftermath
DESCRIPTION:CHES-Leong Centre Rounds presents: “In the Aftermath: Centering Young ACB Survivors in Homicide Bereavement Research and Practice”\nDATE: April 27\, 2026\nTIME: 12:00 – 1:00pm (ET)\nMETHOD: Virtual\nREGISTER HERE \n\n\nSPEAKERS \nTanya L. Sharpe\, MSW\, Ph.D.\, is a Professor and Endowed Chair at the Factor-Inwentash Faculty of Social Work\, University of Toronto. She is the founder and director of The Centre for Research & Innovation for Black Survivors of Homicide Victims (The CRIB)\, advancing culturally responsive supports for Black survivors of homicide victims. Her research examines how socio-cultural factors shape grief\, inform interventions\, best practices\, and tools of measurement. Before joining U of T\, Dr. Sharpe was a faculty member at the University of Maryland\, Baltimore School of Social Work for 11 years. Dr. Sharpe has received numerous awards recognizing her contributions to the field of homicide research\, policy\, and practice. \nDeshawn Hibbert is a community leader\, youth advocate\, and program developer committed to supporting individuals and communities impacted by violence. He serves as the Neighbourhood Ambassador Coordinator with The Centre for Research & Innovation for Black Survivors of Homicide Victims (The CRIB) and works as a Case Manager supporting youth in conflict with the law. \nHe is the founder of Wealthy Not Rich\, a clothing brand designed to help youth understand the difference between riches and long-term wealth\, and Not Every Mistake\, an initiative that empowers young people from marginalized communities through lived experience. He is also the co-founder of Forever Building\, a trauma-informed basketball-based violence intervention program serving the Jane and Wilson to Jane and Sheppard communities. \nRaised in Toronto\, Deshawn uses his voice as a storyteller and his lived experience to inspire change\, give back\, and create opportunities for the next generation. As a father\, he remains deeply committed to community impact and youth development. \nTITLE: In the Aftermath: Centering Young ACB Survivors in Homicide Bereavement Research and Practice \nDESCRIPTION: Despite the disproportionate impact of homicide on ACB communities in Toronto\, evidence-based\, culturally responsive supports for young survivors remain virtually absent. This presentation shares findings from In the Aftermath\, a CRIB study using qualitative methods and digital storytelling to understand how youth ages 12-16 experience grief\, loss\, and unmet need following the murder of a family member or friend and what practitioners and systems must do differently. \nOBJECTIVES:  \n\nIdentify the distinct clinical dimensions of homicide bereavement among young ACB survivors\, including how racial trauma\, stigma\, and systemic exclusion complicate grief and challenge conventional bereavement frameworks in clinical practice.\nDiscuss methodological contributions of community-engaged research (Neighbourhood Ambassadors) as a methodology that centers lived experience\, builds trust with ACB communities\, and strengthens the validity and cultural integrity of homicide bereavement research.\nTranslate findings into actionable clinical and research directions by identifying critical gaps in bereavement support systems and the core elements required for culturally responsive\, developmentally appropriate interventions for ACB youth survivors of homicide.\n\n\n\n\n\n\n\nContact\nAntonia Antonopoulos\nResearch Program Manager\nChild Health Evaluative Sciences program\nches.program@sickkids.ca
URL:https://socialwork.utoronto.ca/event/leong-centre-rounds-in-the-aftermath/
CATEGORIES:External public event
END:VEVENT
END:VCALENDAR