BEGIN:VCALENDAR
VERSION:2.0
PRODID:-//Factor-Inwentash Faculty of Social Work - ECPv6.15.20//NONSGML v1.0//EN
CALSCALE:GREGORIAN
METHOD:PUBLISH
X-WR-CALNAME:Factor-Inwentash Faculty of Social Work
X-ORIGINAL-URL:https://socialwork.utoronto.ca
X-WR-CALDESC:Events for Factor-Inwentash Faculty of Social Work
REFRESH-INTERVAL;VALUE=DURATION:PT1H
X-Robots-Tag:noindex
X-PUBLISHED-TTL:PT1H
BEGIN:VTIMEZONE
TZID:America/Toronto
BEGIN:DAYLIGHT
TZOFFSETFROM:-0500
TZOFFSETTO:-0400
TZNAME:EDT
DTSTART:20220313T070000
END:DAYLIGHT
BEGIN:STANDARD
TZOFFSETFROM:-0400
TZOFFSETTO:-0500
TZNAME:EST
DTSTART:20221106T060000
END:STANDARD
BEGIN:DAYLIGHT
TZOFFSETFROM:-0500
TZOFFSETTO:-0400
TZNAME:EDT
DTSTART:20230312T070000
END:DAYLIGHT
BEGIN:STANDARD
TZOFFSETFROM:-0400
TZOFFSETTO:-0500
TZNAME:EST
DTSTART:20231105T060000
END:STANDARD
BEGIN:DAYLIGHT
TZOFFSETFROM:-0500
TZOFFSETTO:-0400
TZNAME:EDT
DTSTART:20240310T070000
END:DAYLIGHT
BEGIN:STANDARD
TZOFFSETFROM:-0400
TZOFFSETTO:-0500
TZNAME:EST
DTSTART:20241103T060000
END:STANDARD
END:VTIMEZONE
BEGIN:VEVENT
DTSTART;TZID=America/Toronto:20230131T170000
DTEND;TZID=America/Toronto:20230131T190000
DTSTAMP:20260421T192358
CREATED:20230127T210757Z
LAST-MODIFIED:20230127T220521Z
UID:41306-1675184400-1675191600@socialwork.utoronto.ca
SUMMARY:Alumni Mentoring Program 2023 Kick-off Event
DESCRIPTION:This event is for upper year MSW students who are part of the Alumni Mentorship Program \nTHIS YEAR WE ARE GOING DIGITAL WITH BUSINESS CARDS:  \nPlease download this Blinq app to your device so that you can share electronic business cards during the event: https://dash.blinq.me/onboarding/get-blinq \n(assistance will be available on the day of the event to help you set it up). \nPlease note: photography and video will be taken at this event. The photos or video may be included in online or print media for educational\, promotional\, and other official purposes by the Factor-Inwentash Faculty of Social Work and the University of Toronto. If you would prefer not to have your image taken or published\, please let us know by emailing dale.duncan@utoronto.ca.
URL:https://socialwork.utoronto.ca/event/alumni-mentoring-program-2023-kick-off-event/
LOCATION:FIFSW\, 246 Bloor Street W.\, Toronto\, ON\, M5S 1V4\, Canada
CATEGORIES:Alumni,Students
END:VEVENT
END:VCALENDAR