BEGIN:VCALENDAR
VERSION:2.0
PRODID:-//Factor-Inwentash Faculty of Social Work - ECPv6.15.20//NONSGML v1.0//EN
CALSCALE:GREGORIAN
METHOD:PUBLISH
X-WR-CALNAME:Factor-Inwentash Faculty of Social Work
X-ORIGINAL-URL:https://socialwork.utoronto.ca
X-WR-CALDESC:Events for Factor-Inwentash Faculty of Social Work
REFRESH-INTERVAL;VALUE=DURATION:PT1H
X-Robots-Tag:noindex
X-PUBLISHED-TTL:PT1H
BEGIN:VTIMEZONE
TZID:America/Toronto
BEGIN:DAYLIGHT
TZOFFSETFROM:-0500
TZOFFSETTO:-0400
TZNAME:EDT
DTSTART:20250309T070000
END:DAYLIGHT
BEGIN:STANDARD
TZOFFSETFROM:-0400
TZOFFSETTO:-0500
TZNAME:EST
DTSTART:20251102T060000
END:STANDARD
BEGIN:DAYLIGHT
TZOFFSETFROM:-0500
TZOFFSETTO:-0400
TZNAME:EDT
DTSTART:20260308T070000
END:DAYLIGHT
BEGIN:STANDARD
TZOFFSETFROM:-0400
TZOFFSETTO:-0500
TZNAME:EST
DTSTART:20261101T060000
END:STANDARD
BEGIN:DAYLIGHT
TZOFFSETFROM:-0500
TZOFFSETTO:-0400
TZNAME:EDT
DTSTART:20270314T070000
END:DAYLIGHT
BEGIN:STANDARD
TZOFFSETFROM:-0400
TZOFFSETTO:-0500
TZNAME:EST
DTSTART:20271107T060000
END:STANDARD
END:VTIMEZONE
BEGIN:VEVENT
DTSTART;VALUE=DATE:20261002
DTEND;VALUE=DATE:20261003
DTSTAMP:20260420T074509
CREATED:20260317T184553Z
LAST-MODIFIED:20260324T175337Z
UID:63341-1790899200-1790985599@socialwork.utoronto.ca
SUMMARY:INQYR Beyond Limits: The Conference — Mobilizing innovative global social research for 2SLGBTQIA+ youth joy and resilience
DESCRIPTION:The International Partnership for Queer Youth Resilience (INQYR) invites researchers\, students\, practitioners\, community organizations\, and young people to join INQYR Beyond Limits: The Conference 2026. \nThis is a one-day in-person conference to advance knowledge and action with and for 2SLGBTQIA+ young people. The event will take place on October 2nd in Toronto\, Canada\, at the Chelsea Hotel. It is built on the belief that the strongest knowledge is made together\, across research\, practice\, community\, and lived experience\, and that this knowledge can and should drive real change. \n \nKeynote Speaker: Dr. Ilan H. Meyer\, PhD\nINQYR is beyond thrilled to welcome Dr. Ilan H. Meyer as its opening keynote speaker for INQYR 2026: Beyond Limits. \nDr. Meyer is the originator of the minority stress model\, one of the most widely cited frameworks in LGBTQ health research. His foundational work describes how stigma\, prejudice\, and discrimination produce health disparities in sexual and gender minority populations\, and has shaped decades of research\, policy development\, and legal advocacy at the highest levels\, including expert testimony in Perry v. Schwarzenegger\, the federal case that overturned California’s Proposition 8. \nDr. Meyer’a talk\, Minority Stress and the Health of LGBTQ Populations: Insights from Current Research and Future Directions\, will trace the development of the minority stress model and its core elements\, present findings on generational shifts in stress exposure and health outcomes\, and address what persistent disparities and the current sociopolitical landscape mean for the future of this research. \nCall for Proposals\nINQYR Beyond Limits invites work that challenges disciplinary\, geographic\, methodological\, and institutional boundaries. \nSubmissions from community partners\, practitioners\, and students are encountered alongside academic and scholarly work. \nDeadline: April 30\, 2026 \nVisit INQYR’s website to learn more about the conference and how to submit an abstract.\n 
URL:https://socialwork.utoronto.ca/event/inqyr-beyond-limits-the-conference-mobilizing-innovative-global-social-research-for-2slgbtqia-youth-joy-and-resilience/
LOCATION:Chelsea Hotel
CATEGORIES:Conference
END:VEVENT
END:VCALENDAR