BEGIN:VCALENDAR
VERSION:2.0
PRODID:-//Factor-Inwentash Faculty of Social Work - ECPv6.15.20//NONSGML v1.0//EN
CALSCALE:GREGORIAN
METHOD:PUBLISH
X-WR-CALNAME:Factor-Inwentash Faculty of Social Work
X-ORIGINAL-URL:https://socialwork.utoronto.ca
X-WR-CALDESC:Events for Factor-Inwentash Faculty of Social Work
REFRESH-INTERVAL;VALUE=DURATION:PT1H
X-Robots-Tag:noindex
X-PUBLISHED-TTL:PT1H
BEGIN:VTIMEZONE
TZID:America/Toronto
BEGIN:DAYLIGHT
TZOFFSETFROM:-0500
TZOFFSETTO:-0400
TZNAME:EDT
DTSTART:20240310T070000
END:DAYLIGHT
BEGIN:STANDARD
TZOFFSETFROM:-0400
TZOFFSETTO:-0500
TZNAME:EST
DTSTART:20241103T060000
END:STANDARD
BEGIN:DAYLIGHT
TZOFFSETFROM:-0500
TZOFFSETTO:-0400
TZNAME:EDT
DTSTART:20250309T070000
END:DAYLIGHT
BEGIN:STANDARD
TZOFFSETFROM:-0400
TZOFFSETTO:-0500
TZNAME:EST
DTSTART:20251102T060000
END:STANDARD
BEGIN:DAYLIGHT
TZOFFSETFROM:-0500
TZOFFSETTO:-0400
TZNAME:EDT
DTSTART:20260308T070000
END:DAYLIGHT
BEGIN:STANDARD
TZOFFSETFROM:-0400
TZOFFSETTO:-0500
TZNAME:EST
DTSTART:20261101T060000
END:STANDARD
END:VTIMEZONE
BEGIN:VEVENT
DTSTART;VALUE=DATE:20250922
DTEND;VALUE=DATE:20251020
DTSTAMP:20260419T234500
CREATED:20250818T182152Z
LAST-MODIFIED:20251007T150059Z
UID:59774-1758499200-1760918399@socialwork.utoronto.ca
SUMMARY:ILCA Workshop: Gottman Method Couples Therapy for Older Adults
DESCRIPTION:AN ONLINE WORKSHOP FOR HEALTHCARE & OTHER PROFESSIONALS \nWhen: Mon\, Sep 22 – Sun\, Oct 19\, 2025 (4 weeks) ONLINE weekly at your discretion\nCost:    $240 (Students $120) Registration Deadline: Monday\, Sep 15\, 2025 \n  \nWEEK 1 \n\nIntroduction\nGottman Research: Structure\, reliability\, likelihood.\nWhat characterizes the relationship in long time older adult relationships?\nThe Principles of Gottman Practice Theory: Setting the conditions for positive emotional experience.\n\nWEEK 2 \n\nThe Sound Relationship House Theory\nLove and Attachment Deconstructed: The Sound Relationship House Practice Theory\nTreatment Efficacy?\nHow complex are the problems we are expected to treat?\nLife Stage or a Life of Problems: What are the issues older adult couples are bringing to therapy?\nIntroduction of a Case Example\n\nWEEK 3 \n\nAssessment Precedes Intervention: Be thorough\, know where you are going and do no harm.\nAssessment Made Easy: Am I foolish-ing you?\nExample Assessment and Case Plan\, pre-retirement couple\n\nWEEK 4 \n\nSessional Goal and Objectives: simply complex.\nExample Ritual of Connection Intervention.\nWhy\, When and How of Structured Interventions: Replacing the Four Horsemen\, The Gottman Rapoport\, Dreams in Conflict\, Aftermath of the Fight and More.\nWhere to go from here.\n\nInstructor: Mike Fidler\, MSW\, RSW\nCertified Advanced Trainer Gottman Institute\, Seattle Washington \nVisit the ILCA workshop website for registration information. 
URL:https://socialwork.utoronto.ca/event/ilca-online-workshop-gottman-method-couples-therapy-for-older-adults/
LOCATION:Online
CATEGORIES:ILCA event
END:VEVENT
BEGIN:VEVENT
DTSTART;TZID=America/Toronto:20250929T183000
DTEND;TZID=America/Toronto:20250929T200000
DTSTAMP:20260419T234500
CREATED:20250729T141358Z
LAST-MODIFIED:20250916T182856Z
UID:59676-1759170600-1759176000@socialwork.utoronto.ca
SUMMARY:FIFSW Alumni Association 2025 Annual General Meeting
DESCRIPTION:FIFSW alumni: Mark your calendars to attend the Annual General Meeting of the Factor-Inwentash Faculty of Social Work Alumni Association (FIFSWAA) on Monday\, September 29\, 2025\, from 6:30 PM to 8:00 PM. \nDate & time\nMonday\, September 29 from 6:30 to 8:00pm \nLocation\nThis is a hybrid event. \nIn person: FIFSW\, 246 Bloor Street West\, Room 422 \nOnline: via Zoom \nThis year’s AGM will feature a compelling keynote presentation by Dr. Gifty Asare (PhD\, Psychology & Neuroscience\, York University)\, titled: “Rewriting the Narrative: Survivors as Experts in Gender-Based Violence and Brain Injury.” \nClick here to register \nAGM supporting documents\nPlease download and review the proposed amendments to the FIFSWAA Constitution (highlighted in green) in advance of the meeting. These will be presented for discussion and approval during the AGM.
URL:https://socialwork.utoronto.ca/event/fifsw-alumni-association-2025-annual-general-meeting-2/
LOCATION:FIFSW Room 422\, 246 Bloor St\, Toronto\, ON\, M5S 1V4\, Canada
CATEGORIES:FIFSW Alumni Association Event
END:VEVENT
END:VCALENDAR