BEGIN:VCALENDAR
VERSION:2.0
PRODID:-//Factor-Inwentash Faculty of Social Work - ECPv6.15.20//NONSGML v1.0//EN
CALSCALE:GREGORIAN
METHOD:PUBLISH
X-WR-CALNAME:Factor-Inwentash Faculty of Social Work
X-ORIGINAL-URL:https://socialwork.utoronto.ca
X-WR-CALDESC:Events for Factor-Inwentash Faculty of Social Work
REFRESH-INTERVAL;VALUE=DURATION:PT1H
X-Robots-Tag:noindex
X-PUBLISHED-TTL:PT1H
BEGIN:VTIMEZONE
TZID:America/Toronto
BEGIN:DAYLIGHT
TZOFFSETFROM:-0500
TZOFFSETTO:-0400
TZNAME:EDT
DTSTART:20240310T070000
END:DAYLIGHT
BEGIN:STANDARD
TZOFFSETFROM:-0400
TZOFFSETTO:-0500
TZNAME:EST
DTSTART:20241103T060000
END:STANDARD
BEGIN:DAYLIGHT
TZOFFSETFROM:-0500
TZOFFSETTO:-0400
TZNAME:EDT
DTSTART:20250309T070000
END:DAYLIGHT
BEGIN:STANDARD
TZOFFSETFROM:-0400
TZOFFSETTO:-0500
TZNAME:EST
DTSTART:20251102T060000
END:STANDARD
BEGIN:DAYLIGHT
TZOFFSETFROM:-0500
TZOFFSETTO:-0400
TZNAME:EDT
DTSTART:20260308T070000
END:DAYLIGHT
BEGIN:STANDARD
TZOFFSETFROM:-0400
TZOFFSETTO:-0500
TZNAME:EST
DTSTART:20261101T060000
END:STANDARD
END:VTIMEZONE
BEGIN:VEVENT
DTSTART;VALUE=DATE:20250228
DTEND;VALUE=DATE:20250330
DTSTAMP:20260419T214303
CREATED:20250129T145646Z
LAST-MODIFIED:20250129T145646Z
UID:55565-1740700800-1743292799@socialwork.utoronto.ca
SUMMARY:Ramadan
DESCRIPTION:The word “Ramadan” refers to the name of the ninth month of the Islamic lunar calendar. It is a month of fasting\, introspection and reflection as well as a time to focus on spirituality and charity. \nDuring the holy month of Ramadan\, it is estimated that more than 1.6 billion Muslims observe in fasting as an act of worship\, a chance to be closer to God\, and a way to become more compassionate to those in need. \nIn 2025\, the holy month of Ramadan is recognized from February 28 to March 29 (dates may vary according to lunar calendar). \nThe basic requirement during the month of Ramadan for Muslims is to fast from sunrise to sunset every day for the month\, meaning no food\, water or anything else past the lips. The meal eaten each evening or night to break the fast is called “iftar” and is often taken with family and friends. “Suhoor” is a meal taken just before sunrise\, before the day of fasting begins. Some Muslims may not be able to fast (e.g. due to health reasons) or choose not to but might still observe other aspects of Ramadan. \nThe end of the fasting month is marked by the sighting of the new moon which is called “Eid al-Fitr” – “festival of breaking the fast”. This is a holiday (ranging from 1 to 3 days) where Muslims gather with family\, visit and exchange gifts with friends\, and give to charity. Charity\, or “zakat”\, is one of the five pillars of Islam\, and particularly significant during Ramadan. \n\n\nFor students: Accommodations for Religious Observances \nVisit the Office of the Vice Provost Students website and learn more about Religious Accommodations.  It is the policy of the University of Toronto to work with students who observe religious days other than those already accommodated by current scheduling and statutory holidays. Familiarize yourself with the Policy on Scheduling of Classes and Examinations and Other Accommodations for Religious Observances. \nDo you have questions or need help? \nContact the FIFSW Director of EDI\, Shahana Arain or visit The Office of the Vice Provost\, Students.
URL:https://socialwork.utoronto.ca/event/ramadan-2/
LOCATION:Ontario
CATEGORIES:Religious and cultural observances
END:VEVENT
END:VCALENDAR