BEGIN:VCALENDAR
VERSION:2.0
PRODID:-//Factor-Inwentash Faculty of Social Work - ECPv6.15.20//NONSGML v1.0//EN
CALSCALE:GREGORIAN
METHOD:PUBLISH
X-WR-CALNAME:Factor-Inwentash Faculty of Social Work
X-ORIGINAL-URL:https://socialwork.utoronto.ca
X-WR-CALDESC:Events for Factor-Inwentash Faculty of Social Work
REFRESH-INTERVAL;VALUE=DURATION:PT1H
X-Robots-Tag:noindex
X-PUBLISHED-TTL:PT1H
BEGIN:VTIMEZONE
TZID:America/Toronto
BEGIN:DAYLIGHT
TZOFFSETFROM:-0500
TZOFFSETTO:-0400
TZNAME:EDT
DTSTART:20240310T070000
END:DAYLIGHT
BEGIN:STANDARD
TZOFFSETFROM:-0400
TZOFFSETTO:-0500
TZNAME:EST
DTSTART:20241103T060000
END:STANDARD
BEGIN:DAYLIGHT
TZOFFSETFROM:-0500
TZOFFSETTO:-0400
TZNAME:EDT
DTSTART:20250309T070000
END:DAYLIGHT
BEGIN:STANDARD
TZOFFSETFROM:-0400
TZOFFSETTO:-0500
TZNAME:EST
DTSTART:20251102T060000
END:STANDARD
BEGIN:DAYLIGHT
TZOFFSETFROM:-0500
TZOFFSETTO:-0400
TZNAME:EDT
DTSTART:20260308T070000
END:DAYLIGHT
BEGIN:STANDARD
TZOFFSETFROM:-0400
TZOFFSETTO:-0500
TZNAME:EST
DTSTART:20261101T060000
END:STANDARD
END:VTIMEZONE
BEGIN:VEVENT
DTSTART;VALUE=DATE:20250201
DTEND;VALUE=DATE:20250301
DTSTAMP:20260419T214407
CREATED:20250129T145209Z
LAST-MODIFIED:20250129T145209Z
UID:55561-1738368000-1740787199@socialwork.utoronto.ca
SUMMARY:Black History Month
DESCRIPTION:Celebrating February as Black History Month has become a powerful tradition in North America. Canadians have been officially recognizing it on a national level since 1995. Important groundwork laid by the Ontario Black History Society and strong community support enabled the Honourable Jean Augustine\, the first Black woman elected to Parliament\, to successfully champion the motion in the House of Commons. \nJean Augustine identified February as Canada’s Black History Month to align with the United States\, where the February birthdays of President Abraham Lincoln and former slave and anti-slavery activist Frederick Douglass provided the original rationale for its timing. However\, Augustine distinguishes Canada’s national celebration\, describing it as an opportunity to recognize the excellence of Black Canadians in all fields as well as individuals of African descent who\, historically and today\, have emerged “as contributors\, as builders\, as participants\, as collaborators in Canadian society.” Augustine also underscores the essential role that active self-reflection plays in Canada’s Black History Month. It offers a time\, she noted in a 2021 interview\, “for all of us to examine our own prejudices\, to examine our relationships\, to ask ourselves\, ‘are we allies to ensuring that others are full participants … in the workplace\, in … ceremonies\, and everything that happens in … [Canadian] society?’ \nVisit the Anti Racism and Cultural Diversity Office’s website For a full list of Black History events across University of Toronto. \nRelated Links\nReflecting on Black History Month with political pioneer Jean Augustine\nGovernment of Canada – February is Black History Month\nRelated Events & Programming\nU of T’s Black History 365 Calendar\nBlack History Month | Anti-Racism and Cultural Diversity Office\nRelated Training\nStaff\, Librarians\, and Faculty: LMS Portal\nStudents: Career Learning Network (CLNX)
URL:https://socialwork.utoronto.ca/event/black-history-month/
LOCATION:Ontario
CATEGORIES:Dates of Awareness
END:VEVENT
END:VCALENDAR