BEGIN:VCALENDAR
VERSION:2.0
PRODID:-//Factor-Inwentash Faculty of Social Work - ECPv6.15.20//NONSGML v1.0//EN
CALSCALE:GREGORIAN
METHOD:PUBLISH
X-WR-CALNAME:Factor-Inwentash Faculty of Social Work
X-ORIGINAL-URL:https://socialwork.utoronto.ca
X-WR-CALDESC:Events for Factor-Inwentash Faculty of Social Work
REFRESH-INTERVAL;VALUE=DURATION:PT1H
X-Robots-Tag:noindex
X-PUBLISHED-TTL:PT1H
BEGIN:VTIMEZONE
TZID:America/Toronto
BEGIN:DAYLIGHT
TZOFFSETFROM:-0500
TZOFFSETTO:-0400
TZNAME:EDT
DTSTART:20230312T070000
END:DAYLIGHT
BEGIN:STANDARD
TZOFFSETFROM:-0400
TZOFFSETTO:-0500
TZNAME:EST
DTSTART:20231105T060000
END:STANDARD
BEGIN:DAYLIGHT
TZOFFSETFROM:-0500
TZOFFSETTO:-0400
TZNAME:EDT
DTSTART:20240310T070000
END:DAYLIGHT
BEGIN:STANDARD
TZOFFSETFROM:-0400
TZOFFSETTO:-0500
TZNAME:EST
DTSTART:20241103T060000
END:STANDARD
BEGIN:DAYLIGHT
TZOFFSETFROM:-0500
TZOFFSETTO:-0400
TZNAME:EDT
DTSTART:20250309T070000
END:DAYLIGHT
BEGIN:STANDARD
TZOFFSETFROM:-0400
TZOFFSETTO:-0500
TZNAME:EST
DTSTART:20251102T060000
END:STANDARD
BEGIN:DAYLIGHT
TZOFFSETFROM:-0500
TZOFFSETTO:-0400
TZNAME:EDT
DTSTART:20260308T070000
END:DAYLIGHT
BEGIN:STANDARD
TZOFFSETFROM:-0400
TZOFFSETTO:-0500
TZNAME:EST
DTSTART:20261101T060000
END:STANDARD
END:VTIMEZONE
BEGIN:VEVENT
DTSTART;VALUE=DATE:20241225
DTEND;VALUE=DATE:20250103
DTSTAMP:20260419T234854
CREATED:20240209T155750Z
LAST-MODIFIED:20240926T145550Z
UID:48710-1735084800-1735862399@socialwork.utoronto.ca
SUMMARY:Hanukkah • Judaism
DESCRIPTION:Hanukkah (also spelled Chanukah) is the eight-day Jewish celebration also called the Festival of Lights. Hanukkah begins on the 25th day of the Hebrew month of Kislev\, which changes according to the lunar calendar\, and always begins in November or December. \nThis year\, Hanukkah begins in the evening on December 25\, 2024 and ends in the evening on January 2\, 2025. \nCommon greetings: “Happy Hanukkah” or “Chag Hanukkah Sameach” \nReligious and cultural days\nStudent Life has compiled a list of significant religious and cultural days. \nExplore the list to learn more about the holidays of different faith and ethnic groups\, when they are celebrated and how to greet or acknowledge those who observe. \nFor students: Accommodations for Religious Observances \nVisit the Office of the Vice Provost Students website and learn more about Religious Accommodations.  It is the policy of the University of Toronto to work with students who observe religious days other than those already accommodated by current scheduling and statutory holidays. Familiarize yourself with the Policy on Scheduling of Classes and Examinations and Other Accommodations for Religious Observances. \nDo you have questions or need help? \nContact the FIFSW Director of EDI\, Shahana Arain or visit The Office of the Vice Provost\, Students.
URL:https://socialwork.utoronto.ca/event/hanukkah-judaism/
LOCATION:Ontario
CATEGORIES:Religious and cultural observances
END:VEVENT
BEGIN:VEVENT
DTSTART;VALUE=DATE:20241226
DTEND;VALUE=DATE:20250102
DTSTAMP:20260419T234854
CREATED:20240209T154639Z
LAST-MODIFIED:20240209T154639Z
UID:48706-1735171200-1735775999@socialwork.utoronto.ca
SUMMARY:Kwanzaa • African-American (cultural)
DESCRIPTION:Pronounced “kwaan·zuh”  \nKwanzaa is a 7-day holiday celebrating African Heritage and African American culture from December 26 to January 1 each year. Kwanzaa celebrates culture\, family and community through communal feasts\, drumming and dance.  \nDates: December 26 – January 1 annually  \nCommon greetings: “Happy Kwanzaa” or “Heri za Kwanzaa!” (Swahili for “Happy Kwanzaa!”)  \nReligious and cultural days\nStudent Life has compiled a list of significant religious and cultural days. \nExplore the list to learn more about the holidays of different faith and ethnic groups\, when they are celebrated and how to greet or acknowledge those who observe. \nFor students: Accommodations for Religious Observances \nVisit the Office of the Vice Provost Students website and learn more about Religious Accommodations.  It is the policy of the University of Toronto to work with students who observe religious days other than those already accommodated by current scheduling and statutory holidays. Familiarize yourself with the Policy on Scheduling of Classes and Examinations and Other Accommodations for Religious Observances. \nDo you have questions or need help? \nContact the FIFSW Director of EDI\, Shahana Arain or visit The Office of the Vice Provost\, Students.
URL:https://socialwork.utoronto.ca/event/kwanzaa-african-american-cultural/
LOCATION:Ontario
CATEGORIES:Religious and cultural observances
END:VEVENT
END:VCALENDAR