BEGIN:VCALENDAR
VERSION:2.0
PRODID:-//Factor-Inwentash Faculty of Social Work - ECPv6.15.20//NONSGML v1.0//EN
CALSCALE:GREGORIAN
METHOD:PUBLISH
X-WR-CALNAME:Factor-Inwentash Faculty of Social Work
X-ORIGINAL-URL:https://socialwork.utoronto.ca
X-WR-CALDESC:Events for Factor-Inwentash Faculty of Social Work
REFRESH-INTERVAL;VALUE=DURATION:PT1H
X-Robots-Tag:noindex
X-PUBLISHED-TTL:PT1H
BEGIN:VTIMEZONE
TZID:America/Toronto
BEGIN:DAYLIGHT
TZOFFSETFROM:-0500
TZOFFSETTO:-0400
TZNAME:EDT
DTSTART:20230312T070000
END:DAYLIGHT
BEGIN:STANDARD
TZOFFSETFROM:-0400
TZOFFSETTO:-0500
TZNAME:EST
DTSTART:20231105T060000
END:STANDARD
BEGIN:DAYLIGHT
TZOFFSETFROM:-0500
TZOFFSETTO:-0400
TZNAME:EDT
DTSTART:20240310T070000
END:DAYLIGHT
BEGIN:STANDARD
TZOFFSETFROM:-0400
TZOFFSETTO:-0500
TZNAME:EST
DTSTART:20241103T060000
END:STANDARD
BEGIN:DAYLIGHT
TZOFFSETFROM:-0500
TZOFFSETTO:-0400
TZNAME:EDT
DTSTART:20250309T070000
END:DAYLIGHT
BEGIN:STANDARD
TZOFFSETFROM:-0400
TZOFFSETTO:-0500
TZNAME:EST
DTSTART:20251102T060000
END:STANDARD
END:VTIMEZONE
BEGIN:VEVENT
DTSTART;VALUE=DATE:20241001
DTEND;VALUE=DATE:20241101
DTSTAMP:20260420T001359
CREATED:20240903T213252Z
LAST-MODIFIED:20240903T213252Z
UID:53040-1727740800-1730419199@socialwork.utoronto.ca
SUMMARY:Canadian Islamic History Month
DESCRIPTION:The federal government launched the first Canadian Islamic History Month in October 2007. In addition to celebrating the longstanding and widespread contributions of Muslim communities to all areas of Canadian society\, the month aims to expand knowledge of the history of Islam within a Canadian context and to deepen understanding of the cultural diversity of local Muslim communities. It also urges nationwide conversations about Islamophobia\, its impacts at an individual and community level\, and actions needed to address Islamophobia in all its forms. Communities of all faiths and backgrounds are encouraged to engage in dialogue about productive strategies to address inclusion and belonging of Muslim communities in Canada. \nEach October\, Ontario additionally marks Islamic Heritage Month\, which since 2017 has been celebrated to mark the contributions of Muslim communities to Ontario’s history and society. A commitment to denounce and oppose Islamophobia is similarly contained in this provincial act\, which emphasizes the importance of reflection and learning to reach\, in its words\, a “new understanding.” \nStatement by Minister Khera on Canadian Islamic History Month \nBill 38\, An Act to Proclaim the month of October Islamic Heritage Month [PDF] \n 
URL:https://socialwork.utoronto.ca/event/canadian-islamic-history-month/
LOCATION:Ontario
CATEGORIES:Dates of Awareness
END:VEVENT
BEGIN:VEVENT
DTSTART;VALUE=DATE:20241002
DTEND;VALUE=DATE:20241005
DTSTAMP:20260420T001359
CREATED:20240926T142523Z
LAST-MODIFIED:20240926T142523Z
UID:53831-1727827200-1728086399@socialwork.utoronto.ca
SUMMARY:Rosh Hashanah
DESCRIPTION:Rosh Hashanah meaning “head of the year” or “first of the year\,” is the Jewish New Year. It commemorates the creation of the world and marks the beginning of the Days of Awe\, a 10-day period of introspection and repentance that culminates in the Yom Kippur holiday\, also known as the Day of Atonement. \nThis year\, Rosh Hashanah begins at sunset on October 2 and ends at sunset on October 4. A common greeting to mark this occasion of Rosh Hashanah is “Shanah Tovah”\, which means “Good Year.” \nThe central custom of Rosh Hashanah is the blowing of the “shofar\,” a musical instrument\, which serves as a symbolic “wake-up call” to mend one’s ways and repent. The shofar is blown at various points during Rosh Hashanah prayers\, with a total of 100 blasts on each day. During Rosh Hashanah\, many Jews attend synagogue services and recite special liturgy. A special prayer book called the “mahzor” is used and three unique set of prayers known as “malkhuyot” are added to morning service during the holiday. \nDuring Rosh Hashanah\, followers will share a festive meal with family and loved ones to celebrate the new year. It is customary to eat apples dipped in honey to evoke a sweet year ahead. \nReligious and cultural days\nStudent Life has compiled a list of significant religious and cultural days. \nExplore the list to learn more about the holidays of different faith and ethnic groups\, when they are celebrated and how to greet or acknowledge those who observe. \nFor students: Accommodations for Religious Observances \nVisit the Office of the Vice Provost Students website and learn more about Religious Accommodations.  It is the policy of the University of Toronto to work with students who observe religious days other than those already accommodated by current scheduling and statutory holidays. Familiarize yourself with the Policy on Scheduling of Classes and Examinations and Other Accommodations for Religious Observances. \nDo you have questions or need help? \nContact the FIFSW Director of EDI\, Shahana Arain or visit The Office of the Vice Provost\, Students.
URL:https://socialwork.utoronto.ca/event/rosh-hashanah/
LOCATION:Ontario
CATEGORIES:Religious and cultural observances
END:VEVENT
BEGIN:VEVENT
DTSTART;VALUE=DATE:20241003
DTEND;VALUE=DATE:20241013
DTSTAMP:20260420T001359
CREATED:20240209T151525Z
LAST-MODIFIED:20240209T151525Z
UID:48675-1727913600-1728777599@socialwork.utoronto.ca
SUMMARY:Navaratri begins (9-night festival) • Hinduism
DESCRIPTION:A major Hindu holiday\, Navaratri (nine nights) celebrates the victory of good and divine feminine power. Hindu communities globally celebrate this holiday in unique cultural and regional ways. Stories of divine feminine power also vary according to region and Hindu traditions.  \nReligious and cultural days\nStudent Life has compiled a list of significant religious and cultural days. \nExplore the list to learn more about the holidays of different faith and ethnic groups\, when they are celebrated and how to greet or acknowledge those who observe. \nFor students: Accommodations for Religious Observances \nVisit the Office of the Vice Provost Students website and learn more about Religious Accommodations.  It is the policy of the University of Toronto to work with students who observe religious days other than those already accommodated by current scheduling and statutory holidays. Familiarize yourself with the Policy on Scheduling of Classes and Examinations and Other Accommodations for Religious Observances. \nDo you have questions or need help? \nContact the FIFSW Director of EDI\, Shahana Arain or visit The Office of the Vice Provost\, Students.
URL:https://socialwork.utoronto.ca/event/navaratri-begins-9-night-festival-hinduism/
LOCATION:Ontario
CATEGORIES:Religious and cultural observances
END:VEVENT
END:VCALENDAR