BEGIN:VCALENDAR
VERSION:2.0
PRODID:-//Factor-Inwentash Faculty of Social Work - ECPv6.15.20//NONSGML v1.0//EN
CALSCALE:GREGORIAN
METHOD:PUBLISH
X-WR-CALNAME:Factor-Inwentash Faculty of Social Work
X-ORIGINAL-URL:https://socialwork.utoronto.ca
X-WR-CALDESC:Events for Factor-Inwentash Faculty of Social Work
REFRESH-INTERVAL;VALUE=DURATION:PT1H
X-Robots-Tag:noindex
X-PUBLISHED-TTL:PT1H
BEGIN:VTIMEZONE
TZID:America/Toronto
BEGIN:DAYLIGHT
TZOFFSETFROM:-0500
TZOFFSETTO:-0400
TZNAME:EDT
DTSTART:20230312T070000
END:DAYLIGHT
BEGIN:STANDARD
TZOFFSETFROM:-0400
TZOFFSETTO:-0500
TZNAME:EST
DTSTART:20231105T060000
END:STANDARD
BEGIN:DAYLIGHT
TZOFFSETFROM:-0500
TZOFFSETTO:-0400
TZNAME:EDT
DTSTART:20240310T070000
END:DAYLIGHT
BEGIN:STANDARD
TZOFFSETFROM:-0400
TZOFFSETTO:-0500
TZNAME:EST
DTSTART:20241103T060000
END:STANDARD
BEGIN:DAYLIGHT
TZOFFSETFROM:-0500
TZOFFSETTO:-0400
TZNAME:EDT
DTSTART:20250309T070000
END:DAYLIGHT
BEGIN:STANDARD
TZOFFSETFROM:-0400
TZOFFSETTO:-0500
TZNAME:EST
DTSTART:20251102T060000
END:STANDARD
END:VTIMEZONE
BEGIN:VEVENT
DTSTART;VALUE=DATE:20240906
DTEND;VALUE=DATE:20240907
DTSTAMP:20260420T012841
CREATED:20240209T150458Z
LAST-MODIFIED:20240209T150458Z
UID:48666-1725580800-1725667199@socialwork.utoronto.ca
SUMMARY:Ganesh Chaturthi • Hinduism
DESCRIPTION:A major Hindu festival celebrating Lord Ganesha’s descent to earth. Idols of Ganesh are creating and displayed for ten days afterwhich they are immersed in water to symboilize his return home to the divine. People celebrate with music\, dancing\, distributing sweets and other festivities.  \nCommon greetings: “Happy Ganesh Chaturthi” or “May Lord Ganesh bless you with prosperity and luck”  \nReligious and cultural days\nStudent Life has compiled a list of significant religious and cultural days. \nExplore the list to learn more about the holidays of different faith and ethnic groups\, when they are celebrated and how to greet or acknowledge those who observe. \nFor students: Accommodations for Religious Observances \nVisit the Office of the Vice Provost Students website and learn more about Religious Accommodations.  It is the policy of the University of Toronto to work with students who observe religious days other than those already accommodated by current scheduling and statutory holidays. Familiarize yourself with the Policy on Scheduling of Classes and Examinations and Other Accommodations for Religious Observances. \nDo you have questions or need help? \nContact the FIFSW Director of EDI\, Shahana Arain or visit The Office of the Vice Provost\, Students.
URL:https://socialwork.utoronto.ca/event/ganesh-chaturthi-hinduism/
LOCATION:Ontario
CATEGORIES:Religious and cultural observances
END:VEVENT
END:VCALENDAR