BEGIN:VCALENDAR
VERSION:2.0
PRODID:-//Factor-Inwentash Faculty of Social Work - ECPv6.15.20//NONSGML v1.0//EN
CALSCALE:GREGORIAN
METHOD:PUBLISH
X-WR-CALNAME:Factor-Inwentash Faculty of Social Work
X-ORIGINAL-URL:https://socialwork.utoronto.ca
X-WR-CALDESC:Events for Factor-Inwentash Faculty of Social Work
REFRESH-INTERVAL;VALUE=DURATION:PT1H
X-Robots-Tag:noindex
X-PUBLISHED-TTL:PT1H
BEGIN:VTIMEZONE
TZID:America/Toronto
BEGIN:DAYLIGHT
TZOFFSETFROM:-0500
TZOFFSETTO:-0400
TZNAME:EDT
DTSTART:20230312T070000
END:DAYLIGHT
BEGIN:STANDARD
TZOFFSETFROM:-0400
TZOFFSETTO:-0500
TZNAME:EST
DTSTART:20231105T060000
END:STANDARD
BEGIN:DAYLIGHT
TZOFFSETFROM:-0500
TZOFFSETTO:-0400
TZNAME:EDT
DTSTART:20240310T070000
END:DAYLIGHT
BEGIN:STANDARD
TZOFFSETFROM:-0400
TZOFFSETTO:-0500
TZNAME:EST
DTSTART:20241103T060000
END:STANDARD
BEGIN:DAYLIGHT
TZOFFSETFROM:-0500
TZOFFSETTO:-0400
TZNAME:EDT
DTSTART:20250309T070000
END:DAYLIGHT
BEGIN:STANDARD
TZOFFSETFROM:-0400
TZOFFSETTO:-0500
TZNAME:EST
DTSTART:20251102T060000
END:STANDARD
END:VTIMEZONE
BEGIN:VEVENT
DTSTART;VALUE=DATE:20240801
DTEND;VALUE=DATE:20240901
DTSTAMP:20260419T181637
CREATED:20240819T154747Z
LAST-MODIFIED:20240819T154818Z
UID:52750-1722470400-1725148799@socialwork.utoronto.ca
SUMMARY:Emancipation month
DESCRIPTION:Anti-Black racism has been prevalent in the history of Ontario. Slavery\, inequities\, exclusion and many other forms of discrimination have been the basis of much of Ontario’s past. By proclaiming August as Emancipation Month\, Ontario is following the UN General Assembly’s adoption of the period of 2015 to 2024 being the International Decade for People of African Descent to ensure people of African descent receive the recognition\, justice and access to opportunities they deserve. \nLearn more about Emancipation month in Ontario.
URL:https://socialwork.utoronto.ca/event/emancipation-month/
LOCATION:Ontario
CATEGORIES:Dates of Awareness
END:VEVENT
BEGIN:VEVENT
DTSTART;TZID=America/Toronto:20240811T110000
DTEND;TZID=America/Toronto:20240811T143000
DTSTAMP:20260419T181637
CREATED:20240703T183435Z
LAST-MODIFIED:20240703T183523Z
UID:52016-1723374000-1723386600@socialwork.utoronto.ca
SUMMARY:Sunday Brunch: A Decolonized space for Black Therapists
DESCRIPTION:Organized by the Black Daddies Club. \nFIFSW’s Talk It Out Counselling Clinic is an event partner. \nThis event is open to Black\, Indigenous\, and Racialized therapists from various genders and various therapy modalities. The event is also open to non-Black therapists or people who work with Black men and Black boys\, as well as the general public who is interested in the topic. \n\nThe Black Daddies Club is introducing Sunday Brunch\, a networking and knowledge sharing event for the purpose of decolonizing therapeutic strategies for Black\, Indigenous and Racialized therapists\, counsellors and healers. The event will focus on hearing the narratives and strategies from Black\, Indigenous and Racialized therapists on best practices and innovative methods of working with the mental health of Black\, Indigenous and racialized communities across various communities and geographies\, with the goal of learning new ways for working with Black\, Indigenous and Racialized communities. \nThis first Sunday Brunch will launch on Sunday August 11th 2024 and will include two panel discussion \n1) “What Strategies people should consider when working with Black men and Black boys?” \n2)What are some things to consider if you want to grow your therapy practice? How does Innovation play a role in your therapy practice? \nIn-person location: Movember Canada\, in Downtown Toronto\, Canada. Disclaimer\, this venue is not wheelchair accessible. \nOnline attendance via Zoom for those outside of the GTA or that are not able to attend the event in-person. \nRegister to attend in person\nRegister to attend online
URL:https://socialwork.utoronto.ca/event/sunday-brunch-a-decolonized-space-for-black-therapists/
LOCATION:Ontario
CATEGORIES:External public event
END:VEVENT
BEGIN:VEVENT
DTSTART;TZID=America/Toronto:20240811T153000
DTEND;TZID=America/Toronto:20240811T183000
DTSTAMP:20260419T181637
CREATED:20240703T184022Z
LAST-MODIFIED:20240703T184022Z
UID:52024-1723390200-1723401000@socialwork.utoronto.ca
SUMMARY:Sunday Dinner: Therapeutic Conversation Series for Black men
DESCRIPTION:Organized by the Black Daddies Club. \nFIFSW’s Talk It Out Counselling Clinic is an event partner. \nThis conversation series is for Black men who identify as cis-gendered\, heterosexual\, trans-men\, gay\, bi-sexual\, mixed race\, living with a disability or non-binary Black men; as long as you identify as a Black man the Sunday Dinner space is for you. \n\nThe Black Daddies Club co- presents Sunday Dinners\, is a quarterly in-person conversation series with Black men from Canada and around the diaspora. The Black men who attend Sunday Dinners will speak about our hope as Black men and about where we are currently both emotionally and mentally. \nThe idea behind this in-person discussion series is the intersections of food\, conversations\, and healing amongst Black men. The importance of gathering as Black people for Sunday Dinners resonates with many African and Black people from across the diaspora. The purpose of the Sunday Dinner gatherings is for Black men to have conversations with other Black men from various entry points to explore our similarities and differences as Black men. \nRegister to attend in person\nRegister to attend online
URL:https://socialwork.utoronto.ca/event/sunday-dinner-therapeutic-conversation-series-for-black-men/
LOCATION:Ontario
CATEGORIES:External public event
END:VEVENT
END:VCALENDAR