BEGIN:VCALENDAR
VERSION:2.0
PRODID:-//Factor-Inwentash Faculty of Social Work - ECPv6.15.20//NONSGML v1.0//EN
CALSCALE:GREGORIAN
METHOD:PUBLISH
X-WR-CALNAME:Factor-Inwentash Faculty of Social Work
X-ORIGINAL-URL:https://socialwork.utoronto.ca
X-WR-CALDESC:Events for Factor-Inwentash Faculty of Social Work
REFRESH-INTERVAL;VALUE=DURATION:PT1H
X-Robots-Tag:noindex
X-PUBLISHED-TTL:PT1H
BEGIN:VTIMEZONE
TZID:America/Toronto
BEGIN:DAYLIGHT
TZOFFSETFROM:-0500
TZOFFSETTO:-0400
TZNAME:EDT
DTSTART:20230312T070000
END:DAYLIGHT
BEGIN:STANDARD
TZOFFSETFROM:-0400
TZOFFSETTO:-0500
TZNAME:EST
DTSTART:20231105T060000
END:STANDARD
BEGIN:DAYLIGHT
TZOFFSETFROM:-0500
TZOFFSETTO:-0400
TZNAME:EDT
DTSTART:20240310T070000
END:DAYLIGHT
BEGIN:STANDARD
TZOFFSETFROM:-0400
TZOFFSETTO:-0500
TZNAME:EST
DTSTART:20241103T060000
END:STANDARD
BEGIN:DAYLIGHT
TZOFFSETFROM:-0500
TZOFFSETTO:-0400
TZNAME:EDT
DTSTART:20250309T070000
END:DAYLIGHT
BEGIN:STANDARD
TZOFFSETFROM:-0400
TZOFFSETTO:-0500
TZNAME:EST
DTSTART:20251102T060000
END:STANDARD
END:VTIMEZONE
BEGIN:VEVENT
DTSTART;VALUE=DATE:20240601
DTEND;VALUE=DATE:20240701
DTSTAMP:20260420T012844
CREATED:20240529T180131Z
LAST-MODIFIED:20240529T180222Z
UID:51497-1717200000-1719791999@socialwork.utoronto.ca
SUMMARY:National Indigenous History Month
DESCRIPTION:National Indigenous History Month\nOn June 1\, the University of Toronto celebrates the beginning of National Indigenous History Month. Strong advocacy from representatives of First Nations\, Inuit\, and Métis communities led to the creation of National Indigenous History Month in 2009 and National Indigenous Peoples Day (formerly National Aboriginal Day) in 1996. Both honour the distinct cultures of First Nations\, Inuit\, and Métis communities and encourages widespread recognition of the accomplishments and resilience of Indigenous Peoples across Turtle Island.  \nOn June 21\, we also celebrate National Indigenous Peoples Day\, which coincides with the summer solstice and affirms the traditional importance of this time for many Indigenous peoples and communities. \nLearn more via U of T’s  Division of People Strategy\, Equity & Culture.
URL:https://socialwork.utoronto.ca/event/national-indigenous-history-month/
LOCATION:Ontario
CATEGORIES:Dates of Awareness
END:VEVENT
BEGIN:VEVENT
DTSTART;VALUE=DATE:20240601
DTEND;VALUE=DATE:20240701
DTSTAMP:20260420T012844
CREATED:20240529T180514Z
LAST-MODIFIED:20240603T170659Z
UID:51500-1717200000-1719791999@socialwork.utoronto.ca
SUMMARY:Pride Month
DESCRIPTION:Pride Month \nPride has many meanings: it is a catalyst for change; a time to commemorate and celebrate; and an opportunity to express collective support and advocacy for 2SLGBTQ+ rights worldwide. The celebration of Pride was born out of the Stonewall Riots of 1969\, where protests and demonstrations erupted in response to police raids of the Stonewall Inn\, a popular Greenwich Village gay bar in New York. Pride in Toronto is rooted in community advocacy and organizing. The raids marked a turning point for Toronto’s gay community\, highlighting the need to advance 2SLGBTQ+ rights locally and worldwide.  \nClick here for a full listing of U of T Pride events hosted by the Sexual and Gender Diversity Office 
URL:https://socialwork.utoronto.ca/event/pride-month/
LOCATION:Ontario
CATEGORIES:Dates of Awareness
END:VEVENT
BEGIN:VEVENT
DTSTART;VALUE=DATE:20240601
DTEND;VALUE=DATE:20240701
DTSTAMP:20260420T012844
CREATED:20240529T181741Z
LAST-MODIFIED:20240529T181741Z
UID:51504-1717200000-1719791999@socialwork.utoronto.ca
SUMMARY:Filipino Heritage Month
DESCRIPTION:Canada is home to nearly one million people of Filipino descent\, one of the fastest growing communities in the country. In June and beyond\, let us recognize communities of Filipino descent and celebrate the important role they have played and continue to play in creating an open\, diverse\, and consciously more inclusive society.  \nLearn more about Heritage Months 
URL:https://socialwork.utoronto.ca/event/filipino-heritage-month/
LOCATION:Ontario
CATEGORIES:Dates of Awareness
END:VEVENT
BEGIN:VEVENT
DTSTART;VALUE=DATE:20240601
DTEND;VALUE=DATE:20240701
DTSTAMP:20260420T012844
CREATED:20240529T181927Z
LAST-MODIFIED:20240529T181927Z
UID:51506-1717200000-1719791999@socialwork.utoronto.ca
SUMMARY:Portuguese Heritage Month
DESCRIPTION:June is a time to recognize and celebrate the contribution of Canadians of Portuguese descent to our country. Now home to one of the largest Portuguese diasporas in the world\, Canada is enriched by its traditions\, language\, and culture.  \nLearn more about Heritage Months 
URL:https://socialwork.utoronto.ca/event/portuguese-heritage-month/
LOCATION:Ontario
CATEGORIES:Dates of Awareness
END:VEVENT
BEGIN:VEVENT
DTSTART;VALUE=DATE:20240601
DTEND;VALUE=DATE:20240701
DTSTAMP:20260420T012844
CREATED:20240529T182109Z
LAST-MODIFIED:20240529T182109Z
UID:51508-1717200000-1719791999@socialwork.utoronto.ca
SUMMARY:Italian Heritage Month
DESCRIPTION:June is a time to showcase the rich culture and heritage of Italian Canadians. Canada is home to more than 1.5 million Canadians of Italian descent\, making it one of the largest Italian diasporas in the world. In Canada\, Italian communities have contributed greatly through their achievements in all areas of society and have helped shape the Canada we know today.  \nLearn more about Heritage Months 
URL:https://socialwork.utoronto.ca/event/italian-heritage-month/
LOCATION:Ontario
CATEGORIES:Dates of Awareness
END:VEVENT
BEGIN:VEVENT
DTSTART;VALUE=DATE:20240621
DTEND;VALUE=DATE:20240622
DTSTAMP:20260420T012844
CREATED:20240202T202359Z
LAST-MODIFIED:20240202T202413Z
UID:48516-1718928000-1719014399@socialwork.utoronto.ca
SUMMARY:World Humanist Day • Humanism
DESCRIPTION:Originating in 1980\, this day is celebrated annually by Humanist chapters around the world in a variety of ways. On this day\, people focus on raising awareness of Humanist values and the philosophy behind the movement.  \nReligious and cultural days\nStudent Life has compiled a list of significant religious and cultural days. \nExplore the list to learn more about the holidays of different faith and ethnic groups\, when they are celebrated and how to greet or acknowledge those who observe. \nFor students: Accommodations for Religious Observances \nVisit the Office of the Vice Provost Students website and learn more about Religious Accommodations.  It is the policy of the University of Toronto to work with students who observe religious days other than those already accommodated by current scheduling and statutory holidays. Familiarize yourself with the Policy on Scheduling of Classes and Examinations and Other Accommodations for Religious Observances. \nDo you have questions or need help? \nContact the FIFSW Director of EDI\, Shahana Arain or visit The Office of the Vice Provost\, Students.
URL:https://socialwork.utoronto.ca/event/world-humanist-day-humanism/
LOCATION:Ontario
CATEGORIES:Religious and cultural observances
END:VEVENT
BEGIN:VEVENT
DTSTART;VALUE=DATE:20240621
DTEND;VALUE=DATE:20240622
DTSTAMP:20260420T012844
CREATED:20240202T202515Z
LAST-MODIFIED:20240202T202515Z
UID:48522-1718928000-1719014399@socialwork.utoronto.ca
SUMMARY:National Indigenous Peoples Day • Indigenous (Cultural)
DESCRIPTION:National Indigenous Peoples Day\, Indigenous (Cultural) National Indigenous Peoples Day\, Indigenous (Cultural)  \nReligious and cultural days\nStudent Life has compiled a list of significant religious and cultural days. \nExplore the list to learn more about the holidays of different faith and ethnic groups\, when they are celebrated and how to greet or acknowledge those who observe. \nFor students: Accommodations for Religious Observances \nVisit the Office of the Vice Provost Students website and learn more about Religious Accommodations.  It is the policy of the University of Toronto to work with students who observe religious days other than those already accommodated by current scheduling and statutory holidays. Familiarize yourself with the Policy on Scheduling of Classes and Examinations and Other Accommodations for Religious Observances. \nDo you have questions or need help? \nContact the FIFSW Director of EDI\, Shahana Arain or visit The Office of the Vice Provost\, Students.
URL:https://socialwork.utoronto.ca/event/national-indigenous-peoples-day-indigenous-cultural/
LOCATION:Ontario
CATEGORIES:Religious and cultural observances
END:VEVENT
END:VCALENDAR