BEGIN:VCALENDAR
VERSION:2.0
PRODID:-//Factor-Inwentash Faculty of Social Work - ECPv6.15.20//NONSGML v1.0//EN
CALSCALE:GREGORIAN
METHOD:PUBLISH
X-WR-CALNAME:Factor-Inwentash Faculty of Social Work
X-ORIGINAL-URL:https://socialwork.utoronto.ca
X-WR-CALDESC:Events for Factor-Inwentash Faculty of Social Work
REFRESH-INTERVAL;VALUE=DURATION:PT1H
X-Robots-Tag:noindex
X-PUBLISHED-TTL:PT1H
BEGIN:VTIMEZONE
TZID:America/Toronto
BEGIN:DAYLIGHT
TZOFFSETFROM:-0500
TZOFFSETTO:-0400
TZNAME:EDT
DTSTART:20230312T070000
END:DAYLIGHT
BEGIN:STANDARD
TZOFFSETFROM:-0400
TZOFFSETTO:-0500
TZNAME:EST
DTSTART:20231105T060000
END:STANDARD
BEGIN:DAYLIGHT
TZOFFSETFROM:-0500
TZOFFSETTO:-0400
TZNAME:EDT
DTSTART:20240310T070000
END:DAYLIGHT
BEGIN:STANDARD
TZOFFSETFROM:-0400
TZOFFSETTO:-0500
TZNAME:EST
DTSTART:20241103T060000
END:STANDARD
BEGIN:DAYLIGHT
TZOFFSETFROM:-0500
TZOFFSETTO:-0400
TZNAME:EDT
DTSTART:20250309T070000
END:DAYLIGHT
BEGIN:STANDARD
TZOFFSETFROM:-0400
TZOFFSETTO:-0500
TZNAME:EST
DTSTART:20251102T060000
END:STANDARD
END:VTIMEZONE
BEGIN:VEVENT
DTSTART;VALUE=DATE:20240501
DTEND;VALUE=DATE:20240601
DTSTAMP:20260419T181027
CREATED:20240419T151709Z
LAST-MODIFIED:20240419T204256Z
UID:50638-1714521600-1717199999@socialwork.utoronto.ca
SUMMARY:Asian Heritage Month
DESCRIPTION:May 1 marks the beginning of Asian Heritage Month\, a time to celebrate the many contributions that people of Asian descent have made—and continue to make—to Canadian society. This month recognizes the breadth and depth of Asian identities\, whose roots originate in more than 40 countries worldwide.  \nUniversity of Toronto Chancellor Emerita Dr. Vivienne Poy\, the first Canadian Senator of Asian ancestry\, initiated the national recognition of Asian Heritage Month. Building on significant community efforts and a groundswell of support\, she successfully proposed the motion in the Senate of Canada in 2001. Dr. Poy reflected two decades later\, “My motivation was about education\, about learning from each other\, because once you learn\, you respect.”  \nLearn about upcoming events honouring Asian Heritage Month at the University of Toronto’s Anti-Racism and Cultural Diversity Office
URL:https://socialwork.utoronto.ca/event/asian-heritage-month/
LOCATION:Ontario
CATEGORIES:Dates of Awareness
END:VEVENT
BEGIN:VEVENT
DTSTART;VALUE=DATE:20240501
DTEND;VALUE=DATE:20240601
DTSTAMP:20260419T181027
CREATED:20240419T153320Z
LAST-MODIFIED:20240419T204417Z
UID:50646-1714521600-1717199999@socialwork.utoronto.ca
SUMMARY:Jewish Heritage Month
DESCRIPTION:May is a time to celebrate the richness of Jewish culture\, heritage and history in Canada. Canada is home to the fourth largest Jewish community in the world. Jewish Canadian leaders are active in all parts of society and have helped shape the diversity found within it.  \nCanadian Jewish Heritage Month provides an opportunity to celebrate Jewish communities from coast to coast to coast for their valuable contributions in building a more open\, diverse\, and consciously more inclusive Canada for all.  \n\nLearn about the history of FIFSW partners  \nJewish Family & Child Service of Greater Toronto (JF&CS)\n\nJF&CS got its start in 1868 with the establishment of the Ladies’ Sick Benefit Society\, created by the first female Jewish residents in Toronto. Learn about the history of JF&S via an online exhibit\, created in honor of the agency’s 150th anniversary in 2018.  \nPracticum partner spotlight: Read our 2022 Q & A with Maytal Michaelov\, Jewish Family and Child Service of Greater Toronto (JF&CS)\nBaycrest Health Sciences Centre\nBaycrest was born as the Toronto Jewish Old Folks Home in 1918. A timeline of its history is available on its website. Read more via the Ontario Jewish Archives.  \nPracticum partner spotlight: Read our 2022 Q & A with Ruth Brickman\, Social Worker\, Memory Link\, Neuropsychology and Cognitive Health\, Baycrest  \nSinai Health System\n\nIn August of 1913\, four immigrant women from Toronto’s Jewish community started knocking on neighbourhood doors to raise money for a hospital that would give Jewish doctors a place to practice. Learn more about Mount Sinai’s history via its website.\n \nRead our 2023 article on Mount Sinai’s 100th anniversary.\nNational Council of Jewish Women of Canada\, Toronto\n\nEstablished in Toronto in 1897\, NCJWC now also has sections in Winnipeg\, Edmonton and Vancouver and members in other Canadian cities. Visit NCJWC’s website to read more about its history and programs.  \n\n 
URL:https://socialwork.utoronto.ca/event/jewish-heritage-month/
LOCATION:Ontario
CATEGORIES:Dates of Awareness
END:VEVENT
BEGIN:VEVENT
DTSTART;VALUE=DATE:20240501
DTEND;VALUE=DATE:20240601
DTSTAMP:20260419T181027
CREATED:20240422T154800Z
LAST-MODIFIED:20240422T154800Z
UID:50674-1714521600-1717199999@socialwork.utoronto.ca
SUMMARY:Dutch Heritage Month
DESCRIPTION:From the Ontario government: \nOntario is home to about 500\,000 Dutch Canadians. Since the early 1800s\, the Dutch Canadian community has made and continues to make significant contributions to the growth and prosperity of the Province of Ontario. \nBy proclaiming the month of May as Dutch Heritage Month\, the Province of Ontario recognizes the important contributions that Dutch Canadians have made to the economic\, political\, social and cultural fabric of Ontario’s society. \nMay is a historically significant month for the Dutch Canadian community. On May 5\, 1945\, the Canadian forces were instrumental in the liberation of the Netherlands from occupation during World War II. The Netherlands celebrates its independence and liberty\, along with the heroic efforts of the Canadian forces\, with a national holiday known as Liberation Day\, which takes place annually on May 5.
URL:https://socialwork.utoronto.ca/event/dutch-heritage-month/
LOCATION:Ontario
CATEGORIES:Dates of Awareness
END:VEVENT
BEGIN:VEVENT
DTSTART;VALUE=DATE:20240501
DTEND;VALUE=DATE:20240601
DTSTAMP:20260419T181027
CREATED:20240422T162148Z
LAST-MODIFIED:20240501T172708Z
UID:50678-1714521600-1717199999@socialwork.utoronto.ca
SUMMARY:South Asian Heritage Month
DESCRIPTION:From the Ontario government: \nSouth Asian immigrants began arriving in Ontario at the start of the 20th century. Working primarily in the sawmill industry\, South Asian immigrants settled in various parts of the province. For South Asians\, the month of May has been a time of celebration and commemoration of their arrival from the Indian subcontinent to the Americas beginning on May 5\, 1838. \nWhile most South Asians came to our country from India\, many others came to Ontario from such places as Pakistan\, Sri Lanka\, Bangladesh\, Uganda\, Kenya\, South Africa\, Mauritius\, Singapore\, Malaysia\, Fiji\, the United Kingdom\, Trinidad and Tobago and Guyana. Today\, South Asians make up a significant proportion of Ontario’s population and are proud to draw upon their heritage and traditions\, contributing to many aspects of culture\, commerce and public service across this province. \nIt is appropriate to recognize and pay tribute to the contributions South Asians have made\, and continue to make\, to the development and general welfare of Ontario.
URL:https://socialwork.utoronto.ca/event/south-asian-heritage-month/
LOCATION:Ontario
CATEGORIES:Dates of Awareness
END:VEVENT
END:VCALENDAR