BEGIN:VCALENDAR
VERSION:2.0
PRODID:-//Factor-Inwentash Faculty of Social Work - ECPv6.15.20//NONSGML v1.0//EN
CALSCALE:GREGORIAN
METHOD:PUBLISH
X-WR-CALNAME:Factor-Inwentash Faculty of Social Work
X-ORIGINAL-URL:https://socialwork.utoronto.ca
X-WR-CALDESC:Events for Factor-Inwentash Faculty of Social Work
REFRESH-INTERVAL;VALUE=DURATION:PT1H
X-Robots-Tag:noindex
X-PUBLISHED-TTL:PT1H
BEGIN:VTIMEZONE
TZID:America/Toronto
BEGIN:DAYLIGHT
TZOFFSETFROM:-0500
TZOFFSETTO:-0400
TZNAME:EDT
DTSTART:20230312T070000
END:DAYLIGHT
BEGIN:STANDARD
TZOFFSETFROM:-0400
TZOFFSETTO:-0500
TZNAME:EST
DTSTART:20231105T060000
END:STANDARD
BEGIN:DAYLIGHT
TZOFFSETFROM:-0500
TZOFFSETTO:-0400
TZNAME:EDT
DTSTART:20240310T070000
END:DAYLIGHT
BEGIN:STANDARD
TZOFFSETFROM:-0400
TZOFFSETTO:-0500
TZNAME:EST
DTSTART:20241103T060000
END:STANDARD
BEGIN:DAYLIGHT
TZOFFSETFROM:-0500
TZOFFSETTO:-0400
TZNAME:EDT
DTSTART:20250309T070000
END:DAYLIGHT
BEGIN:STANDARD
TZOFFSETFROM:-0400
TZOFFSETTO:-0500
TZNAME:EST
DTSTART:20251102T060000
END:STANDARD
END:VTIMEZONE
BEGIN:VEVENT
DTSTART;VALUE=DATE:20240401
DTEND;VALUE=DATE:20240501
DTSTAMP:20260420T074458
CREATED:20240403T132817Z
LAST-MODIFIED:20240403T132842Z
UID:50370-1711929600-1714521599@socialwork.utoronto.ca
SUMMARY:Sikh Heritage Month
DESCRIPTION:Sikh Heritage Month\, launched nationwide in 2019\, encourages celebration and recognition of the contributions that Sikh communities have made—and continue to make—to all aspects of Canadian society. It also encourages dialogue about productive strategies to foster inclusion and belonging for the Sikh community in Canada. \nThe month of April holds great significance to Sikhs globally. It is a time when Sikhs celebrate the birth of the Khalsa. “Khalsa\,” founded in 1699\, refers to a community that considers Sikhism as its faith and a group of initiated Sikhs. It emerged during the spring harvest festival of Vaisaikhi\, a festival also recognized by additional communities and faiths. \nOntario has formally recognized Sikh Heritage Month since 2013\, celebrating the historical and contemporary contributions of Sikh communities across the province. \nFind related links\, training sessions and more on U of T’s website.
URL:https://socialwork.utoronto.ca/event/sikh-heritage-month/
LOCATION:Ontario
CATEGORIES:Dates of Awareness
END:VEVENT
BEGIN:VEVENT
DTSTART;VALUE=DATE:20240421
DTEND;VALUE=DATE:20240503
DTSTAMP:20260420T074458
CREATED:20240202T190752Z
LAST-MODIFIED:20240202T190752Z
UID:48474-1713657600-1714694399@socialwork.utoronto.ca
SUMMARY:Festival of Ridván • Baha’i
DESCRIPTION:Pronounced “rid-van”  \nThe Festival of Ridván meaning “the King of Festivals” runs for 12 days to commemorate the 12 days Baha’u’llah spent in the garden of Ridván outside Baghdad. The 1st\, 9th and 12th days are holy days on which work is suspended.  \nUpcoming dates:  \nCommon greetings: “Happy Ridvan” or “Wishing you a joyous Festival of Ridvan”  \nReligious and cultural days\nStudent Life has compiled a list of significant religious and cultural days. \nExplore the list to learn more about the holidays of different faith and ethnic groups\, when they are celebrated and how to greet or acknowledge those who observe. \nFor students: Accommodations for Religious Observances \nVisit the Office of the Vice Provost Students website and learn more about Religious Accommodations.  It is the policy of the University of Toronto to work with students who observe religious days other than those already accommodated by current scheduling and statutory holidays. Familiarize yourself with the Policy on Scheduling of Classes and Examinations and Other Accommodations for Religious Observances. \nDo you have questions or need help? \nContact the FIFSW Director of EDI\, Shahana Arain or visit The Office of the Vice Provost\, Students.
URL:https://socialwork.utoronto.ca/event/festival-of-ridvan-bahai/
LOCATION:Ontario
CATEGORIES:Religious and cultural observances
END:VEVENT
BEGIN:VEVENT
DTSTART;VALUE=DATE:20240422
DTEND;VALUE=DATE:20240501
DTSTAMP:20260420T074458
CREATED:20240202T194014Z
LAST-MODIFIED:20240202T194014Z
UID:48493-1713744000-1714521599@socialwork.utoronto.ca
SUMMARY:Pesach - Passover • Judaism 
DESCRIPTION:Passover\, Pesach or the Festival of Liberation is a major Jewish holiday that celebrates the Exodus from ancient Egypt. This week long celebration includes story telling\, lighting candles\, and a ritual feast.  \nCommon greetings: “Chag Sameach” (Happy Holidays) or “Chag Pesach Sameach” (Happy Passover Holiday)  \nReligious and cultural days\nStudent Life has compiled a list of significant religious and cultural days. \nExplore the list to learn more about the holidays of different faith and ethnic groups\, when they are celebrated and how to greet or acknowledge those who observe. \nFor students: Accommodations for Religious Observances \nVisit the Office of the Vice Provost Students website and learn more about Religious Accommodations.  It is the policy of the University of Toronto to work with students who observe religious days other than those already accommodated by current scheduling and statutory holidays. Familiarize yourself with the Policy on Scheduling of Classes and Examinations and Other Accommodations for Religious Observances. \nDo you have questions or need help? \nContact the FIFSW Director of EDI\, Shahana Arain or visit The Office of the Vice Provost\, Students.
URL:https://socialwork.utoronto.ca/event/pesach-passover-judaism/
LOCATION:Ontario
CATEGORIES:Religious and cultural observances
END:VEVENT
BEGIN:VEVENT
DTSTART;TZID=America/Toronto:20240426T180000
DTEND;TZID=America/Toronto:20240426T200000
DTSTAMP:20260420T074458
CREATED:20240403T182155Z
LAST-MODIFIED:20240403T182155Z
UID:50373-1714154400-1714161600@socialwork.utoronto.ca
SUMMARY:Practice Consultation for Black-Identifying Social Work Students
DESCRIPTION:This is only open to current FIFSW students. Please note that this is the final session for the academic year.  \nJoined by Shawnette Thompson\, the purpose of the practice consultation sessions is to provide Black-identifying social work students with an opportunity to receive advice\, mentorship\, and general support from a Black clinical social worker around how to navigate issues that may arise in their own practice while on practicum and professionally. This space has been created as a braver space for Black-identifying students to share and explore their experiences. \nShawnette Thompson (she/her) brings to the role of Social Work Practice Consultant for the Black Social Work Student’s Association over 15 years of rich experience in social work. This experience spans across private practice\, community programs\, mental health clinics\, universities\, group homes\, and adolescent treatment facilities. Her extensive career has included roles as a child and youth worker\, an individual and family therapist\, a manager of community programs\, and most recently\, the Supervisor of Clinical Affairs at U of T’s Factor-Inwentash Faculty of Social Work’s Talk It Out Clinic. Shawnette also continues to actively maintain a private practice\, providing therapy to couples\, individuals\, and families\, in addition to providing clinical consultation to social workers in the field. \nAs a Black cisgender female of Caribbean descent\, Shawnette is deeply invested in the mentorship of future social work professionals\, with a focus on dismantling Anti-Black racism and fostering culturally responsive practices. Her appointment as the Social Work Practice Consultant for the Black Social Work Students’ Association at FIFSW is a testament to her dedication and collaborative spirit. \nIn this role\, Shawnette is committed to creating a nurturing environment that not only respects the shared identities of Black students but also promotes the personal and professional\, development of each individual. \nRegister for the Practice Consultation for Black-Identifying Social Work Students!
URL:https://socialwork.utoronto.ca/event/practice-consultation-for-black-identifying-social-work-students-4/
LOCATION:Online
CATEGORIES:Students
END:VEVENT
END:VCALENDAR