BEGIN:VCALENDAR
VERSION:2.0
PRODID:-//Factor-Inwentash Faculty of Social Work - ECPv6.15.20//NONSGML v1.0//EN
CALSCALE:GREGORIAN
METHOD:PUBLISH
X-WR-CALNAME:Factor-Inwentash Faculty of Social Work
X-ORIGINAL-URL:https://socialwork.utoronto.ca
X-WR-CALDESC:Events for Factor-Inwentash Faculty of Social Work
REFRESH-INTERVAL;VALUE=DURATION:PT1H
X-Robots-Tag:noindex
X-PUBLISHED-TTL:PT1H
BEGIN:VTIMEZONE
TZID:America/Toronto
BEGIN:DAYLIGHT
TZOFFSETFROM:-0500
TZOFFSETTO:-0400
TZNAME:EDT
DTSTART:20230312T070000
END:DAYLIGHT
BEGIN:STANDARD
TZOFFSETFROM:-0400
TZOFFSETTO:-0500
TZNAME:EST
DTSTART:20231105T060000
END:STANDARD
BEGIN:DAYLIGHT
TZOFFSETFROM:-0500
TZOFFSETTO:-0400
TZNAME:EDT
DTSTART:20240310T070000
END:DAYLIGHT
BEGIN:STANDARD
TZOFFSETFROM:-0400
TZOFFSETTO:-0500
TZNAME:EST
DTSTART:20241103T060000
END:STANDARD
BEGIN:DAYLIGHT
TZOFFSETFROM:-0500
TZOFFSETTO:-0400
TZNAME:EDT
DTSTART:20250309T070000
END:DAYLIGHT
BEGIN:STANDARD
TZOFFSETFROM:-0400
TZOFFSETTO:-0500
TZNAME:EST
DTSTART:20251102T060000
END:STANDARD
END:VTIMEZONE
BEGIN:VEVENT
DTSTART;VALUE=DATE:20240310
DTEND;VALUE=DATE:20240410
DTSTAMP:20260420T185517
CREATED:20240227T174317Z
LAST-MODIFIED:20240227T174317Z
UID:49432-1710028800-1712707199@socialwork.utoronto.ca
SUMMARY:Ramadan
DESCRIPTION:
URL:https://socialwork.utoronto.ca/event/ramadan/
LOCATION:Ontario
END:VEVENT
BEGIN:VEVENT
DTSTART;VALUE=DATE:20240401
DTEND;VALUE=DATE:20240501
DTSTAMP:20260420T185517
CREATED:20240403T132817Z
LAST-MODIFIED:20240403T132842Z
UID:50370-1711929600-1714521599@socialwork.utoronto.ca
SUMMARY:Sikh Heritage Month
DESCRIPTION:Sikh Heritage Month\, launched nationwide in 2019\, encourages celebration and recognition of the contributions that Sikh communities have made—and continue to make—to all aspects of Canadian society. It also encourages dialogue about productive strategies to foster inclusion and belonging for the Sikh community in Canada. \nThe month of April holds great significance to Sikhs globally. It is a time when Sikhs celebrate the birth of the Khalsa. “Khalsa\,” founded in 1699\, refers to a community that considers Sikhism as its faith and a group of initiated Sikhs. It emerged during the spring harvest festival of Vaisaikhi\, a festival also recognized by additional communities and faiths. \nOntario has formally recognized Sikh Heritage Month since 2013\, celebrating the historical and contemporary contributions of Sikh communities across the province. \nFind related links\, training sessions and more on U of T’s website.
URL:https://socialwork.utoronto.ca/event/sikh-heritage-month/
LOCATION:Ontario
CATEGORIES:Dates of Awareness
END:VEVENT
BEGIN:VEVENT
DTSTART;VALUE=DATE:20240409
DTEND;VALUE=DATE:20240410
DTSTAMP:20260420T185517
CREATED:20240202T193153Z
LAST-MODIFIED:20240202T202748Z
UID:48487-1712620800-1712707199@socialwork.utoronto.ca
SUMMARY:Eid Al-Fitr • Islam
DESCRIPTION:A major Muslim holiday that celebrates the end of Ramadan with prayer\, feasts and family/social gatherings.  \nCommon greetings: “Happy Eid” or “Eid Mubarak”  \nReligious and cultural days\nStudent Life has compiled a list of significant religious and cultural days. \nExplore the list to learn more about the holidays of different faith and ethnic groups\, when they are celebrated and how to greet or acknowledge those who observe. \nFor students: Accommodations for Religious Observances \nVisit the Office of the Vice Provost Students website and learn more about Religious Accommodations.  It is the policy of the University of Toronto to work with students who observe religious days other than those already accommodated by current scheduling and statutory holidays. Familiarize yourself with the Policy on Scheduling of Classes and Examinations and Other Accommodations for Religious Observances. \nDo you have questions or need help? \nContact the FIFSW Director of EDI\, Shahana Arain or visit The Office of the Vice Provost\, Students.
URL:https://socialwork.utoronto.ca/event/eid-al-fitr-muslim/
LOCATION:Ontario
CATEGORIES:Religious and cultural observances
END:VEVENT
END:VCALENDAR