BEGIN:VCALENDAR
VERSION:2.0
PRODID:-//Factor-Inwentash Faculty of Social Work - ECPv6.15.20//NONSGML v1.0//EN
CALSCALE:GREGORIAN
METHOD:PUBLISH
X-WR-CALNAME:Factor-Inwentash Faculty of Social Work
X-ORIGINAL-URL:https://socialwork.utoronto.ca
X-WR-CALDESC:Events for Factor-Inwentash Faculty of Social Work
REFRESH-INTERVAL;VALUE=DURATION:PT1H
X-Robots-Tag:noindex
X-PUBLISHED-TTL:PT1H
BEGIN:VTIMEZONE
TZID:America/Toronto
BEGIN:DAYLIGHT
TZOFFSETFROM:-0500
TZOFFSETTO:-0400
TZNAME:EDT
DTSTART:20230312T070000
END:DAYLIGHT
BEGIN:STANDARD
TZOFFSETFROM:-0400
TZOFFSETTO:-0500
TZNAME:EST
DTSTART:20231105T060000
END:STANDARD
BEGIN:DAYLIGHT
TZOFFSETFROM:-0500
TZOFFSETTO:-0400
TZNAME:EDT
DTSTART:20240310T070000
END:DAYLIGHT
BEGIN:STANDARD
TZOFFSETFROM:-0400
TZOFFSETTO:-0500
TZNAME:EST
DTSTART:20241103T060000
END:STANDARD
BEGIN:DAYLIGHT
TZOFFSETFROM:-0500
TZOFFSETTO:-0400
TZNAME:EDT
DTSTART:20250309T070000
END:DAYLIGHT
BEGIN:STANDARD
TZOFFSETFROM:-0400
TZOFFSETTO:-0500
TZNAME:EST
DTSTART:20251102T060000
END:STANDARD
END:VTIMEZONE
BEGIN:VEVENT
DTSTART;VALUE=DATE:20240201
DTEND;VALUE=DATE:20240301
DTSTAMP:20260419T231946
CREATED:20240122T221520Z
LAST-MODIFIED:20240129T155903Z
UID:48191-1706745600-1709251199@socialwork.utoronto.ca
SUMMARY:Black History and Liberation Month
DESCRIPTION:The motion to officially recognize February as Black History Month was introduced in the House of Commons in 1995 by the first Black woman elected to Parliament\, the Honourable Jean Augustine. The University of Toronto joins in celebrating and recognizing the change makers of African descent in Canadian history\, who shaped the fabric of Canadian society and impacted innovation in all sectors including science\, engineering\, medicine\, public health\, education\, politics\, and the arts. \n“In the field of social work — given our objectives to recognize\, challenge and eradicate systems of oppression (including those in which we have played key roles) — I think it is fitting to ensure that we also focus on stories of Black liberation and social transformation\,” wrote FIFSW Dean Charmaine Williams last year. “This is why I like the idea of calling this month Black History and Liberation Month.” \n\nUPCOMING FIFSW EVENTS\nAlumni Association Event Series: Black Health Equity and the Culture of Accountability\, with Notisha Massaquoi\nDate to be shared shortly.\n6:30pm to 8:00pm\nPresented by the FIFSW Alumni Association \nAlumni Association Event Series: Healing Through Afrocentric Care: Foundations of Afrocentric Care and its Impact on Black Communities and Practitioners\, with Amma Gyamfowa\nMonday\, February 26\, 2024\n6:30pm to 8:00pm\nPresented by the FIFSW Alumni Association \nInvisible Wounds: Stories of Survivorship – Film Screening for Black History Month\nWednesday\, February 28\, 2024\n6:00pm to 8:00pm\nPresented by FIFSW in partnership with The CRIB \n\nUPCOMING U of T EVENTS\nView the University of Toronto’s Black History 365 Calendar\nView Black History Month events presented by the University’s Anti-Racism and Cultural Diversity Office (ARCDO)\nA Celebration of Black History Through Music\nSaturday\, February 10\, 2024\n7:30 to 9:00pm\nIsabel Bader Theatre\nA performance by the Faculty of Music Gospel Choir \n\nOntario Association of Social Workers (OASW)\nOASW is presenting a free\, online series spotlighting Black innovation\, leadership and Black-centric approaches in social work. \nView OASW’s upcoming Black Voices in Social Work events. \n\nU OF T ANTI-BLACK RACISM TASK FORCE REPORT\nThe U of T institutional Anti-Black Racism Task Force was formed to address anti-Black racism and to promote Black inclusion and excellence within the University of Toronto tri-campus community. Throughout the course of the 2020-21 academic year\, the Task Force reviewed existing University policies\, processes\, and practices and considered others that would address anti-Black racism. The Report of the University of Toronto Anti-Black Racism Task Force was delivered to the President\, Vice-President Human Resources and Equity\, and Provost on March 31\, 2021\, and provided actionable recommendations to further Black inclusion and excellence at the University. \nSince the Report’s release in 2021\, students\, staff\, faculty\, and librarians across the University community have collaborated to develop initiatives that directly address the Report’s recommendations. Learn about some some of the initiatives that have been launched as a result of the Anti-Black Racism Task Force Report. \nReview U of T’s Equity Commitments and its progress in addressing recommendations that were developed to respond to the needs of campus communities experiencing racism and/or discrimination.  \n\n 
URL:https://socialwork.utoronto.ca/event/black-history-and-liberation-month/
LOCATION:Ontario
CATEGORIES:Dates of Awareness
END:VEVENT
BEGIN:VEVENT
DTSTART;VALUE=DATE:20240206
DTEND;VALUE=DATE:20240207
DTSTAMP:20260419T231946
CREATED:20240125T181930Z
LAST-MODIFIED:20240125T181930Z
UID:48241-1707177600-1707263999@socialwork.utoronto.ca
SUMMARY:Laylat al-Miraj • Islam
DESCRIPTION:Observance to commemorate the miraculous journey of Prophet Muhammad from Makkah to Al Quds and to the heavens.   \nReligious and cultural days\nStudent Life has compiled a list of significant religious and cultural days. \nExplore the list to learn more about the holidays of different faith and ethnic groups\, when they are celebrated and how to greet or acknowledge those who observe. \nFor students: Accommodations for Religious Observances \nVisit the Office of the Vice Provost Students website and learn more about Religious Accommodations.  It is the policy of the University of Toronto to work with students who observe religious days other than those already accommodated by current scheduling and statutory holidays. Familiarize yourself with the Policy on Scheduling of Classes and Examinations and Other Accommodations for Religious Observances. \nDo you have questions or need help? \nContact the FIFSW Director of EDI\, Shahana Arain or visit The Office of the Vice Provost\, Students.
URL:https://socialwork.utoronto.ca/event/laylat-al-miraj-islam/
LOCATION:Ontario
CATEGORIES:Religious and cultural observances
END:VEVENT
BEGIN:VEVENT
DTSTART;TZID=America/Toronto:20240206T120000
DTEND;TZID=America/Toronto:20240206T130000
DTSTAMP:20260419T231946
CREATED:20240130T190600Z
LAST-MODIFIED:20240130T191511Z
UID:48373-1707220800-1707224400@socialwork.utoronto.ca
SUMMARY:Turning Over a New Leaf: Links Between Nature Access and Outcomes in Long-Term Care
DESCRIPTION:Peggy Chi\, PhD MLA B.Arch.Sci. OALA CSLA\nPostdoctoral Fellow | Landscape Architect\nInstitute of Health Policy\, Management and Evaluation Dalla Lana School of Public Health\nInstitute for Life Course & Aging (ILCA) 2023-2024 Seminar Series \n\n\n\n\nNatural environments (e.g.\, vegetation\, daylight\, fresh air\, sky\, water\, weather\, and animals) in healthcare design are thought to promote health. This presentation will describe a study that examined the relationships between the natural environment and the mental health and well-being of older adults living with Alzheimer’s disease and related dementias (residents) and of their professional caregivers in long-term care homes. \nThe design\, usage\, and exposure to natural environments in long-term care homes were significantly associated with outcomes such as work-related stress\, burnout\, turnover intention\, and responsive behavior in secure and non-secure home areas. Practical implications derived from the finding will present opportunities for future research and potential interventions to include in the transformation of long-term care homes. \nDr. Peggy Chi is a licensed landscape architect whose work focuses on research\, knowledge mobilization\, and use of evidence to inform the design and decision-making of aging environments. \nRegistration is not required. Click here to join the zoom meeting on February 6 at 12:00.
URL:https://socialwork.utoronto.ca/event/turning-over-a-new-leaf-links-between-nature-access-and-outcomes-in-long-term-care/
LOCATION:zoom
CATEGORIES:ILCA event
END:VEVENT
BEGIN:VEVENT
DTSTART;TZID=America/Toronto:20240206T121500
DTEND;TZID=America/Toronto:20240206T131500
DTSTAMP:20260419T231946
CREATED:20231023T181855Z
LAST-MODIFIED:20240131T212638Z
UID:46715-1707221700-1707225300@socialwork.utoronto.ca
SUMMARY:Health Equity Grand Rounds 2024: Pathways to Mental Health Outcomes Among Women Living With HIV
DESCRIPTION:This event is for FIFSW students only. \nRegister for Pathways to Mental Health Outcomes Among Women Living with HIV\nAbout our featured speaker\n\nDr. Carmen Logie is a full Professor in the Factor-Inwentash Faculty of Social Work. She is an Adjunct Scientist at Women’s College Research Institute\, Adjunct Professor at United Nations University Institute for Water\, Environment & Health\, and Research Scientist\, Centre for Gender & Sexual Health Equity. She holds the Canada Research Chair in Global Health Equity and Social Justice with Marginalized Populations. \nDr. Logie’s research program advances understanding of and develops interventions to address stigma and other social-ecological factors associated with HIV and STI prevention and care. She is particularly interested in understanding and addressing intersectional stigma and its sexual\, reproductive\, and mental health impacts\, with a focus on HIV and STI. Her current research focuses on HIV/STI prevention\, testing and care cascades in Canada\, Uganda and Jamaica with people living with HIV\, refugee and other displaced youth\, LGBT communities\, Indigenous youth\, sex workers\, and persons at the intersection of these identities. \nAbout The Health Equity Grand Rounds\nThe Health Equity Grand Rounds focuses on equity issues related to health and mental health practice. It involves talks by experts focused on key themes in the field. There will be 5 Grand Rounds scheduled in the 2023-2024 academic year. FIFSW students can earn a certificate of completion by attending a minimum of 4 rounds throughout the academic year. For any questions\, please contact Peter Sheffield or Dr. Rachelle Ashcroft.
URL:https://socialwork.utoronto.ca/event/hegr-2024-pathways-to-mental-health-outcomes-among-women-living-with-hiv/
LOCATION:FIFSW Building RM 720\, 246 Bloor Street\, ON\, L4Z 1J9\, Canada
CATEGORIES:Health Equity Grand Rounds,Students
END:VEVENT
END:VCALENDAR