BEGIN:VCALENDAR
VERSION:2.0
PRODID:-//Factor-Inwentash Faculty of Social Work - ECPv6.15.20//NONSGML v1.0//EN
CALSCALE:GREGORIAN
METHOD:PUBLISH
X-WR-CALNAME:Factor-Inwentash Faculty of Social Work
X-ORIGINAL-URL:https://socialwork.utoronto.ca
X-WR-CALDESC:Events for Factor-Inwentash Faculty of Social Work
REFRESH-INTERVAL;VALUE=DURATION:PT1H
X-Robots-Tag:noindex
X-PUBLISHED-TTL:PT1H
BEGIN:VTIMEZONE
TZID:America/Toronto
BEGIN:DAYLIGHT
TZOFFSETFROM:-0500
TZOFFSETTO:-0400
TZNAME:EDT
DTSTART:20220313T070000
END:DAYLIGHT
BEGIN:STANDARD
TZOFFSETFROM:-0400
TZOFFSETTO:-0500
TZNAME:EST
DTSTART:20221106T060000
END:STANDARD
BEGIN:DAYLIGHT
TZOFFSETFROM:-0500
TZOFFSETTO:-0400
TZNAME:EDT
DTSTART:20230312T070000
END:DAYLIGHT
BEGIN:STANDARD
TZOFFSETFROM:-0400
TZOFFSETTO:-0500
TZNAME:EST
DTSTART:20231105T060000
END:STANDARD
BEGIN:DAYLIGHT
TZOFFSETFROM:-0500
TZOFFSETTO:-0400
TZNAME:EDT
DTSTART:20240310T070000
END:DAYLIGHT
BEGIN:STANDARD
TZOFFSETFROM:-0400
TZOFFSETTO:-0500
TZNAME:EST
DTSTART:20241103T060000
END:STANDARD
END:VTIMEZONE
BEGIN:VEVENT
DTSTART;TZID=America/Toronto:20231204T121500
DTEND;TZID=America/Toronto:20231204T131500
DTSTAMP:20260420T031233
CREATED:20231127T211424Z
LAST-MODIFIED:20231205T210327Z
UID:47479-1701692100-1701695700@socialwork.utoronto.ca
SUMMARY:CANCELLED: Community Conversation: Collaborative Practice across Professions: Working with Law Enforcement to respond to Violence against Children and Youth
DESCRIPTION:Due to unforeseen circumstances this event has been cancelled at this time.\n  \nDavid Carter is a retired Detective of 30-years with the Toronto Police Service. He was a trained Sexual Assault Child Abuse Investigator with experience in many child abuse cases including the youngest victim of abuse at just 3-years old.David was in charge of numerous criminal cases assisting the Crown Attorney as well as the safety of the victims testifying in court and obtaining numerous convictions. David was the lead Investigator in a Religious Cult which was under the guise of several children being abused. David has written his book on that Investigation and will share some of the details of the book and his experience working with Children’s Aid workers in conjunction with Police.
URL:https://socialwork.utoronto.ca/event/community-conversation-1-collaborative-practice-across-professions-working-with-law-enforcement-to-respond-to-violence-against-children-and-youth/
LOCATION:FIFSW Building\, Room 548\, 246 Bloor Street West\, Toronto\, Ontario\, M5S 1V4\, Canada
CATEGORIES:Alumni,Public,Students
END:VEVENT
BEGIN:VEVENT
DTSTART;TZID=America/Toronto:20231204T183000
DTEND;TZID=America/Toronto:20231204T200000
DTSTAMP:20260420T031233
CREATED:20231115T192047Z
LAST-MODIFIED:20231127T103403Z
UID:47255-1701714600-1701720000@socialwork.utoronto.ca
SUMMARY:Best Practices in Dialectical Behaviour Therapy (DBT)
DESCRIPTION:Please join us for our next lecture in the 2023-2024 Alumni Series\, presented by the FIFSW Alumni Association\, where we will be joined by Laval Martin in an interactive talk titled\, “Best Practices in Dialectical Behaviour Therapy.“ \nAlumni\, students\, faculty and members of the public are all welcome to attend. \nWhen: Monday\, December 4\, 2023 | 6:30PM – 8:00PM ET\nWhere: Online (Zoom) \nRegister for the event here \nCertificate of Attendance: Participants will be eligible to receive a certificate of attendance for use towards professional development. An e-certificate will be issued to participants who join us for 80% or more of the lecture time. \nAbout the talk \nThis interactive talk on Dialectical Behaviour Therapy (DBT)\, led by Laval Martin\, a social worker who has been practicing psychotherapy through a DBT lens since 2015\, will allow participants to submit their specific questions and areas of interest ahead of time. The content of the talk will be built around the particular areas of greatest interest\, based upon the feedback received from attendees through the registration form. \nAbout the speaker \nLaval has a life-long love for learning and has been training since 2010. Laval loves empowering people through imparting skills and knowledge. He makes training entertaining and keeps his learners engaged by incorporating real-world stories and examples. \nLaval holds both a bachelor’s and a master’s degree in social work. He has worked in the social work field since 2006\, with various populations\, including people experiencing mental health challenges\, intellectual and developmental disabilities\, and homelessness and poverty. He has extensive experience in crisis intervention and conflict resolution from working in group homes\, shelters\, and drop-ins. \nIn addition to training\, Laval began offering psychotherapy in 2015 and currently has a private practice where he operates primarily through a lens of Dialectical Behaviour Therapy\, working with people who experience a variety of mental health and relationship concerns. His undergraduate education focused extensively on anti-oppressive practice. He co-facilitates a peer supervision group for social workers and other helping professionals. \nLaval has also practiced various martial arts and self-defense systems since 2001\, with a focus on avoiding and de-escalating conflict. He is a full-instructor of Senshido and also holds an instructor certification with Safe International. He has hosted a monthly meetup\, Beer and Philosophy Night\, since 2014.
URL:https://socialwork.utoronto.ca/event/fifswaa-martin/
LOCATION:via Zoom
CATEGORIES:Alumni,Public,Students
END:VEVENT
END:VCALENDAR