BEGIN:VCALENDAR
VERSION:2.0
PRODID:-//Factor-Inwentash Faculty of Social Work - ECPv6.15.20//NONSGML v1.0//EN
CALSCALE:GREGORIAN
METHOD:PUBLISH
X-ORIGINAL-URL:https://socialwork.utoronto.ca
X-WR-CALDESC:Events for Factor-Inwentash Faculty of Social Work
REFRESH-INTERVAL;VALUE=DURATION:PT1H
X-Robots-Tag:noindex
X-PUBLISHED-TTL:PT1H
BEGIN:VTIMEZONE
TZID:America/Toronto
BEGIN:DAYLIGHT
TZOFFSETFROM:-0500
TZOFFSETTO:-0400
TZNAME:EDT
DTSTART:20220313T070000
END:DAYLIGHT
BEGIN:STANDARD
TZOFFSETFROM:-0400
TZOFFSETTO:-0500
TZNAME:EST
DTSTART:20221106T060000
END:STANDARD
BEGIN:DAYLIGHT
TZOFFSETFROM:-0500
TZOFFSETTO:-0400
TZNAME:EDT
DTSTART:20230312T070000
END:DAYLIGHT
BEGIN:STANDARD
TZOFFSETFROM:-0400
TZOFFSETTO:-0500
TZNAME:EST
DTSTART:20231105T060000
END:STANDARD
BEGIN:DAYLIGHT
TZOFFSETFROM:-0500
TZOFFSETTO:-0400
TZNAME:EDT
DTSTART:20240310T070000
END:DAYLIGHT
BEGIN:STANDARD
TZOFFSETFROM:-0400
TZOFFSETTO:-0500
TZNAME:EST
DTSTART:20241103T060000
END:STANDARD
END:VTIMEZONE
BEGIN:VEVENT
DTSTART;TZID=America/Toronto:20231031T121500
DTEND;TZID=America/Toronto:20231031T131500
DTSTAMP:20260422T054346
CREATED:20231020T175649Z
LAST-MODIFIED:20231020T180314Z
UID:46693-1698754500-1698758100@socialwork.utoronto.ca
SUMMARY:Professional Skills Building Workshop for students: Building resilience to prevent and combat burnout and compassion fatigue in the human services\, with Dr. Ruth C. White
DESCRIPTION:Dr. Ruth C. White\, PhD MPH MSW RSW is a speaker\, writer\, and consultant in mental health/wellbeing\, and diversity\, equity\, inclusion & belonging\, with many media appearances – The Today Show\, BBC\, Women’s Health\, and more. She teaches in FIFSW\, has a full-time EDI role at the Rotman School of Management\, and has a private psychotherapy practice. Her books include ‘The Stress Management Workbook’\, ‘Bipolar 101’\, ‘Preventing Bipolar Relapse’\, and ‘Everyday Stress Relief \nThis event is for FIFSW students only. Location details have been shared in the MSW Student Digest.
URL:https://socialwork.utoronto.ca/event/professional-skills-building-workshop-for-students-building-resilience-to-prevent-and-combat-burnout-and-compassion-fatigue-in-the-human-services-with-dr-ruth-c-white/
CATEGORIES:Students
END:VEVENT
END:VCALENDAR