BEGIN:VCALENDAR
VERSION:2.0
PRODID:-//Factor-Inwentash Faculty of Social Work - ECPv6.15.20//NONSGML v1.0//EN
CALSCALE:GREGORIAN
METHOD:PUBLISH
X-WR-CALNAME:Factor-Inwentash Faculty of Social Work
X-ORIGINAL-URL:https://socialwork.utoronto.ca
X-WR-CALDESC:Events for Factor-Inwentash Faculty of Social Work
REFRESH-INTERVAL;VALUE=DURATION:PT1H
X-Robots-Tag:noindex
X-PUBLISHED-TTL:PT1H
BEGIN:VTIMEZONE
TZID:America/Toronto
BEGIN:DAYLIGHT
TZOFFSETFROM:-0500
TZOFFSETTO:-0400
TZNAME:EDT
DTSTART:20220313T070000
END:DAYLIGHT
BEGIN:STANDARD
TZOFFSETFROM:-0400
TZOFFSETTO:-0500
TZNAME:EST
DTSTART:20221106T060000
END:STANDARD
BEGIN:DAYLIGHT
TZOFFSETFROM:-0500
TZOFFSETTO:-0400
TZNAME:EDT
DTSTART:20230312T070000
END:DAYLIGHT
BEGIN:STANDARD
TZOFFSETFROM:-0400
TZOFFSETTO:-0500
TZNAME:EST
DTSTART:20231105T060000
END:STANDARD
BEGIN:DAYLIGHT
TZOFFSETFROM:-0500
TZOFFSETTO:-0400
TZNAME:EDT
DTSTART:20240310T070000
END:DAYLIGHT
BEGIN:STANDARD
TZOFFSETFROM:-0400
TZOFFSETTO:-0500
TZNAME:EST
DTSTART:20241103T060000
END:STANDARD
END:VTIMEZONE
BEGIN:VEVENT
DTSTART;TZID=America/Toronto:20231025T120000
DTEND;TZID=America/Toronto:20231025T120000
DTSTAMP:20260419T203610
CREATED:20231019T203003Z
LAST-MODIFIED:20231019T203003Z
UID:46680-1698235200-1698235200@socialwork.utoronto.ca
SUMMARY:Risk and Protective Factors for Elder Abuse in Canada: Findings from the Canadian Longitudinal Study on Aging
DESCRIPTION:Webinar: Risk and Protective Factors for Elder Abuse in Canada: Findings from the Canadian Longitudinal Study on Aging\n>Register here\nDescription\nThe development of effective elder abuse prevention efforts requires a sound understanding of the risk and protective factors that increase or decrease the likelihood of victimization. Extending previous research\, the current study used data from the Canadian Longitudinal Study on Aging – a population-based cohort study – to identify elder abuse risk and protective factors. We used baseline (2015) characteristics or changes in characteristics over a three-year period to predict the prevalence and severity of both overall elder abuse and separate subtypes (emotional abuse\, physical abuse\, financial abuse) at follow-up (2018). Findings indicate that elder abuse is widespread: one out of every ten older adults reports experiencing some type of elder abuse each year. Abuse disproportionately impacts older adults living with or developing vulnerabilities over time related to physical health\, functional capacity\, cognitive capacity\, and/or mental health. On the other hand\, various forms of social support serve to protect older adults from elder abuse\, including engagement with in-person or online social networks. Findings also point to a life course component: respondents reporting experiences of childhood maltreatment were more likely to report elder abuse in older adulthood. Findings can be used to help inform urgently needed prevention efforts. \nSpeaker\nDr. David Burnes\, professor at the University of Toronto\, Factor-Inwentash Faculty of Social Work\, holds a Canada Research Chair on Older Adult Mistreatment Prevention. He completed a PhD at Columbia University School of Social\, concentrating in gerontology and advanced practice. Dr. Burnes’ program of research focuses on elder mistreatment\, including the development of basic knowledge (risk factors\, prevalence\, severity) and the design\, evaluation\, and measurement of interventions to prevent and respond to elder mistreatment. He advises major international organizations on elder mistreatment\, such as the World Health Organization and National Institutes of Health\, as well as federal and regional governments in Canada and the United States. Dr. Burnes also works with non-profit organizations\, such as state-level adult protective services programs\, on the development\, implementation and measurement of elder mistreatment response and prevention programs. Dr. Burnes and colleagues developed RISE\, an evidence-based\, community-based elder mistreatment response program that works in partnership with other systems to respond to cases involving older adults who are at risk of or experiencing elder mistreatment or self-neglect. His interest in elder mistreatment stems from both family experience and clinical practice with older adults.
URL:https://socialwork.utoronto.ca/event/risk-and-protective-factors-for-elder-abuse-in-canada-findings-from-the-canadian-longitudinal-study-on-aging/
LOCATION:Zoom Conference Meeting
CATEGORIES:External public event
END:VEVENT
BEGIN:VEVENT
DTSTART;TZID=America/Toronto:20231025T203000
DTEND;TZID=America/Toronto:20231025T210000
DTSTAMP:20260419T203610
CREATED:20230927T205032Z
LAST-MODIFIED:20231020T180421Z
UID:46251-1698265800-1698267600@socialwork.utoronto.ca
SUMMARY:30@8:30: Research as Activism
DESCRIPTION:Join the Centre for Research and Innovation for Black Survivors of Homicide Victims (The CRIB) for Season 5 of 30@8:30. This season’s theme is Strange Fruit: Addressing the Violent Erasure of Black Bodies. \nEpisode #5 Research as Activism\, with special guest Shani Buggs \nHow to watch 30@8:30: \n\n\nFollow @thecribcommunity on Instagram\nTune into @thecribcommunity on Instagram Live every Wednesday at 8:30pm\n\n30@8:30 is a weekly Instagram Live show where The CRIB’s Founding Director Dr. Tanya L. Sharpe facilitates 30-minute candid conversations with interdisciplinary scholars and community service providers about structural inequities\, homicide\, trauma\, and victimization that disproportionately impact some of our most vulnerable populations. \n\nThe CRIB is a multidisciplinary initiative designed to advance research\, policy and practice FOR and WITH Black survivors of homicide victims across our global communities. The CRIB is grounded in a principle commitment to adopt culturally responsive approaches that create sustainable opportunities for Black communities to thrive in the face of adverse and traumatic tragedy as a result of experiences with homicide violence.
URL:https://socialwork.utoronto.ca/event/30830-research-as-activism/
LOCATION:Instagram Live
CATEGORIES:Alumni,Public,Students
END:VEVENT
END:VCALENDAR