BEGIN:VCALENDAR
VERSION:2.0
PRODID:-//Factor-Inwentash Faculty of Social Work - ECPv6.15.20//NONSGML v1.0//EN
CALSCALE:GREGORIAN
METHOD:PUBLISH
X-ORIGINAL-URL:https://socialwork.utoronto.ca
X-WR-CALDESC:Events for Factor-Inwentash Faculty of Social Work
REFRESH-INTERVAL;VALUE=DURATION:PT1H
X-Robots-Tag:noindex
X-PUBLISHED-TTL:PT1H
BEGIN:VTIMEZONE
TZID:America/Toronto
BEGIN:DAYLIGHT
TZOFFSETFROM:-0500
TZOFFSETTO:-0400
TZNAME:EDT
DTSTART:20220313T070000
END:DAYLIGHT
BEGIN:STANDARD
TZOFFSETFROM:-0400
TZOFFSETTO:-0500
TZNAME:EST
DTSTART:20221106T060000
END:STANDARD
BEGIN:DAYLIGHT
TZOFFSETFROM:-0500
TZOFFSETTO:-0400
TZNAME:EDT
DTSTART:20230312T070000
END:DAYLIGHT
BEGIN:STANDARD
TZOFFSETFROM:-0400
TZOFFSETTO:-0500
TZNAME:EST
DTSTART:20231105T060000
END:STANDARD
BEGIN:DAYLIGHT
TZOFFSETFROM:-0500
TZOFFSETTO:-0400
TZNAME:EDT
DTSTART:20240310T070000
END:DAYLIGHT
BEGIN:STANDARD
TZOFFSETFROM:-0400
TZOFFSETTO:-0500
TZNAME:EST
DTSTART:20241103T060000
END:STANDARD
END:VTIMEZONE
BEGIN:VEVENT
DTSTART;TZID=America/Toronto:20231017T121500
DTEND;TZID=America/Toronto:20231017T131500
DTSTAMP:20260421T222420
CREATED:20231005T205955Z
LAST-MODIFIED:20231020T180001Z
UID:46428-1697544900-1697548500@socialwork.utoronto.ca
SUMMARY:EDI Speaker Series: Addressing Islamophobia\, Anti-Muslim rhetoric and the Social Service Needs of Muslim’s Living in Ontario
DESCRIPTION:This event is for students only. Additional details will be shared in the MSW student digest. \nFeatured speakers\n \nAmina Hussain is clinical supervisor\, course instructor\, and doctoral candidate at the University of Toronto and the current president of the Muslim Human Service Alliance. Amina previously worked as a clinical supervisor at a Muslim mental health agency in the GTA. She has also worked at CAMH\, Ontario Shores\, Women’s College Hospital\, Baycrest\, and is currently a clinical supervisor at the Talk It Out Clinic at the FIFSW. She actively mentors MSW students providing culturally inclusive\, AOP based\, and trauma informed care. She grounds her work in evidence-based research and has 23 publications related to improving social work practice\, particularly with diverse communities. \n  \nEmad Alarashi is a Registered Social Worker with a Masters of Social Work degree from University of Toronto’s Factor-Inwentash Faculty of Social Work where he specialized in Human Services Management and Leadership. Emad has ten years of experience working with diverse communities including those who identify as racialized\, visible minority\, newcomers\, and marginalized populations within the GTA. Emad is currently employed with the City of Toronto’s Community Safety & Wellbeing Unit overseeing City-funded partner agencies providing the Community Violence Wellbeing & Recovery Project — a trauma informed counselling\, case management\, and holistic community healing approach to residents impacted directly and indirectly with violence. Emad is also employed as a Clinician and Community Outreach Manager with Khalil Center\, a psychological and spiritual community wellness center advancing the professional practice of psychology rooted in Islamic principles. As a Constituency Council member with the Center for Addiction and Mental Health (CAMH) Emad supports the exploration of the impacts of addiction and mental health on Muslim populations. Emad also sits as a board member of Ansaar Foundation.
URL:https://socialwork.utoronto.ca/event/addressing-islamophobia-anti-muslim-rhetoric-and-the-social-service-needs-of-muslims-living-in-ontario/
CATEGORIES:Students
END:VEVENT
END:VCALENDAR