BEGIN:VCALENDAR
VERSION:2.0
PRODID:-//Factor-Inwentash Faculty of Social Work - ECPv6.15.20//NONSGML v1.0//EN
CALSCALE:GREGORIAN
METHOD:PUBLISH
X-WR-CALNAME:Factor-Inwentash Faculty of Social Work
X-ORIGINAL-URL:https://socialwork.utoronto.ca
X-WR-CALDESC:Events for Factor-Inwentash Faculty of Social Work
REFRESH-INTERVAL;VALUE=DURATION:PT1H
X-Robots-Tag:noindex
X-PUBLISHED-TTL:PT1H
BEGIN:VTIMEZONE
TZID:America/Toronto
BEGIN:DAYLIGHT
TZOFFSETFROM:-0500
TZOFFSETTO:-0400
TZNAME:EDT
DTSTART:20220313T070000
END:DAYLIGHT
BEGIN:STANDARD
TZOFFSETFROM:-0400
TZOFFSETTO:-0500
TZNAME:EST
DTSTART:20221106T060000
END:STANDARD
BEGIN:DAYLIGHT
TZOFFSETFROM:-0500
TZOFFSETTO:-0400
TZNAME:EDT
DTSTART:20230312T070000
END:DAYLIGHT
BEGIN:STANDARD
TZOFFSETFROM:-0400
TZOFFSETTO:-0500
TZNAME:EST
DTSTART:20231105T060000
END:STANDARD
BEGIN:DAYLIGHT
TZOFFSETFROM:-0500
TZOFFSETTO:-0400
TZNAME:EDT
DTSTART:20240310T070000
END:DAYLIGHT
BEGIN:STANDARD
TZOFFSETFROM:-0400
TZOFFSETTO:-0500
TZNAME:EST
DTSTART:20241103T060000
END:STANDARD
END:VTIMEZONE
BEGIN:VEVENT
DTSTART;TZID=America/Toronto:20230427T083000
DTEND;TZID=America/Toronto:20230428T180000
DTSTAMP:20260420T032806
CREATED:20230403T140428Z
LAST-MODIFIED:20230403T142340Z
UID:43301-1682584200-1682704800@socialwork.utoronto.ca
SUMMARY:International Conference on Mental Health and Addictions with Dr. Charmaine Williams
DESCRIPTION:Keynote Speakers:\n– Mary McKay Wabano: Algoma University Vice President Nyaagaaniid – Student Success and Anishinaabe Initiatives\n– Dr. Charmaine Williams: Dean of the Factor-Inwentash Faculty of Social Work University of Toronto\n– Dr. Paul Banahene Adjei: Associate Professor -School of Social Work and Interim Associate Vice-President (Indigenous Research) Memorial University.\n\nDate & Time:  Thu\, Apr 27\, 2023 8:30 AM – Fri\, Apr 28\, 2023 6:00 PM EDT\nLocation: 24 Queen Street East Brampton\, ON L6V 1A2\n*Note: This is a hybrid event \n\nRegister here: International Conference on Mental Health and Addictions Tickets\, Thu\, 27 Apr 2023 at 8:30 AM | Eventbrite
URL:https://socialwork.utoronto.ca/event/international-conference-on-mental-health-and-addictions-with-dr-charmaine-williams/
LOCATION:24 Queen Street East Brampton\, 24 Queen Street East\, Brampton\, ON\, L6V 1A2\, Canada
CATEGORIES:Students
END:VEVENT
END:VCALENDAR