BEGIN:VCALENDAR
VERSION:2.0
PRODID:-//Factor-Inwentash Faculty of Social Work - ECPv6.15.20//NONSGML v1.0//EN
CALSCALE:GREGORIAN
METHOD:PUBLISH
X-WR-CALNAME:Factor-Inwentash Faculty of Social Work
X-ORIGINAL-URL:https://socialwork.utoronto.ca
X-WR-CALDESC:Events for Factor-Inwentash Faculty of Social Work
REFRESH-INTERVAL;VALUE=DURATION:PT1H
X-Robots-Tag:noindex
X-PUBLISHED-TTL:PT1H
BEGIN:VTIMEZONE
TZID:America/Toronto
BEGIN:DAYLIGHT
TZOFFSETFROM:-0500
TZOFFSETTO:-0400
TZNAME:EDT
DTSTART:20220313T070000
END:DAYLIGHT
BEGIN:STANDARD
TZOFFSETFROM:-0400
TZOFFSETTO:-0500
TZNAME:EST
DTSTART:20221106T060000
END:STANDARD
BEGIN:DAYLIGHT
TZOFFSETFROM:-0500
TZOFFSETTO:-0400
TZNAME:EDT
DTSTART:20230312T070000
END:DAYLIGHT
BEGIN:STANDARD
TZOFFSETFROM:-0400
TZOFFSETTO:-0500
TZNAME:EST
DTSTART:20231105T060000
END:STANDARD
BEGIN:DAYLIGHT
TZOFFSETFROM:-0500
TZOFFSETTO:-0400
TZNAME:EDT
DTSTART:20240310T070000
END:DAYLIGHT
BEGIN:STANDARD
TZOFFSETFROM:-0400
TZOFFSETTO:-0500
TZNAME:EST
DTSTART:20241103T060000
END:STANDARD
END:VTIMEZONE
BEGIN:VEVENT
DTSTART;TZID=America/Toronto:20230403T120000
DTEND;TZID=America/Toronto:20230403T130000
DTSTAMP:20260420T124715
CREATED:20230320T152449Z
LAST-MODIFIED:20230320T152449Z
UID:42766-1680523200-1680526800@socialwork.utoronto.ca
SUMMARY:DIVERT Mental Health April 3 Educational Session
DESCRIPTION:Dr. Eunjung Lee\, a member of the DIVERT Mental Health Research Training Platform\, is excited to share their next education session! “Child & Youth Mental Health Crisis & the ED: a Digital Health Solution” scheduled for Monday April 3\, 2023 12pm-1pm EDT . \nRegister here: Child and youth mental health crisis & the Emergency Department: using a digital health solution – DIVERT Mental Health \nNote that these sessions will be available live in both English and French.
URL:https://socialwork.utoronto.ca/event/divert-mental-health-april-3-educational-session/
LOCATION:Online
CATEGORIES:Students
END:VEVENT
END:VCALENDAR