BEGIN:VCALENDAR
VERSION:2.0
PRODID:-//Factor-Inwentash Faculty of Social Work - ECPv6.15.20//NONSGML v1.0//EN
CALSCALE:GREGORIAN
METHOD:PUBLISH
X-ORIGINAL-URL:https://socialwork.utoronto.ca
X-WR-CALDESC:Events for Factor-Inwentash Faculty of Social Work
REFRESH-INTERVAL;VALUE=DURATION:PT1H
X-Robots-Tag:noindex
X-PUBLISHED-TTL:PT1H
BEGIN:VTIMEZONE
TZID:America/Toronto
BEGIN:DAYLIGHT
TZOFFSETFROM:-0500
TZOFFSETTO:-0400
TZNAME:EDT
DTSTART:20220313T070000
END:DAYLIGHT
BEGIN:STANDARD
TZOFFSETFROM:-0400
TZOFFSETTO:-0500
TZNAME:EST
DTSTART:20221106T060000
END:STANDARD
BEGIN:DAYLIGHT
TZOFFSETFROM:-0500
TZOFFSETTO:-0400
TZNAME:EDT
DTSTART:20230312T070000
END:DAYLIGHT
BEGIN:STANDARD
TZOFFSETFROM:-0400
TZOFFSETTO:-0500
TZNAME:EST
DTSTART:20231105T060000
END:STANDARD
BEGIN:DAYLIGHT
TZOFFSETFROM:-0500
TZOFFSETTO:-0400
TZNAME:EDT
DTSTART:20240310T070000
END:DAYLIGHT
BEGIN:STANDARD
TZOFFSETFROM:-0400
TZOFFSETTO:-0500
TZNAME:EST
DTSTART:20241103T060000
END:STANDARD
END:VTIMEZONE
BEGIN:VEVENT
DTSTART;TZID=America/Toronto:20230324T120000
DTEND;TZID=America/Toronto:20230324T150000
DTSTAMP:20260422T081444
CREATED:20230317T141156Z
LAST-MODIFIED:20230317T141327Z
UID:42731-1679659200-1679670000@socialwork.utoronto.ca
SUMMARY:PhD Lunch Seminar Series: Academic Job Market Workshop
DESCRIPTION:PhD Program Winter 2023 Lunch Seminar Series \n\n\nAcademic Job Market Workshop \nSpeaker: Professor David Brennan \nHave you wondered how the academic job search process works? When and where should you look for a job? Are there activities you can do before you are actually on the job market to better prepare yourself? What should you look for when reading a job ad and considering applying? What are the considerations if you are invited to an interview or to do a job talk on campus? What constitutes an excellent job talk?\nWhether you are in the first year of the program and just beginning to think about it\, or planning to go on the job market soon\, or are on the job market\, this interactive workshop can help you plan for the academic job search process. \n\nRegister here\nRoom 422 / Zoom\n\nPhD Seminar Series Winter 2023 Flyer \n 
URL:https://socialwork.utoronto.ca/event/phd-lunch-seminar-series-academic-job-market-workshop/
LOCATION:Room 422 / Zoom\, 246 Bloor Street\, Toronto\, ON\, M5S 1V4\, Canada
CATEGORIES:Students
END:VEVENT
BEGIN:VEVENT
DTSTART;TZID=America/Toronto:20230324T153000
DTEND;TZID=America/Toronto:20230324T173000
DTSTAMP:20260422T081444
CREATED:20230306T204918Z
LAST-MODIFIED:20230306T205404Z
UID:42329-1679671800-1679679000@socialwork.utoronto.ca
SUMMARY:Queer Social Science - Join us!
DESCRIPTION:What is Queer Science?! Calling all students who are interested in gaining knowledge of Harm Reduction\, Sex Education and Consent Practices\, Neurodivergence and Resourcing/Skill building from a Queer perspective. We hold some specialized skill sets and would like to share with anyone interested in attending across our differences. Happy to gather resources with all of you in the PhD program. Let’s build bridges together!
URL:https://socialwork.utoronto.ca/event/queer-social-science-join-us/
LOCATION:7th Floor Lounge\, 246 Bloor Street\, Toronto\, ON\, M5S 1V4\, Canada
CATEGORIES:Students
END:VEVENT
END:VCALENDAR