BEGIN:VCALENDAR
VERSION:2.0
PRODID:-//Factor-Inwentash Faculty of Social Work - ECPv6.15.20//NONSGML v1.0//EN
CALSCALE:GREGORIAN
METHOD:PUBLISH
X-WR-CALNAME:Factor-Inwentash Faculty of Social Work
X-ORIGINAL-URL:https://socialwork.utoronto.ca
X-WR-CALDESC:Events for Factor-Inwentash Faculty of Social Work
REFRESH-INTERVAL;VALUE=DURATION:PT1H
X-Robots-Tag:noindex
X-PUBLISHED-TTL:PT1H
BEGIN:VTIMEZONE
TZID:America/Toronto
BEGIN:DAYLIGHT
TZOFFSETFROM:-0500
TZOFFSETTO:-0400
TZNAME:EDT
DTSTART:20220313T070000
END:DAYLIGHT
BEGIN:STANDARD
TZOFFSETFROM:-0400
TZOFFSETTO:-0500
TZNAME:EST
DTSTART:20221106T060000
END:STANDARD
BEGIN:DAYLIGHT
TZOFFSETFROM:-0500
TZOFFSETTO:-0400
TZNAME:EDT
DTSTART:20230312T070000
END:DAYLIGHT
BEGIN:STANDARD
TZOFFSETFROM:-0400
TZOFFSETTO:-0500
TZNAME:EST
DTSTART:20231105T060000
END:STANDARD
BEGIN:DAYLIGHT
TZOFFSETFROM:-0500
TZOFFSETTO:-0400
TZNAME:EDT
DTSTART:20240310T070000
END:DAYLIGHT
BEGIN:STANDARD
TZOFFSETFROM:-0400
TZOFFSETTO:-0500
TZNAME:EST
DTSTART:20241103T060000
END:STANDARD
END:VTIMEZONE
BEGIN:VEVENT
DTSTART;TZID=America/Toronto:20230307T233000
DTEND;TZID=America/Toronto:20230308T003000
DTSTAMP:20260419T125445
CREATED:20230223T213351Z
LAST-MODIFIED:20230223T214004Z
UID:41912-1678231800-1678235400@socialwork.utoronto.ca
SUMMARY:#SafeHandsSafeHearts: A Peer-Delivered e-Health Intervention for Sexual and Gender Minority Adults amid the COVID-19 Pandemic
DESCRIPTION:Note: This is a hybrid event taking place at the University of Hong Kong \nFeatured speaker: Professor Peter A. Newman\, Factor-Inwentash Faculty of Social Work\, Faculty Associate\, Joint Centre for Bioethics \nSexual and gender minority populations experience adverse social determinants of health that increase their vulnerability amid the COVID-19 pandemic. Nevertheless\, public health responses operate from mainstream perspectives that fail to account for marginalization. \nWe developed a theory informed\, peer-delivered eHealth intervention based on motivational interviewing and psychoeducation to reduce depression and anxiety and increase COVID-19 knowledge and protective behaviors among LGBTQ+ adults in Toronto. We used a quasi-experimental pre-test post-test design\, with generalized estimating equations and zero-truncated Poisson models to evaluate the effectiveness of the 3-session intervention on the four primary outcomes. \nAmong participants (n=202; median age\, 27 years [IQR 23-32]) enrolled from March to November 2021\, the intervention led to statistically significant reductions in the prevalence of clinically significant depressive and anxiety symptoms and increases in Covid-19 protective behaviors from baseline to postintervention. Implementation through community-based organizations by peer educators supports feasibility\, acceptability\, and the potential for scale-up in future waves of COVID-19 or other public health emergencies. \n> Details and registration\n 
URL:https://socialwork.utoronto.ca/event/safehandssafehearts-a-peer-delivered-e-health-intervention-for-sexual-and-gender-minority-adults-amid-the-covid-19-pandemic/
LOCATION:Ontario
CATEGORIES:External public event
END:VEVENT
END:VCALENDAR