BEGIN:VCALENDAR
VERSION:2.0
PRODID:-//Factor-Inwentash Faculty of Social Work - ECPv6.15.20//NONSGML v1.0//EN
CALSCALE:GREGORIAN
METHOD:PUBLISH
X-ORIGINAL-URL:https://socialwork.utoronto.ca
X-WR-CALDESC:Events for Factor-Inwentash Faculty of Social Work
REFRESH-INTERVAL;VALUE=DURATION:PT1H
X-Robots-Tag:noindex
X-PUBLISHED-TTL:PT1H
BEGIN:VTIMEZONE
TZID:America/Toronto
BEGIN:DAYLIGHT
TZOFFSETFROM:-0500
TZOFFSETTO:-0400
TZNAME:EDT
DTSTART:20220313T070000
END:DAYLIGHT
BEGIN:STANDARD
TZOFFSETFROM:-0400
TZOFFSETTO:-0500
TZNAME:EST
DTSTART:20221106T060000
END:STANDARD
BEGIN:DAYLIGHT
TZOFFSETFROM:-0500
TZOFFSETTO:-0400
TZNAME:EDT
DTSTART:20230312T070000
END:DAYLIGHT
BEGIN:STANDARD
TZOFFSETFROM:-0400
TZOFFSETTO:-0500
TZNAME:EST
DTSTART:20231105T060000
END:STANDARD
BEGIN:DAYLIGHT
TZOFFSETFROM:-0500
TZOFFSETTO:-0400
TZNAME:EDT
DTSTART:20240310T070000
END:DAYLIGHT
BEGIN:STANDARD
TZOFFSETFROM:-0400
TZOFFSETTO:-0500
TZNAME:EST
DTSTART:20241103T060000
END:STANDARD
END:VTIMEZONE
BEGIN:VEVENT
DTSTART;TZID=America/Toronto:20230224T120000
DTEND;TZID=America/Toronto:20230224T140000
DTSTAMP:20260422T131228
CREATED:20230201T170058Z
LAST-MODIFIED:20230222T140002Z
UID:41396-1677240000-1677247200@socialwork.utoronto.ca
SUMMARY:University of Toronto Black History Month Luncheon
DESCRIPTION:Presented by the Division of University Advancement in partnership with Hart House\, the annual Black History Month luncheon provides a platform to hear inspiring speakers\, see dynamic performances and celebrate community in a welcoming space. This year’s event will return to its roots with an in-person experience and we invite guests to come and taste the delicious food\, network with friends or make new ones and participate in celebrating Black Excellence. \nThis year’s event will spotlight Cameron Bailey who will deliver our special keynote address. Cameron Bailey is a notable Canadian who currently serves as CEO for the prestigious Toronto International Film Festival.  Mr. Bailey is also a respected film critic\, a Gemini Award winning writer\, film director and published author. \n> Click here to learn more and register
URL:https://socialwork.utoronto.ca/event/university-of-toronto-black-history-month-luncheon/
LOCATION:Hart House\, 7 Hart House Circle\, Toronto\, Ontario\, Canada
CATEGORIES:Alumni
END:VEVENT
END:VCALENDAR