BEGIN:VCALENDAR
VERSION:2.0
PRODID:-//Factor-Inwentash Faculty of Social Work - ECPv6.15.20//NONSGML v1.0//EN
CALSCALE:GREGORIAN
METHOD:PUBLISH
X-WR-CALNAME:Factor-Inwentash Faculty of Social Work
X-ORIGINAL-URL:https://socialwork.utoronto.ca
X-WR-CALDESC:Events for Factor-Inwentash Faculty of Social Work
REFRESH-INTERVAL;VALUE=DURATION:PT1H
X-Robots-Tag:noindex
X-PUBLISHED-TTL:PT1H
BEGIN:VTIMEZONE
TZID:America/Toronto
BEGIN:DAYLIGHT
TZOFFSETFROM:-0500
TZOFFSETTO:-0400
TZNAME:EDT
DTSTART:20220313T070000
END:DAYLIGHT
BEGIN:STANDARD
TZOFFSETFROM:-0400
TZOFFSETTO:-0500
TZNAME:EST
DTSTART:20221106T060000
END:STANDARD
BEGIN:DAYLIGHT
TZOFFSETFROM:-0500
TZOFFSETTO:-0400
TZNAME:EDT
DTSTART:20230312T070000
END:DAYLIGHT
BEGIN:STANDARD
TZOFFSETFROM:-0400
TZOFFSETTO:-0500
TZNAME:EST
DTSTART:20231105T060000
END:STANDARD
BEGIN:DAYLIGHT
TZOFFSETFROM:-0500
TZOFFSETTO:-0400
TZNAME:EDT
DTSTART:20240310T070000
END:DAYLIGHT
BEGIN:STANDARD
TZOFFSETFROM:-0400
TZOFFSETTO:-0500
TZNAME:EST
DTSTART:20241103T060000
END:STANDARD
END:VTIMEZONE
BEGIN:VEVENT
DTSTART;VALUE=DATE:20230213
DTEND;VALUE=DATE:20230215
DTSTAMP:20260419T214407
CREATED:20230117T184138Z
LAST-MODIFIED:20230118T164240Z
UID:40835-1676246400-1676419199@socialwork.utoronto.ca
SUMMARY:Paramount Studios on Campus
DESCRIPTION:Graduation Composite Portrait Photography.\n\nTo Book your Appointment:\n1. Enter www.newparamount.com\n2. Select “Book”\n3. Register as a new User\n4. Re-enter and select “University/College”\n5. Choose UT Social Work Only\n6. Book your Date & Time\nLocation: Room SK652\nSitting Fee: $25\n\nNote: This is for students who are expecting to graduate in 2023!
URL:https://socialwork.utoronto.ca/event/paramount-studios-on-campus/
LOCATION:FIFSW\, room SK 652\, 246 Bloor Street\, Toronto\, Ontario\, M6G 2T4\, Canada
CATEGORIES:Students
END:VEVENT
END:VCALENDAR