BEGIN:VCALENDAR
VERSION:2.0
PRODID:-//Factor-Inwentash Faculty of Social Work - ECPv6.15.20//NONSGML v1.0//EN
CALSCALE:GREGORIAN
METHOD:PUBLISH
X-ORIGINAL-URL:https://socialwork.utoronto.ca
X-WR-CALDESC:Events for Factor-Inwentash Faculty of Social Work
REFRESH-INTERVAL;VALUE=DURATION:PT1H
X-Robots-Tag:noindex
X-PUBLISHED-TTL:PT1H
BEGIN:VTIMEZONE
TZID:America/Toronto
BEGIN:DAYLIGHT
TZOFFSETFROM:-0500
TZOFFSETTO:-0400
TZNAME:EDT
DTSTART:20220313T070000
END:DAYLIGHT
BEGIN:STANDARD
TZOFFSETFROM:-0400
TZOFFSETTO:-0500
TZNAME:EST
DTSTART:20221106T060000
END:STANDARD
BEGIN:DAYLIGHT
TZOFFSETFROM:-0500
TZOFFSETTO:-0400
TZNAME:EDT
DTSTART:20230312T070000
END:DAYLIGHT
BEGIN:STANDARD
TZOFFSETFROM:-0400
TZOFFSETTO:-0500
TZNAME:EST
DTSTART:20231105T060000
END:STANDARD
BEGIN:DAYLIGHT
TZOFFSETFROM:-0500
TZOFFSETTO:-0400
TZNAME:EDT
DTSTART:20240310T070000
END:DAYLIGHT
BEGIN:STANDARD
TZOFFSETFROM:-0400
TZOFFSETTO:-0500
TZNAME:EST
DTSTART:20241103T060000
END:STANDARD
END:VTIMEZONE
BEGIN:VEVENT
DTSTART;TZID=America/Toronto:20230123T121500
DTEND;TZID=America/Toronto:20230123T131500
DTSTAMP:20260422T015628
CREATED:20230117T183011Z
LAST-MODIFIED:20230124T155919Z
UID:40830-1674476100-1674479700@socialwork.utoronto.ca
SUMMARY:IPE Drop-In/Zoom Q&A Session
DESCRIPTION:IPE student representatives\, Vithusan Arunakirinathan (1st year rep) and Nivetha Prabaharan (2nd year rep) will be hosting an in-person drop-in event where students are welcome to come to the GSA office to ask questions about the IPE curriculum. \nYou can also join on Zoom! \nMeeting ID: 822 9503 3471 \n 
URL:https://socialwork.utoronto.ca/event/ipe-drop-in-qa-session/
LOCATION:FIFSW\, room 110\, 246 Bloor Street\, Toronto\, Ontario\, M5S 1V4\, Canada
CATEGORIES:Students
END:VEVENT
END:VCALENDAR