BEGIN:VCALENDAR
VERSION:2.0
PRODID:-//Factor-Inwentash Faculty of Social Work - ECPv6.15.20//NONSGML v1.0//EN
CALSCALE:GREGORIAN
METHOD:PUBLISH
X-WR-CALNAME:Factor-Inwentash Faculty of Social Work
X-ORIGINAL-URL:https://socialwork.utoronto.ca
X-WR-CALDESC:Events for Factor-Inwentash Faculty of Social Work
REFRESH-INTERVAL;VALUE=DURATION:PT1H
X-Robots-Tag:noindex
X-PUBLISHED-TTL:PT1H
BEGIN:VTIMEZONE
TZID:America/Toronto
BEGIN:DAYLIGHT
TZOFFSETFROM:-0500
TZOFFSETTO:-0400
TZNAME:EDT
DTSTART:20210314T070000
END:DAYLIGHT
BEGIN:STANDARD
TZOFFSETFROM:-0400
TZOFFSETTO:-0500
TZNAME:EST
DTSTART:20211107T060000
END:STANDARD
BEGIN:DAYLIGHT
TZOFFSETFROM:-0500
TZOFFSETTO:-0400
TZNAME:EDT
DTSTART:20220313T070000
END:DAYLIGHT
BEGIN:STANDARD
TZOFFSETFROM:-0400
TZOFFSETTO:-0500
TZNAME:EST
DTSTART:20221106T060000
END:STANDARD
BEGIN:DAYLIGHT
TZOFFSETFROM:-0500
TZOFFSETTO:-0400
TZNAME:EDT
DTSTART:20230312T070000
END:DAYLIGHT
BEGIN:STANDARD
TZOFFSETFROM:-0400
TZOFFSETTO:-0500
TZNAME:EST
DTSTART:20231105T060000
END:STANDARD
END:VTIMEZONE
BEGIN:VEVENT
DTSTART;TZID=America/Toronto:20220912T120000
DTEND;TZID=America/Toronto:20220912T130000
DTSTAMP:20260420T130610
CREATED:20220903T170748Z
LAST-MODIFIED:20220903T181452Z
UID:38681-1662984000-1662987600@socialwork.utoronto.ca
SUMMARY:Writing Workshop
DESCRIPTION:Please Register for the Writing Workshop Here <<<\n\n\nWriting and Library Workshop at the Graduate Level Workshop (Optional)\nAttendees: Incoming 2-Year MSW\n\n\nWriting Workshop September 12th and Library Workshop September 13th\nThese sessions will be virtual and will also be streamed in a classroom. Classroom Location-TBA
URL:https://socialwork.utoronto.ca/event/writing-workshop/
LOCATION:Ontario
CATEGORIES:Students
END:VEVENT
END:VCALENDAR