BEGIN:VCALENDAR
VERSION:2.0
PRODID:-//Factor-Inwentash Faculty of Social Work - ECPv6.15.20//NONSGML v1.0//EN
CALSCALE:GREGORIAN
METHOD:PUBLISH
X-ORIGINAL-URL:https://socialwork.utoronto.ca
X-WR-CALDESC:Events for Factor-Inwentash Faculty of Social Work
REFRESH-INTERVAL;VALUE=DURATION:PT1H
X-Robots-Tag:noindex
X-PUBLISHED-TTL:PT1H
BEGIN:VTIMEZONE
TZID:America/Toronto
BEGIN:DAYLIGHT
TZOFFSETFROM:-0500
TZOFFSETTO:-0400
TZNAME:EDT
DTSTART:20210314T070000
END:DAYLIGHT
BEGIN:STANDARD
TZOFFSETFROM:-0400
TZOFFSETTO:-0500
TZNAME:EST
DTSTART:20211107T060000
END:STANDARD
BEGIN:DAYLIGHT
TZOFFSETFROM:-0500
TZOFFSETTO:-0400
TZNAME:EDT
DTSTART:20220313T070000
END:DAYLIGHT
BEGIN:STANDARD
TZOFFSETFROM:-0400
TZOFFSETTO:-0500
TZNAME:EST
DTSTART:20221106T060000
END:STANDARD
BEGIN:DAYLIGHT
TZOFFSETFROM:-0500
TZOFFSETTO:-0400
TZNAME:EDT
DTSTART:20230312T070000
END:DAYLIGHT
BEGIN:STANDARD
TZOFFSETFROM:-0400
TZOFFSETTO:-0500
TZNAME:EST
DTSTART:20231105T060000
END:STANDARD
END:VTIMEZONE
BEGIN:VEVENT
DTSTART;TZID=America/Toronto:20220823T090000
DTEND;TZID=America/Toronto:20220823T110000
DTSTAMP:20260421T164445
CREATED:20220815T125113Z
LAST-MODIFIED:20220823T140131Z
UID:38491-1661245200-1661252400@socialwork.utoronto.ca
SUMMARY:International Student Orientation
DESCRIPTION:A warm welcome to your Factor-Inwentash Faculty of Social Work (FIFSW) International Students Orientation! \nWe are excited to be hosting this Virtual Orientation Session for all new International Students. We encourage you to attend\, where you will meet and engage with other International Students and the faculty. \nReturning International Students are invited to attend\, where they can impart invaluable tips and experiences! Returning International Students please RSVP HERE \nThe session will be hosted by: \n\nProfessor Eunjung Lee\, Associate Dean\, Academic\nProfessor Micheal Shier\, MSW Program Director\nProfessor Rupaleem Bhuyan\, PhD Program Director\nProfessor Izumi Sakamoto\, Faculty Advisor for International Students\n\nDATE: August 23\, 2022 – 9:00 am to 11:00 am Eastern Time \nZOOM LINK BELOW: \nTopic: International Students Orientation – August 23\, 2022\nTime: Aug 23\, 2022 09:00 AM Eastern Time (US and Canada)\n \nJoin Zoom Meeting\nhttps://us06web.zoom.us/j/86396672805?pwd=a3BOVUwyWjRKVmZ2dVFxSjdJQ2F1QT09\n\nMeeting ID: 863 9667 2805\nPasscode: 093613\n\n\nThank you and see you soon!
URL:https://socialwork.utoronto.ca/event/international-student-orientation/
LOCATION:Ontario
CATEGORIES:Students
END:VEVENT
END:VCALENDAR