BEGIN:VCALENDAR
VERSION:2.0
PRODID:-//Factor-Inwentash Faculty of Social Work - ECPv6.15.20//NONSGML v1.0//EN
CALSCALE:GREGORIAN
METHOD:PUBLISH
X-WR-CALNAME:Factor-Inwentash Faculty of Social Work
X-ORIGINAL-URL:https://socialwork.utoronto.ca
X-WR-CALDESC:Events for Factor-Inwentash Faculty of Social Work
REFRESH-INTERVAL;VALUE=DURATION:PT1H
X-Robots-Tag:noindex
X-PUBLISHED-TTL:PT1H
BEGIN:VTIMEZONE
TZID:America/Toronto
BEGIN:DAYLIGHT
TZOFFSETFROM:-0500
TZOFFSETTO:-0400
TZNAME:EDT
DTSTART:20210314T070000
END:DAYLIGHT
BEGIN:STANDARD
TZOFFSETFROM:-0400
TZOFFSETTO:-0500
TZNAME:EST
DTSTART:20211107T060000
END:STANDARD
BEGIN:DAYLIGHT
TZOFFSETFROM:-0500
TZOFFSETTO:-0400
TZNAME:EDT
DTSTART:20220313T070000
END:DAYLIGHT
BEGIN:STANDARD
TZOFFSETFROM:-0400
TZOFFSETTO:-0500
TZNAME:EST
DTSTART:20221106T060000
END:STANDARD
BEGIN:DAYLIGHT
TZOFFSETFROM:-0500
TZOFFSETTO:-0400
TZNAME:EDT
DTSTART:20230312T070000
END:DAYLIGHT
BEGIN:STANDARD
TZOFFSETFROM:-0400
TZOFFSETTO:-0500
TZNAME:EST
DTSTART:20231105T060000
END:STANDARD
END:VTIMEZONE
BEGIN:VEVENT
DTSTART;TZID=America/Toronto:20220626T120000
DTEND;TZID=America/Toronto:20220626T133000
DTSTAMP:20260419T203612
CREATED:20220623T212828Z
LAST-MODIFIED:20220623T212828Z
UID:38006-1656244800-1656250200@socialwork.utoronto.ca
SUMMARY:Pride Parade FIFSW Meet-Up
DESCRIPTION:We are excited to announce that we will be doing a meet up at the FIFSW building prior to the Toronto Pride Parade! \nThe Pride Parade is scheduled to begin at 2pm on Sunday\, June 26th. We are inviting folks to arrive at the Faculty building any time between 12pm and 1:30pm in the Third Floor Lounge. We will be suppling Pride-themed accessories for people who would like some and supplies for poster making! We will then go to the Parade together to enjoy the festivities. We will be leaving the Faculty at 1:30pm. It is about a 15 minute walk from the Faculty to the Parade route. \nFeel free to bring friends\, family\, partners\, and kids with you to celebrate with us! Come dressed in your best Pride accessories and make sure to dress weather appropriate. Bring water\, snacks\, sunscreen\, and anything else you will need! \nPlease reach out to Mikayla Kendrick (mikayla.kendrick@utoronto.ca) directly if you have any accessibility needs. \nMore information on the Pride Parade\, including the Parade route\, can be found here: https://www.pridetoronto.com/event/pride-parade-2/ \nWe are looking forward to seeing and celebrating with everyone! \n 
URL:https://socialwork.utoronto.ca/event/pride-parade-fifsw-meet-up/
LOCATION:Ontario
CATEGORIES:Students
END:VEVENT
END:VCALENDAR