BEGIN:VCALENDAR
VERSION:2.0
PRODID:-//Factor-Inwentash Faculty of Social Work - ECPv6.15.20//NONSGML v1.0//EN
CALSCALE:GREGORIAN
METHOD:PUBLISH
X-WR-CALNAME:Factor-Inwentash Faculty of Social Work
X-ORIGINAL-URL:https://socialwork.utoronto.ca
X-WR-CALDESC:Events for Factor-Inwentash Faculty of Social Work
REFRESH-INTERVAL;VALUE=DURATION:PT1H
X-Robots-Tag:noindex
X-PUBLISHED-TTL:PT1H
BEGIN:VTIMEZONE
TZID:America/Toronto
BEGIN:DAYLIGHT
TZOFFSETFROM:-0500
TZOFFSETTO:-0400
TZNAME:EDT
DTSTART:20210314T070000
END:DAYLIGHT
BEGIN:STANDARD
TZOFFSETFROM:-0400
TZOFFSETTO:-0500
TZNAME:EST
DTSTART:20211107T060000
END:STANDARD
BEGIN:DAYLIGHT
TZOFFSETFROM:-0500
TZOFFSETTO:-0400
TZNAME:EDT
DTSTART:20220313T070000
END:DAYLIGHT
BEGIN:STANDARD
TZOFFSETFROM:-0400
TZOFFSETTO:-0500
TZNAME:EST
DTSTART:20221106T060000
END:STANDARD
BEGIN:DAYLIGHT
TZOFFSETFROM:-0500
TZOFFSETTO:-0400
TZNAME:EDT
DTSTART:20230312T070000
END:DAYLIGHT
BEGIN:STANDARD
TZOFFSETFROM:-0400
TZOFFSETTO:-0500
TZNAME:EST
DTSTART:20231105T060000
END:STANDARD
END:VTIMEZONE
BEGIN:VEVENT
DTSTART;TZID=America/Toronto:20220613T110000
DTEND;TZID=America/Toronto:20220613T123000
DTSTAMP:20260419T072532
CREATED:20220602T190232Z
LAST-MODIFIED:20220602T190404Z
UID:37725-1655118000-1655123400@socialwork.utoronto.ca
SUMMARY:Peers in Participatory Research\, with Charmaine Williams
DESCRIPTION:Presented by the Department of Social Work and the Binks Hub\, both at the University of Edinburgh. \n5:00 – 5:30pm BST \n> Click here to register \nIn ‘Peers in Participatory Research: Some Progress\, Some Queries\, and Some Possibilities for the Future’\, Professor Williams will reflect on community-based participatory research (CBPR) through her own extensive research and engagement in the field. \nAs community-based participatory research (CBPR) has become more commonplace\, the participatory component has evolved to create new and exciting possibilities for inclusion of people with “lived experience”. This talk reflects on the progress made\, and draws on my experience as a person engaged in CBPR to ask questions about what constitutes peer research work\, who gets called a peer in participatory research\, and what empowerment and capacity-building with peers could look like in the CBPR process. \nAbout this event \nThis online event is being co-hosted by the Department of Social Work and the Binks Hub\, both at the University of Edinburgh. \nThe Binks Hub is a new interdisciplinary research team based at the University of Edinburgh who use artistic and creative methods in participatory social research. \nA link for joining the event will be sent round upon registration.
URL:https://socialwork.utoronto.ca/event/peers-in-participatory-research-with-charmaine-williams/
LOCATION:Ontario
CATEGORIES:External public event
END:VEVENT
END:VCALENDAR