BEGIN:VCALENDAR
VERSION:2.0
PRODID:-//Factor-Inwentash Faculty of Social Work - ECPv6.15.20//NONSGML v1.0//EN
CALSCALE:GREGORIAN
METHOD:PUBLISH
X-WR-CALNAME:Factor-Inwentash Faculty of Social Work
X-ORIGINAL-URL:https://socialwork.utoronto.ca
X-WR-CALDESC:Events for Factor-Inwentash Faculty of Social Work
REFRESH-INTERVAL;VALUE=DURATION:PT1H
X-Robots-Tag:noindex
X-PUBLISHED-TTL:PT1H
BEGIN:VTIMEZONE
TZID:America/Toronto
BEGIN:DAYLIGHT
TZOFFSETFROM:-0500
TZOFFSETTO:-0400
TZNAME:EDT
DTSTART:20210314T070000
END:DAYLIGHT
BEGIN:STANDARD
TZOFFSETFROM:-0400
TZOFFSETTO:-0500
TZNAME:EST
DTSTART:20211107T060000
END:STANDARD
BEGIN:DAYLIGHT
TZOFFSETFROM:-0500
TZOFFSETTO:-0400
TZNAME:EDT
DTSTART:20220313T070000
END:DAYLIGHT
BEGIN:STANDARD
TZOFFSETFROM:-0400
TZOFFSETTO:-0500
TZNAME:EST
DTSTART:20221106T060000
END:STANDARD
BEGIN:DAYLIGHT
TZOFFSETFROM:-0500
TZOFFSETTO:-0400
TZNAME:EDT
DTSTART:20230312T070000
END:DAYLIGHT
BEGIN:STANDARD
TZOFFSETFROM:-0400
TZOFFSETTO:-0500
TZNAME:EST
DTSTART:20231105T060000
END:STANDARD
END:VTIMEZONE
BEGIN:VEVENT
DTSTART;TZID=America/Toronto:20220421T120000
DTEND;TZID=America/Toronto:20220421T130000
DTSTAMP:20260420T065209
CREATED:20220407T133136Z
LAST-MODIFIED:20220407T133136Z
UID:36939-1650542400-1650546000@socialwork.utoronto.ca
SUMMARY:Low-Barrier\, Higher Access: Service Provision Through an Indigenous Lens\, with Nanook Gordon & Brianna Olson-Pitawanakwat of Toronto Indigenous Harm Reduction
DESCRIPTION:Join the GSA for a conversation with Nanook Gordon & Brianna Olson-Pitawanakwat (Toronto Indigenous Harm Reduction) and Cathy Walker (Giwaabamin Street Patrol) on the importance of providing low-barrier service in community-based & clinical settings\, and learn how non-Indigenous service providers can be better aligned with a decolonizing lens — especially if you don’t expect to work directly with Indigenous individuals. \nThis is great learning opportunity for social work\, public health\, continuing education\, psychology\, and any other human services students! \nBrianna is an FIFSW MSW alumni\, and will also be sharing with us her journey through social work & community work. \nAdmission is FREE\n> Register via Zoom\nAll FIFSW & OISE students welcome!
URL:https://socialwork.utoronto.ca/event/low-barrier-higher-access-service-provision-through-an-indigenous-lens-with-nanook-gordon-brianna-olson-pitawanakwat-of-toronto-indigenous-harm-reduction/
LOCATION:Ontario
CATEGORIES:Students
END:VEVENT
END:VCALENDAR