BEGIN:VCALENDAR
VERSION:2.0
PRODID:-//Factor-Inwentash Faculty of Social Work - ECPv6.15.20//NONSGML v1.0//EN
CALSCALE:GREGORIAN
METHOD:PUBLISH
X-ORIGINAL-URL:https://socialwork.utoronto.ca
X-WR-CALDESC:Events for Factor-Inwentash Faculty of Social Work
REFRESH-INTERVAL;VALUE=DURATION:PT1H
X-Robots-Tag:noindex
X-PUBLISHED-TTL:PT1H
BEGIN:VTIMEZONE
TZID:America/Toronto
BEGIN:DAYLIGHT
TZOFFSETFROM:-0500
TZOFFSETTO:-0400
TZNAME:EDT
DTSTART:20210314T070000
END:DAYLIGHT
BEGIN:STANDARD
TZOFFSETFROM:-0400
TZOFFSETTO:-0500
TZNAME:EST
DTSTART:20211107T060000
END:STANDARD
BEGIN:DAYLIGHT
TZOFFSETFROM:-0500
TZOFFSETTO:-0400
TZNAME:EDT
DTSTART:20220313T070000
END:DAYLIGHT
BEGIN:STANDARD
TZOFFSETFROM:-0400
TZOFFSETTO:-0500
TZNAME:EST
DTSTART:20221106T060000
END:STANDARD
BEGIN:DAYLIGHT
TZOFFSETFROM:-0500
TZOFFSETTO:-0400
TZNAME:EDT
DTSTART:20230312T070000
END:DAYLIGHT
BEGIN:STANDARD
TZOFFSETFROM:-0400
TZOFFSETTO:-0500
TZNAME:EST
DTSTART:20231105T060000
END:STANDARD
END:VTIMEZONE
BEGIN:VEVENT
DTSTART;TZID=America/Toronto:20220323T130000
DTEND;TZID=America/Toronto:20220323T140000
DTSTAMP:20260421T230308
CREATED:20220316T154833Z
LAST-MODIFIED:20220316T155504Z
UID:36296-1648040400-1648044000@socialwork.utoronto.ca
SUMMARY:AGE-WELL Webinar - From Exclusion to Inclusion: Compensation as a Best Practice in Research with Older People
DESCRIPTION:Research often overlooks larger issues about meaningful participation and disadvantage\, including for example\, how practices of not-compensating particular groups\, and/or restricting compensation as a form of control may sustain inequality. How can inclusive\, equitable and fair compensation be achieved? \nDr. Amanda Grenier will share a 5-part Research Compensation Series produced by AGE-WELL’s CC1 team on Knowledge Mobilization. This webinar will start a conversation on the knowledge gap surrounding compensation\, particularly with regards to older people from disadvantaged groups\, and will offer guidelines for best equitable\, inclusive\, and fair research practices. This webinar is ideal for all researchers working with older people and will help you to: \n\nUnderstand the issues and knowledge gaps surrounding research compensation\nCritically consider existing research practices and design best practices of compensation\nReframe research compensation through a lens of fairness\, equity\, and inclusion\nDevelop collaborative strategies to include the voices and lived experiences of older people from marginalized or disadvantaged groups\n\nAbout Amanda Grenier: \nAmanda Grenier is a Professor and the Norman and Honey Schipper Chair in Gerontological Social Work at the Factor Inwentash Faculty of Social Work\, University of Toronto\, and Baycrest Hospital. She is a social and inter-disciplinary researcher on aging\, with a specialized interest in Aging and Inequality. Her recent books focus on Precarity and Ageing (Ed with Phillipson and Settersten\, Policy Press) and Late Life Homelessness (McGill Queens). \n> Register Here\nAGE-WELL NCE (Aging Gracefully across Environments using Technology to Support Wellness\, Engagement and Long Life NCE Inc.) is Canada’s technology and aging network. AGE-WELL is dedicated to the creation of technologies and services that benefit older adults and caregivers. It’s aim is to help older Canadians maintain their independence\, health and quality of life through technologies and services that increase their safety and security\, support their independent living\, and enhance their social participation.
URL:https://socialwork.utoronto.ca/event/age-well-webinar-from-exclusion-to-inclusion-compensation-as-a-best-practice-in-research-with-older-people/
CATEGORIES:External public event
END:VEVENT
END:VCALENDAR