BEGIN:VCALENDAR
VERSION:2.0
PRODID:-//Factor-Inwentash Faculty of Social Work - ECPv6.15.20//NONSGML v1.0//EN
CALSCALE:GREGORIAN
METHOD:PUBLISH
X-WR-CALNAME:Factor-Inwentash Faculty of Social Work
X-ORIGINAL-URL:https://socialwork.utoronto.ca
X-WR-CALDESC:Events for Factor-Inwentash Faculty of Social Work
REFRESH-INTERVAL;VALUE=DURATION:PT1H
X-Robots-Tag:noindex
X-PUBLISHED-TTL:PT1H
BEGIN:VTIMEZONE
TZID:America/Toronto
BEGIN:DAYLIGHT
TZOFFSETFROM:-0500
TZOFFSETTO:-0400
TZNAME:EDT
DTSTART:20200308T070000
END:DAYLIGHT
BEGIN:STANDARD
TZOFFSETFROM:-0400
TZOFFSETTO:-0500
TZNAME:EST
DTSTART:20201101T060000
END:STANDARD
BEGIN:DAYLIGHT
TZOFFSETFROM:-0500
TZOFFSETTO:-0400
TZNAME:EDT
DTSTART:20210314T070000
END:DAYLIGHT
BEGIN:STANDARD
TZOFFSETFROM:-0400
TZOFFSETTO:-0500
TZNAME:EST
DTSTART:20211107T060000
END:STANDARD
BEGIN:DAYLIGHT
TZOFFSETFROM:-0500
TZOFFSETTO:-0400
TZNAME:EDT
DTSTART:20220313T070000
END:DAYLIGHT
BEGIN:STANDARD
TZOFFSETFROM:-0400
TZOFFSETTO:-0500
TZNAME:EST
DTSTART:20221106T060000
END:STANDARD
END:VTIMEZONE
BEGIN:VEVENT
DTSTART;TZID=America/Toronto:20211117T180000
DTEND;TZID=America/Toronto:20211117T200000
DTSTAMP:20260419T202454
CREATED:20211116T061823Z
LAST-MODIFIED:20211116T151850Z
UID:34911-1637172000-1637179200@socialwork.utoronto.ca
SUMMARY:Housing for All? What is Wrong with Canada's Housing System? with Professor David Hulchanski
DESCRIPTION:Hart House Alumni-Student Virtual Dinner: “Housing for All? What is Wrong with Canada’s Housing System?” with Dr. David Hulchanski\nWe have had a steady stream of federal housing programs since 1935. We now have a ten-year $80 billion National Housing Strategy (well\, actually\, we have a document with that title). Housing issues were widely debated in the recent federal election. Yet\, after all this time and effort\, who is happy with the way our housing system functions and the outcomes it is producing? Is access to homeownership becoming easier? Is the supply of rental housing at fair rents adequate? Is the number of unhoused Canadians steadily decreasing? \n\nA housing system must be built on the assumption that adequate housing for all at a reasonable cost is essentially social\, physical\, and economic infrastructure for a nation. A good housing system needs to ensure: \n\nAn adequate supply of new housing and the renewal of existing housing\nA mix of housing choices (types\, tenures\, locations) to meet the diverse needs of all households\nAdequate financial assistance for households who cannot afford to house appropriate to their needs.\n\nCanada has generally succeeded at the first but continually fails at the second and third. Why? And what can be done about this? \n>Click here to register \nAbout the speaker\n\n\nDavid Hulchanski is a professor of housing and community development at the University of Toronto’s Factor-Inwentash Faculty of Social Work\, where he holds the endowed chair in housing. He served as the director of the Centre for Urban and Community Studies from 2000 to 2008. In the 1980’s he was a professor of community planning and housing at the University of British Columbia and director of the UBC Centre for Human Settlements. He is a former North American editor of the journal Housing Studies. At the UofT\, he teaches courses on social housing and homelessness\, cities and neighbourhood change\, and community development. In 2013 professor Hulchanski received the University of Toronto’s Carolyn Touhy Impact on Public Policy Award. \nProfessor Hulchanski’s research is focused on housing policy\, homelessness\, neighbourhoods\, and community development. Most recently he is the principal investigator of the SSHRC-funded Neighbourhood Change Research Partnership\, focused on neighbourhoods and socio-spatial income inequality and polarization trends in Canadian cities with international comparisons. A key summary report about Toronto from that project is The Three Cities in Toronto: Income Polarization Among Toronto’s Neighbourhoods.
URL:https://socialwork.utoronto.ca/event/housing-for-all-what-is-wrong-with-canadas-housing-system/
LOCATION:Ontario
CATEGORIES:External public event
END:VEVENT
END:VCALENDAR