BEGIN:VCALENDAR
VERSION:2.0
PRODID:-//Factor-Inwentash Faculty of Social Work - ECPv6.15.20//NONSGML v1.0//EN
CALSCALE:GREGORIAN
METHOD:PUBLISH
X-WR-CALNAME:Factor-Inwentash Faculty of Social Work
X-ORIGINAL-URL:https://socialwork.utoronto.ca
X-WR-CALDESC:Events for Factor-Inwentash Faculty of Social Work
REFRESH-INTERVAL;VALUE=DURATION:PT1H
X-Robots-Tag:noindex
X-PUBLISHED-TTL:PT1H
BEGIN:VTIMEZONE
TZID:America/Toronto
BEGIN:DAYLIGHT
TZOFFSETFROM:-0500
TZOFFSETTO:-0400
TZNAME:EDT
DTSTART:20200308T070000
END:DAYLIGHT
BEGIN:STANDARD
TZOFFSETFROM:-0400
TZOFFSETTO:-0500
TZNAME:EST
DTSTART:20201101T060000
END:STANDARD
BEGIN:DAYLIGHT
TZOFFSETFROM:-0500
TZOFFSETTO:-0400
TZNAME:EDT
DTSTART:20210314T070000
END:DAYLIGHT
BEGIN:STANDARD
TZOFFSETFROM:-0400
TZOFFSETTO:-0500
TZNAME:EST
DTSTART:20211107T060000
END:STANDARD
BEGIN:DAYLIGHT
TZOFFSETFROM:-0500
TZOFFSETTO:-0400
TZNAME:EDT
DTSTART:20220313T070000
END:DAYLIGHT
BEGIN:STANDARD
TZOFFSETFROM:-0400
TZOFFSETTO:-0500
TZNAME:EST
DTSTART:20221106T060000
END:STANDARD
END:VTIMEZONE
BEGIN:VEVENT
DTSTART;TZID=America/Toronto:20210511T133000
DTEND;TZID=America/Toronto:20210511T143000
DTSTAMP:20260420T014231
CREATED:20210415T134234Z
LAST-MODIFIED:20210416T195854Z
UID:32132-1620739800-1620743400@socialwork.utoronto.ca
SUMMARY:“An Anti-Racist Approach to Illuminating the Relationship Between Violence Syndemics and Sexual Risk Behaviors Among African American Adolescents: Implications for Future Research”
DESCRIPTION:Each academic semester\, the University of Chicago’s Center for Health Administration Studies (CHAS) sponsors the Michael M. Davis Lecture Series which brings renowned policy experts\, researchers and commentators to the University to explore the intersection of health policy and the broad needs of vulnerable and disadvantaged populations. \nOn May 11\, FIFSW Dean Dexter Voisin presents “An Anti-Racist Approach to Illuminating the Relationship Between Violence Syndemics and Sexual Risk Behaviors Among African American Adolescents: Implications for Future Research” as part of the Spring 2021 series. \n> Click here to learn more and register
URL:https://socialwork.utoronto.ca/event/an-anti-racist-approach-to-illuminating-the-relationship-between-violence-syndemics-and-sexual-risk-behaviors-among-african-american-adolescents-implications-for-future-research/
LOCATION:Ontario
CATEGORIES:External public event
END:VEVENT
END:VCALENDAR