BEGIN:VCALENDAR
VERSION:2.0
PRODID:-//Factor-Inwentash Faculty of Social Work - ECPv6.15.20//NONSGML v1.0//EN
CALSCALE:GREGORIAN
METHOD:PUBLISH
X-ORIGINAL-URL:https://socialwork.utoronto.ca
X-WR-CALDESC:Events for Factor-Inwentash Faculty of Social Work
REFRESH-INTERVAL;VALUE=DURATION:PT1H
X-Robots-Tag:noindex
X-PUBLISHED-TTL:PT1H
BEGIN:VTIMEZONE
TZID:America/Toronto
BEGIN:DAYLIGHT
TZOFFSETFROM:-0500
TZOFFSETTO:-0400
TZNAME:EDT
DTSTART:20200308T070000
END:DAYLIGHT
BEGIN:STANDARD
TZOFFSETFROM:-0400
TZOFFSETTO:-0500
TZNAME:EST
DTSTART:20201101T060000
END:STANDARD
BEGIN:DAYLIGHT
TZOFFSETFROM:-0500
TZOFFSETTO:-0400
TZNAME:EDT
DTSTART:20210314T070000
END:DAYLIGHT
BEGIN:STANDARD
TZOFFSETFROM:-0400
TZOFFSETTO:-0500
TZNAME:EST
DTSTART:20211107T060000
END:STANDARD
BEGIN:DAYLIGHT
TZOFFSETFROM:-0500
TZOFFSETTO:-0400
TZNAME:EDT
DTSTART:20220313T070000
END:DAYLIGHT
BEGIN:STANDARD
TZOFFSETFROM:-0400
TZOFFSETTO:-0500
TZNAME:EST
DTSTART:20221106T060000
END:STANDARD
END:VTIMEZONE
BEGIN:VEVENT
DTSTART;TZID=America/Toronto:20210421T090000
DTEND;TZID=America/Toronto:20210421T101500
DTSTAMP:20260422T223726
CREATED:20210414T211443Z
LAST-MODIFIED:20210414T211710Z
UID:32118-1618995600-1619000100@socialwork.utoronto.ca
SUMMARY:Eating Disorders and Disordered Eating among Boys and Men: What to Know and How to Help
DESCRIPTION:> Click here to register\n \nThis webinar will provide clinical practitioners with contemporary information on eating disorders and disordered eating presentations among boys and men. Topics covered will include updated prevalence of eating disorders and disordered eating\, nuances of presentations\, barriers to care\, and tangible assessment and intervention strategies to translate directly to practice. Special focus will be on muscularity-oriented disordered eating\, considerations across racial and ethnic identities\, and gender and sexual orientation. \nJointly hosted by the Factor-Inwentash Faculty of Social Work (FIFSW) at the University of Toronto\, Sheena’s Place\, and the National Eating Disorder Information Centre (NEDIC)\, this webinar will feature Kyle T. Ganson (he/him)\, PhD\, MSW\, Assistant Professor at the FIFSW\, whose research and clinical social work practice experience has focused on boys and men who experience eating disorders. \nNote: This is an educational webinar\, not a therapeutic group. \n> Click here to register\n\nFAQs \nWho is this webinar for? \nThis webinar is intended for clinical practitioners; however\, all are welcome to attend. \nWhat platform are you using? \nThis webinar will be offered via Zoom for Healthcare. \nHow do I join the webinar? \nCreate an account at zoom.us\, then download Zoom onto your computer\, tablet\, or phone. You will receive an email with the Zoom meeting link one hour before the start of the webinar. Keep in mind that other attendees will be able to view the name that you use to register for your Zoom account. Your name can be changed in your account settings. \nZoom is used for video conferencing. Do I have to turn on my camera? \nNo\, camera and mic use is optional. You are welcome to just listen and participate to whatever extent you are comfortable with. \nWill this webinar be recorded? \nYes. This webinar will be posted on the NEDIC YouTube channel at a later date. Attendee names and videos will not be recorded. \nWill sign language interpretation or closed captioning be provided? \nIf you require ASL interpretation\, please send an email to Canadian Hearing Services (interpreting@chs.ca) as soon as possible and provide them with the following information: webinar details\, registration link\, and Kaitlyn’s contact information (Kaitlyn Axelrod; kaxelrod@sheenasplace.org). If you require closed captioning\, please send an email to kaxelrod@sheenasplace.org. \nHow can I contact the organizer with any questions? \nGet in touch with Kaitlyn Axelrod (kaxelrod@sheenasplace.org or 416-927-8900 x330). \n\nAbout our co-organizers\nThe National Eating Disorder Information Centre (NEDIC) is a registered Canadian charity that has been helping Canadians affected by eating disorders since 1985. We operate Canada’s only national toll-free helpline and instant chat program which provides support\, information and referrals to individuals struggling with food and weight issues\, as well as the families\, friends\, and professionals who care for them. With a focus on eating disorder risk factors\, NEDIC delivers prevention-focused workshops to diverse audiences and facilitates professional development through our outreach and education program. Learn more at www.nedic.ca. \nThe Factor-Inwentash Faculty of Social Work at the University of Toronto is distinguished by its emphasis on the integration of research and practice in both the classroom and its practicum education. As the oldest school of social work in Canada\, FIFSW has been on the cutting edge of education\, policy\, research and practice for more than 100 years. \n  \n 
URL:https://socialwork.utoronto.ca/event/eating-disorders-and-disordered-eating-among-boys-and-men-what-to-know-and-how-to-help/
CATEGORIES:Alumni,Public,Students
END:VEVENT
BEGIN:VEVENT
DTSTART;TZID=America/Toronto:20210421T120000
DTEND;TZID=America/Toronto:20210421T133000
DTSTAMP:20260422T223726
CREATED:20210415T132801Z
LAST-MODIFIED:20210415T132801Z
UID:32129-1619006400-1619011800@socialwork.utoronto.ca
SUMMARY:“Anti-Racist\, Inclusive\, and Resilient: Pitfalls\, Lessons and Advances in Research Strategies Concerning Black Youth in the U.S.”
DESCRIPTION:Presented by Case Western Reserve University\nThe Schubert Center for Child Studies invites the campus and community to the annual Kessler-Freedheim lecture with Dexter Voisin\, Dean of the Factor-Inwentash Faculty of Social Work and author of America the Beautiful and Violent: Black Youth and Neighborhood Trauma in Chicago. This lecture\, titled “Anti-Racist\, Inclusive\, and Resilient: Pitfalls\, Lessons and Advances in Research Strategies Concerning Black Youth in the U.S.\,” Wednesday\, April 21\, from noon to 1:30 p.m. \nVoisin will discuss approaches to promote anti-racism\, resilience\, and inclusion in research concerning Black youth. Drawing from almost three decades of interdisciplinary research\, he will highlight pitfalls\, lessons and advances he has made while exploring contextually driven factors that influence social and health outcomes among Black and sexual minority youth. \nVoisin’s virtual talk will be followed by a discussion with respondents\, including Edward Barksdale (Anti-Fragility Initiative\, UH Rainbow Babies & Children’s Hospital) and Elizabeth Benninger (Department of Bioethics\, School of Medicine)\, and moderated by Dr. Adrianne Fletcher\, assistant dean of diversity and inclusion at the Jack\, Joseph and Morton Mandel School of Applied Social Sciences. \nThe event is free and open to the community. \n> Register to receive the Zoom link.\nCampus partners for this event are the Jack\, Joseph and Morton Mandel School of Applied Social Sciences\, the Mary Ann Swetland Center for Environmental Health and the Social Justice Institute. \nCommunity partners are the Center for Community Solutions\, the United Way of Greater Cleveland and Youth Opportunities Unlimited. \nThe Kessler-Freedheim lecture honors Jane Kessler\, professor of psychology and former director of the Mental Development Center\, and Donald Freedheim\, emeritus professor of psychology and former director of the Schubert Center. The annual lecture focuses on topics in research connected to children and adolescents.
URL:https://socialwork.utoronto.ca/event/anti-racist-inclusive-and-resilient-pitfalls-lessons-and-advances-in-research-strategies-concerning-black-youth-in-the-u-s/
CATEGORIES:External public event
END:VEVENT
END:VCALENDAR