BEGIN:VCALENDAR
VERSION:2.0
PRODID:-//Factor-Inwentash Faculty of Social Work - ECPv6.15.20//NONSGML v1.0//EN
CALSCALE:GREGORIAN
METHOD:PUBLISH
X-ORIGINAL-URL:https://socialwork.utoronto.ca
X-WR-CALDESC:Events for Factor-Inwentash Faculty of Social Work
REFRESH-INTERVAL;VALUE=DURATION:PT1H
X-Robots-Tag:noindex
X-PUBLISHED-TTL:PT1H
BEGIN:VTIMEZONE
TZID:America/Toronto
BEGIN:DAYLIGHT
TZOFFSETFROM:-0500
TZOFFSETTO:-0400
TZNAME:EDT
DTSTART:20200308T070000
END:DAYLIGHT
BEGIN:STANDARD
TZOFFSETFROM:-0400
TZOFFSETTO:-0500
TZNAME:EST
DTSTART:20201101T060000
END:STANDARD
BEGIN:DAYLIGHT
TZOFFSETFROM:-0500
TZOFFSETTO:-0400
TZNAME:EDT
DTSTART:20210314T070000
END:DAYLIGHT
BEGIN:STANDARD
TZOFFSETFROM:-0400
TZOFFSETTO:-0500
TZNAME:EST
DTSTART:20211107T060000
END:STANDARD
BEGIN:DAYLIGHT
TZOFFSETFROM:-0500
TZOFFSETTO:-0400
TZNAME:EDT
DTSTART:20220313T070000
END:DAYLIGHT
BEGIN:STANDARD
TZOFFSETFROM:-0400
TZOFFSETTO:-0500
TZNAME:EST
DTSTART:20221106T060000
END:STANDARD
END:VTIMEZONE
BEGIN:VEVENT
DTSTART;TZID=America/Toronto:20210415T180000
DTEND;TZID=America/Toronto:20210415T200000
DTSTAMP:20260422T135426
CREATED:20210408T211146Z
LAST-MODIFIED:20210409T205007Z
UID:32070-1618509600-1618516800@socialwork.utoronto.ca
SUMMARY:From Awareness To Action: Using The Tools You Have To Dismantle Racism/Anti-Black Racism Workshop
DESCRIPTION: \nThe FIFSW Black Social Work Student Association and Graduate Student Association organized this Anti-Racism Workshop for social work students to attend for FREE.  \n  \nFeeling helpless\, hopeless and inadequate is a familiar feeling that many of us in positions of power\, privilege and influence will use as a protection shield from doing the actual work of dismantling racism/anti-Black racism. \nWhat can I do to bring about change? \nHow do I move from awareness to action? \nWhat is my role in the work of equity and inclusion? \nHow can I use my power and position to create change within my organization and the wider community? \nHow do I identity\, developed and use new tools? \n  \nIn this workshop\, we examine the many tools we already have in dismantling racism and anti-Black racism and how to use those tools in our various roles to bring about change within our organization and the wider community.\n\n\n\nFrom Awareness To Action: Using The Tools You Have To Dismantle Racism/Anti-Black Racism Workshop \nWhen: Thurs\, April 15\, 2021\, 6-8pm \n  \nNote: This event is open to FIFSW students and alumni only. Registration details are included in the FIFSW student digest.
URL:https://socialwork.utoronto.ca/event/from-awareness-to-action-using-the-tools-you-have-to-dismantle-racism-anti-black-racism-workshop/
LOCATION:via Zoom
CATEGORIES:Alumni,Students
END:VEVENT
END:VCALENDAR